BEGIN:VCALENDAR
VERSION:2.0
PRODID:-//日本消化器内視鏡学会 - ECPv6.10.1.1//NONSGML v1.0//EN
CALSCALE:GREGORIAN
METHOD:PUBLISH
X-WR-CALNAME:日本消化器内視鏡学会
X-ORIGINAL-URL:https://www.jges.net
X-WR-CALDESC:日本消化器内視鏡学会 のイベント
REFRESH-INTERVAL;VALUE=DURATION:PT1H
X-Robots-Tag:noindex
X-PUBLISHED-TTL:PT1H
BEGIN:VTIMEZONE
TZID:Asia/Tokyo
BEGIN:STANDARD
TZOFFSETFROM:+0900
TZOFFSETTO:+0900
TZNAME:JST
DTSTART:20130101T000000
END:STANDARD
END:VTIMEZONE
BEGIN:VEVENT
DTSTART;VALUE=DATE:20130713
DTEND;VALUE=DATE:20130714
DTSTAMP:20260424T231854
CREATED:20230602T065359Z
LAST-MODIFIED:20230602T065359Z
UID:70205-1373673600-1373759999@www.jges.net
SUMMARY:第151回日本消化器内視鏡学会東北支部例会のご案内
DESCRIPTION:　第151回日本消化器内視鏡学会東北支部例会を下記のとおり開催いたします。会員の皆様の多数のご参加、ご発表をいただきますようご案内申し上げます。 \n会長\n三上達也（弘前大学医学部附属病院　光学医療診療部） \n会期\n平成25年7月13日（土） \n会場\n弘前文化センター \n〒036-8356　青森県弘前市下白銀町19番地4 \nTEL：0172-33-6571 \n例会HP\nhttp://www.tohoku-kyoritz.jp/151jges-tohoku/ \n演題募集期間\n開始日　：　平成25年4月17日（水）\n締切日　：　平成25年5月15日（水）正午 \n応募方法\nホームページに記載 \n内容\n◇シンポジウム（公募）\nテーマ：「緊急内視鏡の適応と限界」 \n　近年、消化器内視鏡は拡大観察、NBIなどの特殊光観察、内視鏡的粘膜下層剥離術（ESD）などの登場により、診断・治療いずれの面においても華々しい発展を遂げている。時代とともに医療環境も変化し、東北地方では医師不足など様々な問題を抱えるなか、限られた人員でこれらに対処しているのが現状であろう。このような状況下においても緊急内視鏡は避けられないものであり、各施設の現状を示していただくことにより、適応と問題点、Interventional radiology (IVR)や外科手術を選択する基準を明らかにしていきたい。消化管、胆膵まで幅広く演題を募集する。 \n◇ワークショップ（公募）\nテーマ：「小腸疾患の診断と治療」 \n　かつて暗黒大陸といわれた小腸も，近年のバルーン内視鏡やカプセル内視鏡の普及とともに，その疾患の特徴や病態が徐々に明らかになってきている．また，平成24年7月にパテンシーカプセルが保険収載されたことに伴い，「小腸疾患が既知または疑われる」全ての症例に対しカプセル内視鏡が保険適用となり，今後も小腸疾患の病態解明がますます進んでいくことが予想される．そこで今回のワークショップでは，小腸出血のみならず多様な小腸疾患に対する診断や治療について議論したい． \n◇一般演題（公募）\n◇第7回プレナリーセッション（公募）\nテーマ：「めざせ！消化器内視鏡専門医」 \n　『消化器専門医をめざす若手医師を対象としたプレナリーセッションを企画しました。これから消化器内視鏡専門医をめざす先生方を筆頭演者として、演題を募集します。優秀演題5題につきましては、学会当日に評議員会の席上で発表者を表彰致します。奮ってご応募下さい。』 \n◇ランチョンセミナー\n講師： 虎の門病院消化器内科　内視鏡部部長　貝瀬　満先生 \n「内視鏡診断における失敗学－見逃し症例から学ぶ高精度の内視鏡診断－」 \n学会事務局\n弘前大学大学院医学研究科　消化器血液内科学講座 \n〒036-8562　青森県弘前市在府町5 \nTEL：0172-39-5053 / FAX：0172-37-5946 \n担当：花畑 憲洋， 澤谷　学 \nE-mail: hanabata@cc.hirosaki-u.ac.jp \n運営事務局\n株式会社東北共立 \n〒982-0001　仙台市太白区八本松2-10-11 \nTEL：022-246-2591 / FAX：022-246-1754 \n担当：小足（こあし）  賢一、大槻  喜之 \nE-mail: jges151@tohoku-kyoritz.co.jp \n 
URL:https://www.jges.net/event/2023-70205
LOCATION:弘前文化センター
CATEGORIES:支部例会,東北支部
END:VEVENT
BEGIN:VEVENT
DTSTART;VALUE=DATE:20130208
DTEND;VALUE=DATE:20130209
DTSTAMP:20260424T231854
CREATED:20170110T101536Z
LAST-MODIFIED:20170110T101536Z
UID:2429-1360281600-1360367999@www.jges.net
SUMMARY:第150回　日本消化器内視鏡学会東北支部例会
DESCRIPTION:第150回　日本消化器内視鏡学会東北支部例会のご案内\n第150回日本消化器内視鏡学会東北支部例会を下記のとおり開催いたします。会員の皆様の多数のご参加、ご発表をいただきますようご案内申し上げます。 \n  \n会長： \n　木内喜孝（東北大学病院　消化器内科・保健管理センター） \n会期： \n　平成25年２月８日（金） \n会場： \n　仙台国際センター\n 　〒980-0855 仙台市青葉区青葉山無番地　TEL：022-265-2211 \nHP： \n　http://www.tohoku-kyoritz.jp/150jges-tohoku/ \n応募方法： \n　ホームページよりオンライン登録 \n  \n内容： \n◇シンポジウム（公募） \n\nテーマ：「抗血栓薬服用者に対する消化器内視鏡診療の現状と問題点」\n 司会 \n\n小池智幸（東北大学病院　消化器内科）\n 三上達也（弘前大学医学部附属病院　光学医療診療部）\n\n基調講演　講師 \n\n藤城光弘（東京大学附属病院光学医療診療部　部長）\n\n\n　 “抗血栓薬服用者に対する消化器内視鏡診療ガイドライン”が、日本消化器内視鏡学会、日本循環器学会、日本神経学会、日本脳卒中学会、日本血栓止血学会、日本糖尿病学会と合同で作成され、日本消化器内視鏡学会雑誌7月号に発表された。今回のガイドラインは、抗血栓薬の休薬による消化器内視鏡後の出血予防を重視したものではなく、血栓塞栓症の誘発に配慮して作成されている。しかし、各ステートメントに関してはエビデンスが低く推奨度の低いもの、エビデンスレベルと推奨度が食い違うものがあるのも現状である。\n 　 本シンポジウムでは、この新ガイドラインに従って診療を行った場合の現状、問題点について明らかにしていきたい。抗血栓薬服用者に対する通常内視鏡検査から内視鏡治療時の対応まで多数の演題応募を期待する。\n\n◇ワークショップ（公募） \n\nテーマ：「消化管狭窄に対する内視鏡治療」\n 司会 \n\n遠藤克哉（東北大学病院　消化器内科）\n 遠藤昌樹（岩手医科大学医学部　消化器・肝臓内科）\n\n\n　 近年、消化管狭窄に対して内視鏡が果たす役割が非常に大きくなってきている。しばしば経験される消化管狭窄病変として、食道癌手術・放射線療法・ESD後の食道狭窄、胃、十二指腸の良・悪性狭窄、消化管切除術後の吻合部狭窄、炎症性腸疾患に伴う消化管狭窄、進行大腸癌による大腸狭窄などがある。これらに対し、バルーン拡張術、ステント留置術などの内視鏡治療が行われる。最近、バルーン拡張術については、再狭窄を予防する手技の工夫や補助療法に関する議論が多い。ステント留置術については、胃、十二指腸ステント、大腸ステントの保険認可以降、施行症例数の増加が目立っている。治療効果、安全性、手技の工夫など今後明らかにされるべき点が多い注目の治療手技である。\n 　 本ワークショップでは、各施設の狭窄病変に対する内視鏡治療成績を発表していただき、治療成績向上のための工夫、安全性確保のための注意点などについて議論したいと考えている。\n\n◇一般演題（公募） \n  \n◇第６回プレナリーセッション（公募） \n\nテーマ：「めざせ消化器内視鏡専門医」\n\n◇特別セミナー \n\n講師：藤原靖弘（大阪市立大学大学院医学研究科　消化器内科学）\n 「難治性GERDの病態と治療戦略」\n\n◇ランチョンセミナー \n\n講師：渡辺憲治（大阪市立大学大学院医学研究科　消化器内科学）\n 「内視鏡を中心としたクローン病の診療戦略」\n\n  \n学会事務局： \n\n東北大学病院　消化器内科・保健管理センター\n 〒980-8576　仙台市青葉区川内41 保健管理センター\n TEL：022-795-3470/FAX：022-795-3146\n 担当：遠藤　克哉、志賀　永嗣　担当秘書：相澤　恭子\n E-mail：ykinouchi@m.tohoku.ac.jp\n\n  \n運営事務局： \n\n株式会社東北共立\n 〒982-0001　仙台市太白区八本松2-10-11\n TEL：022-246-2591/FAX：022-246-1754\n 担当：小足（こあし）　賢一、大槻　喜之\n E-mail：jges150@tohoku-kyoritz.co.jp
URL:https://www.jges.net/event/2017-2429
LOCATION:仙台国際センター
CATEGORIES:支部例会,東北支部
END:VEVENT
END:VCALENDAR