BEGIN:VCALENDAR
VERSION:2.0
PRODID:-//日本消化器内視鏡学会 - ECPv6.10.1.1//NONSGML v1.0//EN
CALSCALE:GREGORIAN
METHOD:PUBLISH
X-WR-CALNAME:日本消化器内視鏡学会
X-ORIGINAL-URL:https://www.jges.net
X-WR-CALDESC:日本消化器内視鏡学会 のイベント
REFRESH-INTERVAL;VALUE=DURATION:PT1H
X-Robots-Tag:noindex
X-PUBLISHED-TTL:PT1H
BEGIN:VTIMEZONE
TZID:Asia/Tokyo
BEGIN:STANDARD
TZOFFSETFROM:+0900
TZOFFSETTO:+0900
TZNAME:JST
DTSTART:20160101T000000
END:STANDARD
END:VTIMEZONE
BEGIN:VEVENT
DTSTART;VALUE=DATE:20161125
DTEND;VALUE=DATE:20161127
DTSTAMP:20260424T021157
CREATED:20170111T025153Z
LAST-MODIFIED:20170111T025153Z
UID:2453-1480032000-1480204799@www.jges.net
SUMMARY:第102回日本消化器内視鏡学会九州支部例会
DESCRIPTION:第102回日本消化器内視鏡学会九州支部例会のご案内\n開催にあたって：第108回日本消化器病学会九州支部例会との合同開催 \n会長：吉松　眞一（独立行政法人地域医療機能推進機構熊本総合病院） \n会期：2016年（平成28年）11月25日（金）～26日（土） \n会場：\n ホテル日航熊本\n 〒860-8530　熊本市中央区上通町2-1 \nホームページ：http://www.g108-ge102.jp \n演題募集期間：2016年7月20日（水）～8月25日（木） 9月14日（水）17時まで\n ※締め切りを再延長いたしました。 \n募集内容：テーマ「消化器病診療の未来を見据えて－九州からの新たな提言－」 \nプログラム概要： \n\n特別講演\n 「潰瘍性大腸炎を生薬で科学する」（消化器病学会）\n 演者：金井　隆典（慶應義塾大学医学部消化器内科）\n 「消化器内視鏡－国際化への展望」（消化器内視鏡学会）\n 演者：吉田　茂昭（青森県立中央病院）\nシンポジウム\n\n「胃癌、大腸癌死亡ゼロを目指して」（消化器内視鏡学会）\n 司会：村上　和成（大分大学医学部消化器内科）\n 庄野　　孝（熊本大学大学院消化器内科学）\n「ESD 困難例の克服」（消化器内視鏡学会）\n 司会：坂田　資尚（佐賀大学医学部消化器内科）\n 赤星　和也（飯塚病院医学研究推進本部）\n「生活習慣病と肝疾患」（消化器病学会）\n 司会：井戸　章雄（鹿児島大学大学院消化器疾患・生活習慣病学）\n 渡邊　丈久（熊本大学大学院消化器内科学）\n「IBD の診断治療困難例」（消化器病学会）\n 司会：二見喜太郎（福岡大学筑紫病院外科）\n 江崎　幹宏（九州大学大学院病態機能内科学）\n\n\nパネルディスカッション\n\n「膵・胆道腫瘍に対する術前病理診断の現状と課題」（消化器内視鏡学会）\n 司会：中村　雅史（九州大学大学院臨床・腫瘍外科学）\n 河上　　洋（宮崎大学医学部消化器内科）\n\n\nワークショップ\n\n「消化器癌の集学的治療」（消化器病学会）\n 司会：中尾　一彦（長崎大学大学院消化器内科学）\n 沖　　英次（九州大学大学院消化器・総合外科学）\n「緊急内視鏡検査の現状と課題」（消化器内視鏡学会）\n 司会：鶴田　　修（久留米大学医学部消化器内科）\n 浦田　淳資（済生会熊本病院消化器内科）\n「肝、治療困難例に対する抗ウイルス治療」（消化器病学会）\n 司会：八橋　　弘（独立行政法人国立病院機構長崎医療センター）\n 田中　基彦（熊本大学大学院消化器内科学）\n\n\n専門医セミナー：症例検討\n一般演題\n専修医発表・研修医発表\n\n事務局：\n 独立行政法人地域医療機能推進機構熊本総合病院総務課\n 〒866-8660　熊本県八代市通町10-10\n 担当：田積\n TEL：0965-32-7111（代表）　FAX：0965-32-2772\n E-mail：main@kumamoto.jcho.go.jp \n運営事務局：\n 株式会社クレッシー\n 〒104-0051　東京都中央区佃1-11-6-1603\n 担当：福浦・大田・奥村\n TEL：03-6231-0307　　FAX：03-5546-0486\n E-mail：office@g108-ge102.jp
URL:https://www.jges.net/event/2017-2453
LOCATION:ホテル日航熊本\, 中央区上通町2-1\, 熊本市\, 熊本県\, 860-8536\, Japan
CATEGORIES:九州支部
END:VEVENT
END:VCALENDAR