BEGIN:VCALENDAR
VERSION:2.0
PRODID:-//日本消化器内視鏡学会 - ECPv6.10.1.1//NONSGML v1.0//EN
CALSCALE:GREGORIAN
METHOD:PUBLISH
X-WR-CALNAME:日本消化器内視鏡学会
X-ORIGINAL-URL:https://www.jges.net
X-WR-CALDESC:日本消化器内視鏡学会 のイベント
REFRESH-INTERVAL;VALUE=DURATION:PT1H
X-Robots-Tag:noindex
X-PUBLISHED-TTL:PT1H
BEGIN:VTIMEZONE
TZID:Asia/Tokyo
BEGIN:STANDARD
TZOFFSETFROM:+0900
TZOFFSETTO:+0900
TZNAME:JST
DTSTART:20180101T000000
END:STANDARD
END:VTIMEZONE
BEGIN:VEVENT
DTSTART;VALUE=DATE:20181109
DTEND;VALUE=DATE:20181111
DTSTAMP:20260425T210746
CREATED:20180606T030702Z
LAST-MODIFIED:20180606T030702Z
UID:11985-1541721600-1541894399@www.jges.net
SUMMARY:第106回　日本消化器内視鏡学会九州支部例会
DESCRIPTION:第112回日本消化器病学会九州支部例会との合同開催 \n会長\n嵜山　敏男（済生会川内病院） \n会期\n2018年（平成30年）11月9日（金）～10日（土） \n会場\nSHIROYAMA HOTEL　Kagoshima　城山ホテル鹿児島　(旧 城山観光ホテル)\n〒890-8586\n鹿児島県鹿児島市 新照院町41番1号 \nホームページ\nhttp://www.c-linkage.co.jp/jgesk112-106/index.html \n演題募集期間\n2018年7月4日（水）～8月8日（水）正午　8月16日（木） 8月23日（木） 正午\n※締切りを延長しました \nテーマ\n慈心妙手　～より良い消化器診療を目指す心と技～ \nプログラム概要\n特別講演\n\n急性肝不全とAcute-on-Chronic Liver Failure: 我が国における実態と今後の課題（消化器病）\n演者：持田 智（埼玉医科大学消化器内科・肝臓内科）\n司会：井戸 章雄（鹿児島大学大学院 医歯学総合研究科 消化器疾患・生活習慣病学） \n\n炎症性腸疾患の内視鏡診断（内視鏡）\n演者：岩男 泰（慶応義塾大学 予防医療センター）\n司会：嵜山 敏男（済生会川内病院 消化器内科）\n\nシンポジウム（公募）\n\nウイルス性肝炎の残された課題と対策（消化器病）\n司会：釈迦堂　敏（福岡大学医学部 消化器内科）\n　　　井出　達也（久留米大学 医学部内科学講座 消化器内科部門） \n\n九州から発信する消化管癌に対する内視鏡診断と治療（内視鏡）\n司会：水上　一弘（大分大学医学部附属病院 消化器内科）\n　　　小野　陽一郎（福岡大学 筑紫病院 消化器内科） \n\n消化器進行癌に対する集学的治療（消化器病）\n司会：田中　基彦（熊本大学大学院生命科学研究部 消化器内科学）\n　　　前村　公成（鹿児島大学大学院 腫瘍学講座 消化器乳腺甲状腺外科学） \n\n膵疾患に対する新たな診断法への取り組み（合同）\n司会：岡部　義信（久留米大学医学部 内科学講座消化器内科部門）\n　　　大塚　隆生（九州大学大学院 臨床・腫瘍外科（第一外科））\n\nワークショップ （公募）\n\n胆膵疾患に対する内視鏡的 intervention（内視鏡）\n司会：大仁田 賢（社会医療法人 春回会 井上病院）\n　　　橋元 慎一（鹿児島大学大学院 医歯学総合研究科 消化器疾患・生活習慣病学） \n\n炎症性腸疾患のトータルマネージメント（合同）\n司会：江﨑　幹宏（佐賀大学医学部附属病院 光学医療診療部）\n　　　上村　修司（鹿児島大学病院 光学医療診療部） \n\n生活習慣病と肝疾患（消化器病）\n司会：宇都　浩文（宮崎医療センター病院 消化器・肝臓病センター）\n　　　柴田　道彦（産業医科大学医学部 第3内科学）\n\n一般演題（公募）\n研修医発表・専修医発表（公募）\n  \n事務局\n鹿児島大学大学院消化器疾患・生活習慣病学\n〒890-8520　鹿児島県鹿児島市桜ヶ丘8丁目35-1\n担当：上村　修司、事務担当　是枝　恵理子\nTEL：099-275-5326　FAX：099-264-3504\nE-mail：\n　skanmura@m2.kufm.kagoshima-u.ac.jp、\n　riko1122@m2.kufm.kagoshima-u.ac.jp \n運営事務局\n株式会社コンベンションリンケージ\n〒812-0016　福岡県福岡市博多区博多駅南1-3-6　第三博多偕成ビル\n担当：池園　仁、仲光　美優\nTEL：092-437-4188　　FAX：092-437-4182\nE-mail：jgesk112-106@c-linkage.co.jp
URL:https://www.jges.net/event/2018-11985
LOCATION:SHIROYAMA HOTEL kagoshima(旧 城山観光ホテル)\, 新照院町41番1号\, 鹿児島市\, 鹿児島県\, 890-8586\, Japan
CATEGORIES:九州支部,支部例会
END:VEVENT
END:VCALENDAR