BEGIN:VCALENDAR
VERSION:2.0
PRODID:-//日本消化器内視鏡学会 - ECPv6.10.1.1//NONSGML v1.0//EN
CALSCALE:GREGORIAN
METHOD:PUBLISH
X-ORIGINAL-URL:https://www.jges.net
X-WR-CALDESC:日本消化器内視鏡学会 のイベント
REFRESH-INTERVAL;VALUE=DURATION:PT1H
X-Robots-Tag:noindex
X-PUBLISHED-TTL:PT1H
BEGIN:VTIMEZONE
TZID:Asia/Tokyo
BEGIN:STANDARD
TZOFFSETFROM:+0900
TZOFFSETTO:+0900
TZNAME:JST
DTSTART:20190101T000000
END:STANDARD
END:VTIMEZONE
BEGIN:VEVENT
DTSTART;VALUE=DATE:20190302
DTEND;VALUE=DATE:20190304
DTSTAMP:20260426T060727
CREATED:20180724T063630Z
LAST-MODIFIED:20180724T063630Z
UID:12806-1551484800-1551657599@www.jges.net
SUMMARY:第118回　日本消化器内視鏡学会北海道支部例会
DESCRIPTION:会長\n丹野　誠志（イムス札幌消化器中央総合病院） \n会期\n2019年3月2日（土）～3日（日） \n会場\n札幌コンベンションセンター\n〒003-0006　札幌市白石区東札幌6条1丁目1-1 \n北海道支部例会HP\nhttp://www.c-linkage.co.jp/jsge124-jges118-hokkaido/index.html \n演題募集期間\n11月7日（水）～12月5日（水）　12日（水）正午　演題募集を締め切りました  \n  \n事務局\nイムス札幌消化器中央総合病院\n〒063-0842 北海道札幌市西区八軒2条西1丁目1番1号\n担当：丹野　誠志\nTEL：011-611-1391\nE-mail：tanno.satoshi@ims.gr.jp \n運営事務局\n株式会社コンベンションリンケージ\n〒060-0002　札幌市中央区北2条西4-1 北海道ビル\n担当：相馬　寛子\nTEL：011-272-2151 / FAX：011-272-2152\nE-mail：jsge-jges-hokkaido@c-linkage.co.jp
URL:https://www.jges.net/event/2018-12806
LOCATION:札幌コンベンションセンター\, 白石区東札幌6条1丁目1-1\, 札幌市\, 北海道\, 003-0006　\, Japan
CATEGORIES:北海道支部
END:VEVENT
END:VCALENDAR