BEGIN:VCALENDAR
VERSION:2.0
PRODID:-//日本消化器内視鏡学会 - ECPv6.10.1.1//NONSGML v1.0//EN
CALSCALE:GREGORIAN
METHOD:PUBLISH
X-WR-CALNAME:日本消化器内視鏡学会
X-ORIGINAL-URL:https://www.jges.net
X-WR-CALDESC:日本消化器内視鏡学会 のイベント
REFRESH-INTERVAL;VALUE=DURATION:PT1H
X-Robots-Tag:noindex
X-PUBLISHED-TTL:PT1H
BEGIN:VTIMEZONE
TZID:Asia/Tokyo
BEGIN:STANDARD
TZOFFSETFROM:+0900
TZOFFSETTO:+0900
TZNAME:JST
DTSTART:20190101T000000
END:STANDARD
END:VTIMEZONE
BEGIN:VEVENT
DTSTART;VALUE=DATE:20190608
DTEND;VALUE=DATE:20190610
DTSTAMP:20260426T125511
CREATED:20181226T061521Z
LAST-MODIFIED:20181226T061521Z
UID:15800-1559952000-1560124799@www.jges.net
SUMMARY:第108回　日本消化器内視鏡学会関東支部例会
DESCRIPTION:この度、第108回日本消化器内視鏡学会関東支部例会を2019年6月8日（土）・9日（日）の2日間にわたり、シェーンバッハ・サボーにおいて開催させていただくこととなりました。伝統ある本例会をお世話させていただくことを大変光栄に存じます。\n近年の内視鏡機器の新規開発、技術の進歩は目覚ましいものがあり、超拡大内視鏡やAIを活用した新規内視鏡機器や新規の治療手技が開発されています。経口内視鏡筋層切除術(POEM)や腹腔鏡内視鏡合同手術(LECS)\,LECS関連手技などの対象疾患は過去においては外科手術のみで施行されていた疾患であり、現在においては低侵襲・縮小治療に位置づけられ内視鏡医の注目を浴びるとともに外科医にとってもその適応や手技について認識しておかなければならない治療法であります。また、治療方針を決定する上で内視鏡診断学は必須であり、光学系の発展による新たな診断基準等、内視鏡診断の習得は治療に携わるすべての消化器を専門とする医師にとってさらに必要となっています。\n今回の支部例会では、消化器内視鏡検診や癌発生ハイリスク群のスクリーニング等、早期発見のための診断法から、低侵襲治療としての内視鏡治療、腹腔鏡とのコラボレーション治療といった内視鏡治療の最前線まで、検診・診断から治療に至る各領域の近年の話題をシンポジウム・パネルディスカッションの主題テーマとしてあげました。より実践的な日常臨床に役立つべく、内視鏡治療困難症例や胆道鏡のトラブルシューティングなどの演題をビデオワークショップにいたしました。\n症例検討セッションは臓器別に食道、胃・十二指腸、大腸、胆道の４分野に分け、用意いたしました。各領域にて興味深い実際の症例を提示していただき解説を加えながら、会場の先生方にはアンサーパッドにて参加していただき、実臨床に役立てていただきたいと考えております。内視鏡技術のトレーニングの場としてのハンズオントレーニングセッションは食道ESD、胃ESD、大腸ESD、EUS-FNAを企画しておりますので、奮って事前の申し込みをお願いいたします。特別講演においては、慶應義塾大学消化器内科の金井隆典先生にお願いいたしました。若手臨床医・研究医、専門医の先生方にも興味深いご講演をいただけると思っております。\nまた、当学会には若手医師の教育と学会の登竜門としての極めて大きな意義があります。恒例の研修医、専修医セッションでは、優秀演題を選び、奨励金、翌年春の本学会総会ご招待参加証を授与いたします。\n若手医師のみならず、内視鏡に携わる多くの先生方の臨床に少しでも役立てるようにプログラムを準備いたしました。是非とも多くの先生方の演題のご応募、ご参集を賜れますよう何卒お願い申し上げます。 \n会長\n北川　雄光（慶應義塾大学医学部外科学） \n会期\n2019年6月8日（土）・9日（日） \n会場\nシェーンバッハ・サボー\n〒102-0093　千代田区平河町2-7-5 \n関東支部例会HP\nhttp://www.jges-k.umin.jp/108shibureikai/index.html \n演題募集期間\n2018年12月19日（水）～2019年2月13日（水）正午 \n募集内容\n消化器内視鏡に関する演題を広く募集いたします。\n主題（シンポジウム3題、パネルディスカッション3題、ビデオワークショップ2題）\n一般演題、研修医セッション、専修医セッション（口演：公募） \n応募は「本学会および他の学会で未発表」で、「倫理規定に抵触しない」演題に限ります。\n口演は全てコンピュータープレゼンテーションです。\n演者数につきましては、主題：5名以内、一般演題、研修医セッション、専修医セッション：21名以内としてください。 \n※演題発表時に研修医（初期研修医）および専修医（後期研修医）が筆頭演者の演題のうち、優れた5演題を選出し表彰いたします。受賞者には奨励金として3万円を贈呈いたします。さらに、筆頭演者は翌年春の日本消化器内視鏡学会総会へ招待されます。（学会参加費、交通費、宿泊費等は日本消化器内視鏡学会が負担します。）奮ってご応募ください。 \n倫理審査について\n関東支部例会も日本消化器内視鏡学会に準拠し、演題応募の際には倫理審査について申告いただいております。ご留意のほどお願い申し上げます。\n倫理審査が必要な研究かについては、「倫理指針対応フロー」をご参照ください。 \nプログラム概要\nシンポジウム1\n「日常臨床に役立つ画像強調内視鏡診断法」 \n司会　がん研有明病院　消化器内科　斎藤 彰一\n北里大学医学部　新世紀医療開発センター　田邉 聡 \nシンポジウム2\n「消化器癌内視鏡検診の実際と今後」 \n司会　東京医科大学　消化器内視鏡学　河合 隆\n　　慶應義塾大学医学部内視鏡センター　緒方 晴彦 \nシンポジウム3\n「内視鏡を用いた外科と内科のコラボレーション治療」 \n司会　昭和大学江東豊洲病院　消化器センター　井上 晴洋\n慶應義塾大学医学部　一般・消化器外科　川久保博文 \nパネルディスカッション1\n「消化管腫瘍性狭窄に対する治療法」 \n司会　東京医科歯科大学　消化管外科　川田 研郎\n国立がん研究センター東病院　消化管内視鏡科　矢野 友規 \nパネルディスカッション2\n「IBD関連腫瘍の診断および治療の現状と展望」 \n司会　慶應義塾大学病院　予防医療センター　岩男 泰\n群馬大学大学院医学系研究科内科学講座　消化器・肝臓内科学分野　浦岡 俊夫 \nパネルディスカッション3\n「上部消化管における同時性・異時性多発癌早期発見のためのスクリーニング・サーベイランス法」 \n司会　獨協医科大学　消化器内科　郷田 憲一\n日本医科大学付属病院　消化器・肝臓内科　貝瀬 満 \nビデオワークショップ1\n「ESD困難症例に対する工夫」 \n司会　国立がん研究センター中央病院　内視鏡科　小田 一郎\n虎の門病院　消化器内科　　飯塚 敏郎 \nビデオワークショップ2\n「ERCP\,EUSのトラブルシューティング」 \n司会　東京医科大学　消化器内科　糸井 隆夫\n埼玉医科大学国際医療センター　消化器内科　良沢 昭銘 \n特別講演\n慶應義塾大学医学部内科学（消化器）　金井 隆典 \n症例検討セッション　（※アンサーパッド形式）\n「食道」\n司会　埼玉県立がんセンター　内視鏡科　有馬美和子\n埼玉医科大学総合医療センター　消化管・一般外科　熊谷 洋一 \n「胃・十二指腸」\n司会　がん研有明病院　消化器内科　藤崎 順子\n帝京大学医学部　内科学講座　小田島慎也 \n「下部消化管」\n司会　自治医科大学　内科学講座　山本 博徳\n杏林大学医学部第三内科学　久松 理一 \n「胆道」\n司会　順天堂大学医学部　消化器内科　伊佐山浩通\n　東邦大学医療センター大森病院　消化器内科　岡野 直樹 \nハンズオントレーニングセッション\n「胃ESD」\n総合司会　慶應義塾大学医学部　腫瘍センター　矢作　直久 \n「食道ESD」\n総合司会　国立がん研究センター中央病院　内視鏡科　吉永 繁高 \n\n「大腸ESD」　\n総合司会　国立がん研究センター中央病院　内視鏡科　斎藤 豊 \n\n「EUS-FNA」\n総合司会　東京大学医学部　消化器内科　中井 陽介 \n事務局\n慶應義塾大学医学部外科学\n〒160-8582　東京都新宿区信濃町35\n事務局　中村　理恵子、川久保　博文 \n運営事務局\n株式会社サンプラネット　メディカルコンベンション事業部\n〒112-0012　東京都文京区大塚3-5-10　住友成泉小石川ビル6Ｆ\nTEL：03-5940-2614　FAX：03-3942-6396\nE-mail：jgeskanto108@sunpla-mcv.com
URL:https://www.jges.net/event/2018-15800
LOCATION:シェーンバッハ・サボー\, 千代田区平河町2-7-4砂防会館別館\, 千代田区\, 東京都\, 102-0093　
CATEGORIES:関東支部
END:VEVENT
BEGIN:VEVENT
DTSTART;VALUE=DATE:20190609
DTEND;VALUE=DATE:20190610
DTSTAMP:20260426T125511
CREATED:20181113T072853Z
LAST-MODIFIED:20181113T072853Z
UID:15439-1560038400-1560124799@www.jges.net
SUMMARY:第86回　日本消化器内視鏡学会甲信越支部例会
DESCRIPTION:この度、第86回日本消化器内視鏡学会甲信越支部例会を開催させていただくことになました。伝統のある例会を開催させていただき光栄に存じます。 \n  \n消化器内視鏡学会と消化器病学会との合同シンポジウム・合同パネルディスカッション・研修医セッション・一般演題を企画しました。 \n会員の皆様から多数の演題のご応募、ご参加をいただきますようお願い申し上げます。 \n会長\n宮坂　芳明（山梨県立中央病院大腸外科） \n会期\n2019年6月9日（日） \n（合同のセッションは8日と9日の両日に開催します） \n会場\nアピオ甲府\n〒409-3897　山梨県中巨摩郡昭和町西条3600 \nホームページ\nhttp://www.jges-kse.jp/ \n演題募集期間\n2019年2月6日（水）～2019年4月10日（水）正午 \n募集内容\n  \n合同シンポジウム（内視鏡学会・消化器病学会合同） \n　『消化器病におけるゲノム診療の新展開』(公募・指定） \n  \n合同パネルディスカッション（内視鏡学会・消化器病学合同） \n　『消化器病変に対する侵襲の少ない内科・外科治療』（公募・指定） \n  \n研修医セッション（卒後5年以内）（公募） \n  \n一般演題（公募） \n  \n応募は、未発表なものであること・倫理委員会で承認を得ているか、承認が不要なものに限ります。 \n発表形式は、全てPCプレゼンテーションです。 \n研修医セッション（卒後5年以内）の上位３演題を表彰します。このうち上位２名は、次年度春の日本消化器内視鏡学会総会に招待されます。 \n一般演題から優秀２演題が選ばれ、次回支部例会で表彰されます。 \n  \nプログラム概要\n  \n合同シンポジウム \n　消化器病におけるゲノム診療の新展開（公募・指定） \n  \n　2018年ノーベル医学生理学賞を受賞した本庶佑教授のPD-1発見をきっかけに開発されたニボルマブが、消化器病疾患では、はじめて胃癌に保険適応になりました。さらに、ペンブロリズマブが従来の抗癌剤治療に不応のマイクロサテライトインスタビリティーhigh (MSI-H\, dMMR)の症例に適応となり、消化器病領域におけるゲノム解析に基づいた治療が展開されつつあります。これらを踏まえて、各病院の取り組み・診療検査態勢の構築・使用経験等に関して、本シンポジウムにおいての発表をお願い致します。 \n  \n  \n合同ワークショップ \n　消化器病変に対する侵襲の少ない内科・外科治療（公募・指定） \n  \nESDをはじめとする内視鏡治療・腹腔鏡手術・ロボット手術は、従来の外科治療にかわる治療法として日々の治療に欠かせない存在となっています。入院期間が短期なこと、侵襲が少ないことから高齢化社会を迎え更にその重要性は増してきております。これらの治療法の基本から施設のおける工夫・革新的な手技・偶発症対策等について幅広く情報を提供して頂き、日々の診療・治療の一助になる機会にしたいと考えています。多くの施設からのご応募をお願い致します。 \n  \n研修医セッション（卒後5年以内）（公募） \n  \n一般演題（公募） \n  \n事務局\n山梨県甲府市富士見1丁目1番1号 \n山梨県立中央病院大腸外科 \n担当：安留道也　　　　　　　　　　　　　　　　　　　　　　　　　　　　　　　　　TEL：055－253－7111　FAX：055－253－8011\nE-mail：86jges-kse@ych.pref.yamanashi.jp \n  \n 
URL:https://www.jges.net/event/2018-15439
LOCATION:アピオ甲府\, 山梨県中巨摩郡昭和町西条3600\, 山梨県\, 409-3897
CATEGORIES:甲信越支部
END:VEVENT
END:VCALENDAR