BEGIN:VCALENDAR
VERSION:2.0
PRODID:-//日本消化器内視鏡学会 - ECPv6.10.1.1//NONSGML v1.0//EN
CALSCALE:GREGORIAN
METHOD:PUBLISH
X-WR-CALNAME:日本消化器内視鏡学会
X-ORIGINAL-URL:https://www.jges.net
X-WR-CALDESC:日本消化器内視鏡学会 のイベント
REFRESH-INTERVAL;VALUE=DURATION:PT1H
X-Robots-Tag:noindex
X-PUBLISHED-TTL:PT1H
BEGIN:VTIMEZONE
TZID:Asia/Tokyo
BEGIN:STANDARD
TZOFFSETFROM:+0900
TZOFFSETTO:+0900
TZNAME:JST
DTSTART:20190101T000000
END:STANDARD
END:VTIMEZONE
BEGIN:VEVENT
DTSTART;VALUE=DATE:20190629
DTEND;VALUE=DATE:20190701
DTSTAMP:20260426T113425
CREATED:20181214T080342Z
LAST-MODIFIED:20181214T080342Z
UID:17513-1561766400-1561939199@www.jges.net
SUMMARY:第122回　日本消化器内視鏡学会四国支部例会
DESCRIPTION:第122回日本消化器内視鏡学会四国支部例会を下記のとおり開催させていただきます。 \n本支部例会は、第111回日本消化器病学会四国支部例会（会長　稲葉　知己、香川県立中央病院 消化器内科）との合同開催となります。先生方には多数の演題の御登録と御参加をどうぞよろしくお願い申し上げます。 \n会長\n井上　秀幸（香川県厚生農業協同組合連合会 滝宮総合病院　内科） \n会期\n2019年6月29日（土）～6月30日（日） \n会場\nかがわ国際会議場／サンポートホール高松 \n〒760-0019　香川県高松市サンポート2-1  \nホームページ\nhttp://www.111jsge-122jges.com/ \n募集内容\n・合同シンポジウム（公募） \n　「消化管腫瘍の診断と治療」 \n　「肝疾患の診断と治療」 \n　「胆膵疾患の診断と治療」 \n・一般演題（公募） \n・研修医・専修医優秀演題セッション（公募） \nプログラム概要\n特別講演　1日目　6月29日（土） \n「除菌後胃粘膜と除菌後発見胃癌の内視鏡特徴像と組織像」\n講師：八木　一芳（新潟大学地域医療教育センター 魚沼基幹病院　消化器内科）\n司会：井上　秀幸（香川県厚生農業協同組合連合会 滝宮総合病院　内科） \n  \n合同シンポジウム１「消化管腫瘍の診断と治療」（公募）\n司会：藏原　晃一（松山赤十字病院　消化器内科）\n　　　吉川　幸造（徳島大学病院　消化器・移植外科） \n  \n合同シンポジウム２「肝疾患の診断と治療」（公募）\n司会：吉田　理　（愛媛大学大学院　消化器・内分泌・代謝内科学）\n　　　森下　朝洋（香川大学医学部　消化器・神経内科学） \n  \n合同シンポジウム３「胆膵疾患の診断と治療」（公募）\n司会：耕﨑　拓大（高知大学医学部　消化器内科学）\n　　　岡野　圭一（香川大学医学部　消化器外科学） \n  \nランチョンセミナー　2日目　6月30日 \n「どうしていますか便秘症？ －良質な診療と漢方薬 －」 \n司会：高山　哲治（徳島大学大学院医歯薬学研究部　消化器内科学）\n演者：尾高　健夫（尾高内科・胃腸クリニック　内科、消化器内科、内視鏡内科） \n  \n会長講演\n司会：正木　勉　（香川大学医学部　消化器・神経内科学）\n演者：井上　秀幸（香川県厚生農業協同組合連合会 滝宮総合病院　内科） \n事務局\n香川県厚生農業協同組合連合会 滝宮総合病院　庶務課\n〒761-2393　香川県綾歌郡綾川町滝宮486番地\n担当　六車 賢哉\nTEL：087-876-1145　FAX：087-876-1302\nE-mail：k.muguruma@yashima-hp.com \n運営事務局\n株式会社アド・サービス・センター\n〒760-0020　香川県高松市錦町1-4-37\n担当　亀田 裕之\nTEL：087-826-5600　FAX：087-826-561\nE-mail：office@111jsge-122jges.com \n 
URL:https://www.jges.net/event/2018-17513
LOCATION:かがわ国際会議場／サンポートホール高松\, サンポート2-1 高松シンボルタワー ホール棟\, 高松市\, 香川県\, 〒760-0019
CATEGORIES:四国支部,支部例会
END:VEVENT
END:VCALENDAR