BEGIN:VCALENDAR
VERSION:2.0
PRODID:-//日本消化器内視鏡学会 - ECPv6.10.1.1//NONSGML v1.0//EN
CALSCALE:GREGORIAN
METHOD:PUBLISH
X-ORIGINAL-URL:https://www.jges.net
X-WR-CALDESC:日本消化器内視鏡学会 のイベント
REFRESH-INTERVAL;VALUE=DURATION:PT1H
X-Robots-Tag:noindex
X-PUBLISHED-TTL:PT1H
BEGIN:VTIMEZONE
TZID:Asia/Tokyo
BEGIN:STANDARD
TZOFFSETFROM:+0900
TZOFFSETTO:+0900
TZNAME:JST
DTSTART:20220101T000000
END:STANDARD
END:VTIMEZONE
BEGIN:VEVENT
DTSTART;VALUE=DATE:20220924
DTEND;VALUE=DATE:20220926
DTSTAMP:20260421T213846
CREATED:20220118T040721Z
LAST-MODIFIED:20220118T040721Z
UID:52663-1663977600-1664150399@www.jges.net
SUMMARY:第125回　日本消化器内視鏡学会北海道支部例会
DESCRIPTION:会長\n竹政　伊知朗（札幌医科大学消化器・総合、乳腺・内分泌外科講座） \n会期\n2022年9月24 日（土）～25日（日） \n会場\n札幌医科大学　教育研究棟 \n〒060-8543\n札幌市中央区南1条西16丁目 \n例会ホームページアドレス\nhttps://www.ec-pro.co.jp/131jsge-125jges-hokkaido/ \n演題募集期間\n2022年5月11日（水）～6月8日（水）→6月15日（水）→6月20日（月） \n※締め切りを延長いたしました。 \n募集内容\n消化器腫瘍に対する軟性鏡・硬性鏡を用いた管腔内治療のcutting edge \nプログラム概要\n内視鏡特別講演　昭和大学横浜市北部病院消化器病センター長 工藤進英教授 \nランチョンセミナー \n事務局\n札幌医科大学 消化器・総合、乳腺・内分泌外科学講座 \n〒060-8556\n札幌市中央区南1条西16丁目 \n担当　奥谷 浩一 \nTEL:011-611-2111　FAX：011-613-1678 \nE-mail：okuya@sapmed.ac.jp \n運営事務局\n株式会社イー・シー・プロ \n〒060-0807\n札幌市北区北7条西4丁目8-3 北口ヨシヤビル5F \n担当　高橋　麻実 \nTEL:011-299-5910　FAX：011-299-5911 \nE-mail：jsge-jges-hokkaido@ec-pro.co.jp
URL:https://www.jges.net/event/2022-52663
LOCATION:札幌医科大学　教育研究棟\, 中央区南1条西16丁目\, 札幌市\, 北海道\, 0608543\, 日本
CATEGORIES:北海道支部,支部例会
END:VEVENT
END:VCALENDAR