BEGIN:VCALENDAR
VERSION:2.0
PRODID:-//日本消化器内視鏡学会 - ECPv6.10.1.1//NONSGML v1.0//EN
CALSCALE:GREGORIAN
METHOD:PUBLISH
X-WR-CALNAME:日本消化器内視鏡学会
X-ORIGINAL-URL:https://www.jges.net
X-WR-CALDESC:日本消化器内視鏡学会 のイベント
REFRESH-INTERVAL;VALUE=DURATION:PT1H
X-Robots-Tag:noindex
X-PUBLISHED-TTL:PT1H
BEGIN:VTIMEZONE
TZID:Asia/Tokyo
BEGIN:STANDARD
TZOFFSETFROM:+0900
TZOFFSETTO:+0900
TZNAME:JST
DTSTART:20230101T000000
END:STANDARD
END:VTIMEZONE
BEGIN:VEVENT
DTSTART;VALUE=DATE:20230304
DTEND;VALUE=DATE:20230306
DTSTAMP:20260421T101358
CREATED:20221125T062508Z
LAST-MODIFIED:20221125T062508Z
UID:62332-1677888000-1678060799@www.jges.net
SUMMARY:第126回　日本消化器内視鏡学会北海道支部例会
DESCRIPTION:会長\n山野　泰穂　(札幌医科大学医学部 消化器内科学講座） \n会期\n2023年3月4日（土）～5日（日） \n会場\n北海道大学医学部学友会館「フラテ」 \n〒060-0815 \n札幌市北区北15条西7丁目 \n例会ホームページアドレス\nhttps://www.ec-mice.com/132jsge-126jges-hokkaido/index.html \n演題募集期間\n2022年11月2日（水）～11月30日（水）→12月7日（水）正午まで　→12月12日（月）正午→12月16日（金）正午 \n※演題募集期間を12月16日（金）正午まで再延長いたしました。 \n募集内容\n・消化器内視鏡：シンポジウムテーマ：「大腸癌診療 up to date」 \n＊今回　消化器病学会と内視鏡学会とで合同テーマといたしました。 \n  \n・一般演題　専修医・研修医発表 \nプログラム概要\n特別講演 \nランチョンセミナー \n事務局\n札幌医科大学医学部 消化器内科学講座 \n〒060-8556 \n札幌市中央区南1条西16丁目 \n担当　山野　泰穂 \nTEL:011-611-2111　FAX：011-611-2282 \nE-mail：h-yamano@h9.dion.ne.jp \n運営事務局\n株式会社イー・シー \n〒060-0807 \n札幌市北区北7条西4丁目8-3 北口ヨシヤビル5F \n担当　高橋　麻実 \nTEL:011-299-5910　FAX：011-299-5911 \nE-mail：jsge-jges-hokkaido@ec-mice.com
URL:https://www.jges.net/event/2022-62332
LOCATION:北海道大学医学部学友会館「フラテ」\, 札幌市北区北15条西7丁目\, 〒060-8638
CATEGORIES:北海道支部,支部例会
END:VEVENT
END:VCALENDAR