BEGIN:VCALENDAR
VERSION:2.0
PRODID:-//日本消化器内視鏡学会 - ECPv6.10.1.1//NONSGML v1.0//EN
CALSCALE:GREGORIAN
METHOD:PUBLISH
X-WR-CALNAME:日本消化器内視鏡学会
X-ORIGINAL-URL:https://www.jges.net
X-WR-CALDESC:日本消化器内視鏡学会 のイベント
REFRESH-INTERVAL;VALUE=DURATION:PT1H
X-Robots-Tag:noindex
X-PUBLISHED-TTL:PT1H
BEGIN:VTIMEZONE
TZID:Asia/Tokyo
BEGIN:STANDARD
TZOFFSETFROM:+0900
TZOFFSETTO:+0900
TZNAME:JST
DTSTART:20230101T000000
END:STANDARD
END:VTIMEZONE
BEGIN:VEVENT
DTSTART;VALUE=DATE:20230902
DTEND;VALUE=DATE:20230904
DTSTAMP:20260421T034149
CREATED:20230314T082622Z
LAST-MODIFIED:20230314T082622Z
UID:67746-1693612800-1693785599@www.jges.net
SUMMARY:第127回　日本消化器内視鏡学会北海道支部例会
DESCRIPTION:　このたび、第127回日本消化器内視鏡学会北海道支部例会を開催させて頂くことになりました。このような貴重な機会を与えていただいた勝木伸一支部長、幹事・評議員の諸先生方、並びに関係各位の皆様に厚く御礼申し上げます。 \n　本会は令和5年9月2日(土)、9月3日(日)の2日間、第133回日本消化器病学会北海道支部例会（旭川医科大学外科学講座肝胆膵・移植外科学分野教授・横尾　英樹会長）との合同で開催いたします。 \n　内視鏡の診断・治療は新たな機器や手技の進歩により、飛躍的な発展が続いております。これにより低侵襲で有用な医療を患者様に提供できる時代になってきました。その一方で、手技の習得に時間を要すること、教育システムの構築が不可欠となっております。また、治療困難例や手技に難渋する症例、様々なトラブルに対応する能力が求められます。特に、専門領域が細分化されてきている現在において、幅広い領域の手技や治療法を学ぶことはとても重要であると思っております。そこで本例会のシンポジウムのテーマは「内視鏡診断・治療の基本とコツ〜Hokkaido cup endoscopy〜」とさせていただき、消化管、胆膵、外科など幅広く、基本的な手技やコツ、困難例を克服した経験、トラブルシューティングの方法などを動画にて提示していただき、多くの内視鏡医でディスカッションをさせていただければと思っております。北海道内の各分野におけるエキスパートの先生にコメンテーターとして参加していただき、優秀な演題に対する表彰も行う予定です。もちろん、重要なのは演題の順位をつけることではなく、手技のコツや工夫を、幅広く共有し討論を行い、学ぶ機会を提供することです。特別講演は、本邦における内視鏡診療の発達と今後の展望についてご講演頂く予定です。 \n　今回もシンポジウム、一般演題に加え、若手医師の発表セッションを企画しております。本会が会員の皆様の消化器内視鏡診療に寄与するものとなるよう努力して参りますので会員の先生方のご協力を宜しくお願い申し上げます。 \n  \n第127回日本消化器内視鏡学会北海道支部例会\n会長　潟沼 朗生 \n会長\n潟沼　朗生（手稲渓仁会病院 消化器病センター） \n会期\n2023年9月2日(土)～9月3日（日） \n会場\nTKPガーデンシティPREMIUM札幌大通 \n〒060-0061\n札幌市中央区南1条西1丁目8-2　高桑ビル5階・6階 \n \n例会ホームページ\nhttps://www.ec-mice.com/133jsge-127jges-hokkaido/index.html \n第133回日本消化器病学会北海道支部例会との合同開催でございます。\n多数ご参加くださいますようお願い申し上げます。 \n演題募集期間\n2023年5月10日（水）正午～6月7日（水）正午迄　→　6月14日（水）まで延長しました。　→　6月19日（月）正午まで再延長しました。 \n＊受付は終了いたしました。多数のご応募ありがとうございました。 \n募集内容\nシンポジウム（一部指定）\n「内視鏡診断・治療の基本とコツ ～Hokkaido cup endoscopy～ 」\n一般演題　研修医発表 専攻医発表 \n＊インターネット(UMIN)での公募となります。奮ってご登録ください。\nhttps://www.ec-mice.com/133jsge-127jges-hokkaido/endai_127jges.html \nプログラム概要\n【消化器病学会】\n　※合同開催の第133回日本消化器病学会北海道支部例会プログラムです。 \n　・特別講演：上部消化管疾患における漢方薬の位置づけ\n　・シンポジウム：消化器癌に対する内科外科治療の最前線\n　・一般演題\n　・日本消化器病学会北海道支部 第25回専門医セミナー \n【消化器内視鏡学会】 \n　・特別講演：総胆管結石治療の温故知新　－ESBDの有用性を探る―\n　・ビデオシンポジウム：内視鏡診断・治療の基本とコツ\n　　～Hokkaido cup endoscopy～\n　・特別企画：JGES Hokkaido ～Rising star session～\n　・一般演題\n　・日本消化器内視鏡学会北海道支部 評議員会 \n【消化器病学会・内視鏡学会 合同表彰式】 \n【共催セミナー】\n　モーニングセミナー 1\n　ランチョンセミナー 5 \n運営事務局\n株式会社イー・シー \n〒060-0807\n札幌市北区北7条西4丁目8-3　北口ヨシヤビル5F \n担当：松田 徳康\nTEL：011-299-5910　FAX：011-299-5911\nE-mail：jsge-jges-hokkaido@ec-mice.com \n 
URL:https://www.jges.net/event/2023-67746
LOCATION:TKPガーデンシティPREMIUM札幌大通\, 札幌市中央区南1条西1丁目8-2　高桑ビル5階・6階\, 060-0061
CATEGORIES:北海道支部,支部例会
END:VEVENT
END:VCALENDAR