BEGIN:VCALENDAR
VERSION:2.0
PRODID:-//日本消化器内視鏡学会 - ECPv6.10.1.1//NONSGML v1.0//EN
CALSCALE:GREGORIAN
METHOD:PUBLISH
X-WR-CALNAME:日本消化器内視鏡学会
X-ORIGINAL-URL:https://www.jges.net
X-WR-CALDESC:日本消化器内視鏡学会 のイベント
REFRESH-INTERVAL;VALUE=DURATION:PT1H
X-Robots-Tag:noindex
X-PUBLISHED-TTL:PT1H
BEGIN:VTIMEZONE
TZID:Asia/Tokyo
BEGIN:STANDARD
TZOFFSETFROM:+0900
TZOFFSETTO:+0900
TZNAME:JST
DTSTART:20210101T000000
END:STANDARD
END:VTIMEZONE
BEGIN:VEVENT
DTSTART;VALUE=DATE:20210904
DTEND;VALUE=DATE:20210906
DTSTAMP:20260422T163359
CREATED:20201014T091431Z
LAST-MODIFIED:20201014T091431Z
UID:34227-1630713600-1630886399@www.jges.net
SUMMARY:第123回　日本消化器内視鏡学会北海道支部例会 ※Web開催
DESCRIPTION:会長\n太田　智之（札幌東徳洲会病院） \n会期\n2021年9月4日（土）～5日（日） \n会場\n完全オンライン開催 \n例会ホームページアドレス\nhttps://www.ec-pro.co.jp/129jsge-123jges-hokkaido/index.html \n演題募集期間\n2021年5月7日（金）正午 ～ 6月4日（金） → 正午 6月11日（金）正午 \n→ 正午 6月15日（火）正午 \n※演題募集期間を 6月15日（火）正午まで延長いたしました。 \n募集内容\nシンポジウム（一部指定）\n　「消化器内視鏡診断と治療のSTATE-OF-THE ART」\n一般演題 研修医発表 専修医発表 \nプログラム概要\nシンポジウム\n特別講演（内視鏡）\nランチョンセミナー\n一般演題\n内視鏡学会評議員会 \n事務局\n札幌東徳洲会病院IBDセンター\n〒065-0033\n札幌市東区北33条東14丁目3番1号\n担当：伊藤　貴博\nTEL：011-722-1110　 FAX：011-723-5631 \n運営事務局\n株式会社イー・シー・プロ\n〒060-0807 \n札幌市北区北7条西4丁目8-3 北口ヨシヤビル5F\n担当：高橋　麻実\nTEL：011-299-5910　 FAX：011-299-5911\nE-mail：jsge-jges-hokkaido@ec-pro.co.jp
URL:https://www.jges.net/event/2020-34227
CATEGORIES:北海道支部,支部例会
END:VEVENT
END:VCALENDAR