BEGIN:VCALENDAR
VERSION:2.0
PRODID:-//日本消化器内視鏡学会 - ECPv6.10.1.1//NONSGML v1.0//EN
CALSCALE:GREGORIAN
METHOD:PUBLISH
X-ORIGINAL-URL:https://www.jges.net
X-WR-CALDESC:日本消化器内視鏡学会 のイベント
REFRESH-INTERVAL;VALUE=DURATION:PT1H
X-Robots-Tag:noindex
X-PUBLISHED-TTL:PT1H
BEGIN:VTIMEZONE
TZID:Asia/Tokyo
BEGIN:STANDARD
TZOFFSETFROM:+0900
TZOFFSETTO:+0900
TZNAME:JST
DTSTART:20200101T000000
END:STANDARD
END:VTIMEZONE
BEGIN:VEVENT
DTSTART;VALUE=DATE:20201219
DTEND;VALUE=DATE:20201221
DTSTAMP:20260420T030249
CREATED:20181226T035552Z
LAST-MODIFIED:20181226T035552Z
UID:17766-1608336000-1608508799@www.jges.net
SUMMARY:第111回　日本消化器内視鏡学会関東支部例会 ※Web開催
DESCRIPTION:　2020年12月19日（土）・20日（日）の2日間、シェーンバッハ・サボー(東京都千代田区)にて開催を予定しておりましたが、昨今の新型コロナウイルス感染拡大の影響による世の中の情勢を考慮致し、「Web開催」とさせていただく運びとなりました。 \n　Web開催につきましては、前回開催されました第110回関東支部例会に準じて、会期当日の発表とライブ配信および後日のオンデマンド配信を検討・調整しております。 \n　状況は適宜ホームページを更新して参りますので、ご確認いただけますと幸いです。 \n\n\n\n\n　このたびは新型コロナウイルス感染拡大に際しましては、お亡くなりになられた方々に謹んで哀悼の意を捧げますとともに、罹患されました方、すべての皆様に心よりお見舞い申し上げます。また、日々最前線で対応されている医療関係者の方々に敬意を表します。\n　第11１回日本消化器内視鏡学会関東支部例会を令和2年12月19日（土）～20日（日）の2日間、シェーンバッハ・サボーにおいて開催させていただきます。この学術集会は、10年前に埼玉医科大学総合医療センターの屋嘉比康治先生も主催された学会であり、本例会を開催させていただくことを大変光栄に存じております。また、本例会を担当する機会を与えて下さった前日本消化器内視鏡学会関東支部長、河合隆先生、現支部長の斎藤豊先生をはじめ、幹事・評議員の諸先生方、並びに関係各位の皆様に厚く御礼申し上げます。\n　本例会は若手医師の登竜門として多くの若手の先生が演題を発表しやすい場として成り立っております。私自身も若い頃に症例報告のみならず、症例を集めて一般演題や主題にも発表させていただくことでとても励みになり、勉強になりました。さらには、関東支部例会の機関紙に投稿し、紙上掲載されることも励みになりました。また、本例会は若手医師のみならず日常診療に携わっております先生方やベテランの先生方においても明日からの診療にすぐにでも役立つような内容となることを期待しており、本例会のテーマを「明日からの日常診療に役立つ内視鏡診断・治療を目指して」としました。\n　昨今、特定臨床研究法が厳しく、演題応募もハードルが上がっておりますが、本支部例会は総会とは異なって、日常診療に即したご発表を数多くご応募していただくことにより、ちょっとしたことでも会員の皆様にお役に立つようなご発表を期待しております。拡大のみならず非拡大による病変の拾い上げの重要性にもフォーカスをあてた主題や治療の工夫のみならずリスクマネージメントの重要性にもフォーカスをあてた主題を設けました。\n　特別講演では東京医科大学消化器内視鏡学、内視鏡センター長・教授の河合隆先生にお願いをいたしました。河合教授は経鼻内視鏡、ピロリ菌感染、検診などについてもご講演をいただけると思います。また、エキスパートセミナー、ランチョンセミナーを企画しております。\n　症例検討ではスマホによるアンサーパッドを用います。ハンズオンもESD、大腸挿入、EUS＋FNAを企画しております。\n　若手医師からベテランの先生方の日常診療にもお役に立つ企画を準備いたしましたので、是非とも多くの会員の先生方の演題のご応募、ご参加を賜りますようお願い申し上げます。 \n会長\n今枝　博之（埼玉医科大学　消化管内科） \n会期\n2020年12月19日（土）～20日（日） \n会場\nWeb開催 \nシェーンバッハ・サボー \n〒102-0093　東京都千代田区平河町2-7-5 \n例会ホームページアドレス\nhttp://www.jges-k.umin.jp/111shibureikai/index.html \n演題募集期間\n2020年6月3 日（水）～2020 年8 月26日（水）正午 \n募集内容\nテーマ　「明日からの日常診療に役立つ内視鏡診断・治療を目指して」 \n消化器内視鏡に関する演題を広く募集いたします。 \n主題（ビデオシンポジウム、パネルディスカッション、ワークショップ）、\n一般演題、研修医セッション、専修医セッション （口演： 公募） \nプログラム概要\nビデオシンポジウム\n「日常診療に役立つ非拡大画像強調観察の進歩～検診をみすえて～」\n「日常診療に役立つ拡大併用画像強調観察の進歩」\n「胆膵内視鏡診断の進歩」 \nパネルディスカッション\n「消化管出血へのアプローチの最前線」\n「小腸内視鏡診療の現状と展望」\n「内視鏡による炎症性腸疾患診療の進歩」\n「内科と他科（他領域）との内視鏡診療コラボレーション」 \nワークショップ\n「ピロリ陰性時代の上部消化管疾患の内視鏡診療」\n「胆膵内視鏡治療の工夫とリスクマネージメント」\n「大腸腫瘍に対する内視鏡治療の工夫とリスクマネージメント」\n「上部消化管疾患に対する内視鏡治療の工夫とリスクマネージメント」 \n特別講演\n東京医科大学　消化器内視鏡学分野　河合　隆 \n症例検討セッション\n「胃」\n「胆膵」\n「食道」\n「大腸」 \nハンズオンセミナー\n「胃ESD」\n「大腸ESD」\n「EUS」\n「大腸挿入」 \n事務局\n埼玉医科大学　消化管内科\n〒350-0495　\n埼玉県入間郡毛呂山町毛呂本郷38\n事務局長　都築　義和 \n運営事務局\n株式会社プランニングウィル\n〒113-0033　\n東京都文京区本郷4-1-5 石渡ビル6F\nTEL：03-6801-8084 　FAX：03-6801-8094\nE-mail：111kanto-jges@pw-co.jp \n 
URL:https://www.jges.net/event/2018-17766
LOCATION:東京都
CATEGORIES:支部例会,関東支部
END:VEVENT
END:VCALENDAR