BEGIN:VCALENDAR
VERSION:2.0
PRODID:-//日本消化器内視鏡学会 - ECPv6.10.1.1//NONSGML v1.0//EN
CALSCALE:GREGORIAN
METHOD:PUBLISH
X-WR-CALNAME:日本消化器内視鏡学会
X-ORIGINAL-URL:https://www.jges.net
X-WR-CALDESC:日本消化器内視鏡学会 のイベント
REFRESH-INTERVAL;VALUE=DURATION:PT1H
X-Robots-Tag:noindex
X-PUBLISHED-TTL:PT1H
BEGIN:VTIMEZONE
TZID:Asia/Tokyo
BEGIN:STANDARD
TZOFFSETFROM:+0900
TZOFFSETTO:+0900
TZNAME:JST
DTSTART:20170101T000000
END:STANDARD
END:VTIMEZONE
BEGIN:VEVENT
DTSTART;VALUE=DATE:20171103
DTEND;VALUE=DATE:20171105
DTSTAMP:20260422T041902
CREATED:20170111T062858Z
LAST-MODIFIED:20170111T062858Z
UID:2522-1509667200-1509839999@www.jges.net
SUMMARY:第83回　日本消化器内視鏡学会甲信越支部例会
DESCRIPTION:第83回　日本消化器内視鏡学会甲信越支部例会のご案内\n\n第83回日本消化器内視鏡学会甲信越支部例会を下記の通り開催させていただきます。\n 本支部例会は、第61回日本消化器病学会甲信越支部例会との合同開催となります。会員の皆様の多数の演題のご応募、ご参加をいただきますようご案内申し上げます。 \n  \n会長： \n\n寺井　崇二（新潟大学大学院医歯学総合研究科　消化器内科）\n\n会期： \n\n2017年（平成29年）11月3日（金）～4日（土）\n\n会場： \n\n朱鷺メッセ：新潟コンベンションセンター\n 〒950-0078 新潟市中央区万代島6番1号\n TEL.025-246-8400\n\nホームページ： \n\nhttp://www.jges-kse.jp/\n\n演題募集期間： \n\n2017年6月21日（水）～ 8月23日（水）正午　8月30日（水）正午\n ※演題募集を締め切りました。\n\n募集内容： \n\n合同ワークショップ（消化器病・内視鏡合同）（公募）\n一般演題（内視鏡）（公募）\nプレナリーセッション（卒後5年以内）（内視鏡）（公募）\n すべての演題の応募は日本消化器病学会ホームページからのオンライン登録になります。\n\n  \nプログラム概要： \n\n会長講演\n 座長：青栁　豊（新潟医療センター　消化器病センター）\n 演者：寺井　崇二（新潟大学　消化器内科）\n  \n合同シンポジウム（特別企画）\n 「消化器専門女性医師の活躍」\n （Silver Spoon Conference～To be More Brilliant）\n  \n基調講演\n 「消化器病診療に携わる女性医師をどう支援していくか\n 　～山口県における女性医師支援活動の紹介～」\n 　座長：佐藤　公（山梨大学　第1内科）\n 　演者：黒川　典枝（山口大学　医療人育成センター・総合診療部）\n  \n シンポジウム（指定）\n 　司会：小林　由夏（長岡中央綜合病院　消化器内科）\n 　　　　進藤　浩子（山梨大学　第1内科）\n  \n合同パネルディスカッション　（指定）\n 「みんなで考えるこれからの消化器病研修－消化器の魅力をどう伝えるか－」\n 司会：伊藤　哲也（信州大学　第2内科）\n 　　　井上　泰輔（山梨大学　第1内科）\n 　　　川合　弘一（新潟大学　消化器内科）\n  \n合同ワークショップ１　（公募）\n 「症例に学ぶ」\n 司会：塩路　和彦（新潟県立がんセンター新潟病院　内科）\n 　　　木村　岳史（信州大学　第2内科）\n コメンテーター：赤松　泰次（長野県立須坂病院　内視鏡センター）\n  \n合同ワークショップ２　（公募）\n 「進行消化器癌診療の新展開：消化管編」\n 司会：吉田　貴史（山梨大学　第1内科）\n 　　　徳竹　康二郎（長野赤十字病院　消化器内科）\n コメンテーター：亀山　仁史（新潟大学　消化器・一般外科）\n  \n合同ワークショップ３　（公募）\n 「進行消化器癌診療の新展開：肝・胆・膵編」\n 司会：渡邉　貴之（信州大学　第2内科）\n 　　　中山　康弘（山梨大学　第1内科）\n コメンテーター：坂田　純（新潟大学　消化器・一般外科）\n  \n合同症例検討（消化管、肝・胆・膵）\n 病理コメンテーター：味岡　洋一（新潟大学大学院　分子・診断病理学）\n  \nプレナリーセッション（公募）\n  \n一般演題（公募）\n  \nESDワークショップ\n 展示ブースにおいて、ESDトレーニングモデル（EndoGel™）を用いたワークショップを予定しています。\n\n  \n事務局： \n新潟大学医歯学総合研究科　消化器内科\n 〒951-8510 新潟市中央区旭町通1番町757\n 担当：横山　純二、高村　昌昭\n TEL：025-227-2207　FAX：025-227-0776\n E-mail：yokoyaj●med.niigata-u.ac.jp（●を@に変えてご使用ください） \n  \n運営事務局： \n株式会社アド・メディック\n 〒950-0078 新潟市中央区万代島5-1 万代島ビル13F\n 担当：東海林 豊\n TEL：025-245-4087　FAX：025-247-8101
URL:https://www.jges.net/event/2017-2522
LOCATION:新潟コンベンションセンター\, 新潟市中央区万代島6番1号\, 新潟市\, Japan
CATEGORIES:支部例会,甲信越支部
END:VEVENT
END:VCALENDAR