BEGIN:VCALENDAR
VERSION:2.0
PRODID:-//日本消化器内視鏡学会 - ECPv6.10.1.1//NONSGML v1.0//EN
CALSCALE:GREGORIAN
METHOD:PUBLISH
X-WR-CALNAME:日本消化器内視鏡学会
X-ORIGINAL-URL:https://www.jges.net
X-WR-CALDESC:日本消化器内視鏡学会 のイベント
REFRESH-INTERVAL;VALUE=DURATION:PT1H
X-Robots-Tag:noindex
X-PUBLISHED-TTL:PT1H
BEGIN:VTIMEZONE
TZID:Asia/Tokyo
BEGIN:STANDARD
TZOFFSETFROM:+0900
TZOFFSETTO:+0900
TZNAME:JST
DTSTART:20200101T000000
END:STANDARD
END:VTIMEZONE
BEGIN:VEVENT
DTSTART;VALUE=DATE:20201121
DTEND;VALUE=DATE:20201123
DTSTAMP:20260421T142549
CREATED:20191206T005128Z
LAST-MODIFIED:20191206T005128Z
UID:25185-1605916800-1606089599@www.jges.net
SUMMARY:第89回　日本消化器内視鏡学会甲信越支部例会 ※Web開催・現地開催併用
DESCRIPTION:会長\n若井　俊文（新潟大学大学院医歯学総合研究科　消化器・一般外科学） \n会期\n2020年11月21日（土）～22日（日） \n会場\n朱鷺メッセ：新潟コンベンションセンター2F メインホールA・B\n1日目：2会場、2日目：1会場 \n甲信越支部ホームページ\nhttp://www.jges-kse.jp/index.html \n演題登録\nhttp://www.jges-kse.jp/toroku.html \n演題募集期間\n8月24日（月）～9月23日（水）正午 \n募集案内\n１）合同ワークショップ\n①合同ワークショップ１\n「良悪性鑑別困難な胆膵疾患の診断と治療の最前線 ―内科，外科の立場から―」（公募）\n11月21日（土）10：45－11：55\n座長：林　和直（新潟大学大学院　消化器内科学分野）\n　　　深澤　光晴（山梨大学　消化器内科）\nコメンテーター：\n　　　塩路　和彦（県立がんセンター新潟病院　消化器内科）\n　　　坂田　純（新潟大学大学院　消化器・一般外科） \n②合同ワークショップ２\n「消化管疾患に対する低侵襲治療の現状と今後の展開 ―内科，外科の立場から―」（公募）\n11月22日（日）9：00－10：10\n座長：佐藤　裕樹（新潟大学大学院　消化器内科学分野）\n　　　長屋　匡信（信州大学消化器内科）　\nコメンテーター：\n　　　竹内　学（長岡赤十字病院　消化器内科）\n　　　市川　寛（新潟大学消化器・一般外科） \n２）合同シンポジウム\n11月21日（土）13：20－14：55\nテーマ：「働き方改革で何が変わるのか？：ワークライフバランスの実現に向けて」 \n座長：中山　佳子（信州大学医学部小児医学教室）\n演者：\n①河内　泉（新潟大学大学院医歯学総合研究科 総合医学教育センター）\n②塚田　芳久（新潟県立新発田病院）\n③高橋　芳之（信州大学消化器内科）\n④中山　佳子（信州大学医学部小児医学教室）  \n３）一般演題（公募）\n一般演題（研修医［卒後2年まで］）（公募）\n一般演題（専修医［卒後3-5年］）（公募） \nプログラム概要\n　本会では、Web開催を併用することとし、一般演題をWebでのスライド発表形式とします。第67回日本消化器病学会甲信越支部例会との合同シンポジウム、合同ワークショップ、等は現地での講演形式（講演後、一定期間Webで配信）とさせて頂きます。\n　なお、新型コロナ感染症の感染拡大等の状況によっては、完全Web開催となることがございますので、ご了承ください。 \n第89回甲信越支部例会　JEDブースのご案内 \n詳細はこちら \n事務局\n〒951-8510\n新潟市中央区旭町通1番町757\n新潟大学大学院医歯学総合研究科消化器・一般外科\nTEL：025-227-2228\nFAX：025-227-0779\nメールアドレス：jsakata2@med.niigata-u.ac.jp\n担当者：坂田　純　 \n 
URL:https://www.jges.net/event/2019-25185
LOCATION:朱鷺メッセ
CATEGORIES:支部例会,甲信越支部
END:VEVENT
END:VCALENDAR