BEGIN:VCALENDAR
VERSION:2.0
PRODID:-//日本消化器内視鏡学会 - ECPv6.10.1.1//NONSGML v1.0//EN
CALSCALE:GREGORIAN
METHOD:PUBLISH
X-WR-CALNAME:日本消化器内視鏡学会
X-ORIGINAL-URL:https://www.jges.net
X-WR-CALDESC:日本消化器内視鏡学会 のイベント
REFRESH-INTERVAL;VALUE=DURATION:PT1H
X-Robots-Tag:noindex
X-PUBLISHED-TTL:PT1H
BEGIN:VTIMEZONE
TZID:Asia/Tokyo
BEGIN:STANDARD
TZOFFSETFROM:+0900
TZOFFSETTO:+0900
TZNAME:JST
DTSTART:20220101T000000
END:STANDARD
END:VTIMEZONE
BEGIN:VEVENT
DTSTART;VALUE=DATE:20221203
DTEND;VALUE=DATE:20221205
DTSTAMP:20260421T113420
CREATED:20220118T043721Z
LAST-MODIFIED:20220118T043721Z
UID:52778-1670025600-1670198399@www.jges.net
SUMMARY:第93回　日本消化器内視鏡学会甲信越支部例会
DESCRIPTION:　この度、下記日程で第93回日本消化器内視鏡学会甲信越支部例会を開催させていただくこととなりました。今回は、日本消化器病学会甲信越支部例会との合同開催でございます。 \n　可能な限り現地での開催を目指しておりますが、新型コロナウイルス感染が再拡大しており、状況によっては、ハイブリッドまたはWEB開催となる可能性もございます。 \n　会員の皆様からの多数のご参加、ご拝聴、演題のご発表をいただきますよう宜しくお願い申し上げます。 \n会長\n市川　大輔 （山梨大学第一外科） \n会期\n2022年12月3日(土)～4日(日) \n会場\nアピオ甲府　　 \n〒409-3866 \n山梨県中巨摩郡昭和町西条360→完全WEB開催に変更 \n例会ホームページ\nhttps://71jsge93jges-koshinetsu.jp/index.html \n演題募集期間\n2022年9月12日（月）～10月5日（水） \n募集内容\n合同シンポジウム（公募） \n「消化器病疾患に携わる若手医師の魅力ある育成」 \n合同ワークショップ（公募） \n１）「消化器病に対する低侵襲治療」\n２）「高齢者消化器病患者に対する治療戦略と課題」 \n一般演題（公募） \n研修医・専修医セッション（卒後5年まで）（公募） \n  \nすべての演題の応募は日本消化器内視鏡学会甲信越支部のホームページからのオンライン登録になります。 \n事務局\n山梨大学医学部第一外科　医局 \n〒409-3898 \n山梨県中央市下河東1110 \n担当：川井田　博充、白石　謙介 \nE-mail：kawaidah@yamanashi.ac.jp\,kensuke@yamanashi.ac.jp \nTEL: 055-273-7390　FAX: 055-273-7390
URL:https://www.jges.net/event/2022-52778
LOCATION:Web開催
CATEGORIES:支部例会,甲信越支部
END:VEVENT
END:VCALENDAR