BEGIN:VCALENDAR
VERSION:2.0
PRODID:-//日本消化器内視鏡学会 - ECPv6.10.1.1//NONSGML v1.0//EN
CALSCALE:GREGORIAN
METHOD:PUBLISH
X-WR-CALNAME:日本消化器内視鏡学会
X-ORIGINAL-URL:https://www.jges.net
X-WR-CALDESC:日本消化器内視鏡学会 のイベント
REFRESH-INTERVAL;VALUE=DURATION:PT1H
X-Robots-Tag:noindex
X-PUBLISHED-TTL:PT1H
BEGIN:VTIMEZONE
TZID:Asia/Tokyo
BEGIN:STANDARD
TZOFFSETFROM:+0900
TZOFFSETTO:+0900
TZNAME:JST
DTSTART:20170101T000000
END:STANDARD
END:VTIMEZONE
BEGIN:VEVENT
DTSTART;VALUE=DATE:20171118
DTEND;VALUE=DATE:20171119
DTSTAMP:20260426T044847
CREATED:20171031T023823Z
LAST-MODIFIED:20171031T023823Z
UID:8651-1510963200-1511049599@www.jges.net
SUMMARY:第60回　日本消化器内視鏡学会東海支部例会
DESCRIPTION:第60回　日本消化器内視鏡学会東海支部例会のご案内\n\n第60回日本消化器内視鏡学会東海支部例会を下記の要領で開催いたします。多数の方の御参加をお待ちしております。 \n \n会長： \n　八木　信明（朝日大学歯学部附属村上記念病院　消化器内科） \n会期： \n　2017年（平成29年）11月18日（土） \n会場： \n　長良川国際会議場\n 　〒502-0817\n 　岐阜市長良福光2685-2 \nホームページ： \n　http://www.ccs-net.co.jp/society/jges-tokai/60/index.html \n演題募集締切： \n　平成29年8月31日（水）9月6日（水）まで\n 　締め切りを延長しました \n募集内容： \n\n特別講演\nシンポジウム①『H.pylori除菌時代における内視鏡診断の現状』\nシンポジウム②『胆膵内視鏡関連手技の工夫と進歩』\nランチョンセミナー　2題\n一般演題（公募）\n\n事務局： \n\n朝日大学歯学部附属村上記念病院\n 〒500-8523　岐阜市橋本町3丁目23番地\n\n運営事務局： \n\n株式会社セントラルコンベンションサービス\n 〒460-0008\n 名古屋市中区栄3-19-28\n 担当：山田　麻里恵\n TEL：052-269-3181　　FAX：052-269-3252\n E-mail：jges60@ccs-net.co.jp
URL:https://www.jges.net/event/2017-8651
LOCATION:長良川国際会議場\, 岐阜市長良福光2685-2\, 岐阜市\, 岐阜県\, 502-0817\, Japan
CATEGORIES:支部例会,東海支部
END:VEVENT
END:VCALENDAR