BEGIN:VCALENDAR
VERSION:2.0
PRODID:-//日本消化器内視鏡学会 - ECPv6.10.1.1//NONSGML v1.0//EN
CALSCALE:GREGORIAN
METHOD:PUBLISH
X-WR-CALNAME:日本消化器内視鏡学会
X-ORIGINAL-URL:https://www.jges.net
X-WR-CALDESC:日本消化器内視鏡学会 のイベント
REFRESH-INTERVAL;VALUE=DURATION:PT1H
X-Robots-Tag:noindex
X-PUBLISHED-TTL:PT1H
BEGIN:VTIMEZONE
TZID:Asia/Tokyo
BEGIN:STANDARD
TZOFFSETFROM:+0900
TZOFFSETTO:+0900
TZNAME:JST
DTSTART:20190101T000000
END:STANDARD
END:VTIMEZONE
BEGIN:VEVENT
DTSTART;TZID=Asia/Tokyo:20190707T090000
DTEND;TZID=Asia/Tokyo:20190707T160000
DTSTAMP:20260423T180556
CREATED:20190516T014531Z
LAST-MODIFIED:20190516T014531Z
UID:19510-1562490000-1562515200@www.jges.net
SUMMARY:第19回　日本消化器内視鏡学会東海支部ガイドライン研修会
DESCRIPTION:「第19回　日本消化器内視鏡学会東海支部ガイドライン研修会」のご案内\n会　長：\n　西脇　伸二（JA岐阜厚生連　西美濃厚生病院　内科） \n会　期：\n　2019年7月7日（日）　09:00～16:00 \n会　場：\n　じゅうろくプラザ（岐阜市文化産業交流センター）　５階　大会議室\n    〒500-8856　岐阜市橋本町1丁目10番地11　　TEL：058-262-0150 \n　【交通のご案内】 \n　JR 岐阜駅隣接　徒歩約2分、名鉄岐阜駅より　徒歩約7分 \n　※駐車場はございますが、できる限り公共交通機関のご利用にご協力をお願い致します。駐車料金のサービス等はございません。 \n対象者：\n　消化器内視鏡を始める医師または専門医をめざす医師、内視鏡技師、内視鏡技師資格をめざすコメディカルの方々、その他 \n募集人数：\n　150名 \n受 講 費：\n　A. 医師：5\,000円　　　B. 内視鏡技師・看護師およびコメディカルの方：2\,000円 \n応募要領：\n　受講希望者は受講申込用紙に下記事項を記入の上、１名につき１通、E-mailまたはFAXにて運営事務局へお送りください。お申込み後、受講費のお振込みをお願い致します。 \n\n【申し込み記入事項】\n　 受講申込用紙\n　①氏名（ふりがな）\n　②職種（医師・技師・看護師　等）\n　③勤務先（施設名・所属科）\n　④連絡先（郵便番号･住所･電話番号･FAX番号･E-mail）\n　⑤過去のガイドライン研修会参加の有無\n　⑥消化器内視鏡経験年数 \n\n【お申込先】\n　株式会社セントラルコンベンションサービス内　\n　「第19回日本消化器内視鏡学会東海支部ガイドライン研修会」係\n　FAX：052-269-3252　　　E-mail：guideline19@ccs-net.co.jp \n  \n【お振込先】\n　JAバンク　西美濃農業協同組合　養老中支店 \n　（金融機関番号・店舗番号　6175-060）　　 \n　普通　0024101 \n　第19回日本消化器内視鏡学会東海支部ガイドライン研修会　会長　西脇伸二\n　ﾀﾞｲｼﾞﾕｳｷｭｳｶｲ　ﾆﾎﾝｼﾖｳｶｷﾅｲｼｷﾖｳｶﾞﾂｶｲﾄｳｶｲｼﾌﾞ　ｶﾞｲﾄﾞﾗｲﾝｹﾝｼﾕｳｶｲ　ｶｲﾁﾖｳ　ﾆｼﾜｷｼﾝｼﾞ \n申込締切：\n　2019年6月7日（金）必着 \n  \nその他：\n　受講者へは会期1～2週間程度前にテキストを発送いたします（入金済みの方）。受講修了後、日本消化器内視鏡学会より受講証を発行します。専門医更新単位4単位、内視鏡技師単位2単位です。納入された参加費は、原則として返金いたしませんので予めご了承ください。 \n  \n《事務局》 \n　JA岐阜厚生連　西美濃厚生病院　内科　内\n　「第19回日本消化器内視鏡学会東海支部ガイドライン研修会」事務局　\n　〒503-1394　岐阜県養老郡養老町押越986番地\n　TEL：0584-32-1161（代）　FAX：0584-32-2856\n \n《運営事務局》 \n　※お申込みに関するお問合せはこちらへご連絡ください。\n　株式会社セントラルコンベンションサービス　内　　\n　「第19回日本消化器内視鏡学会東海支部ガイドライン研修会」運営事務局　\n　担当：山田麻里恵\n　〒460-0008　名古屋市中区栄3-19-28\n　TEL：052-269-3181　　FAX：052-269-3252\n第19回日本消化器内視鏡学会東海支部ガイドライン研修会プログラム　\n ※敬称略\n会　長：西脇　伸二（JA岐阜厚生連　西美濃厚生病院　内科） \n日　時：2019年7月7日（日）　09:00～16:00 \n会　場：じゅうろくプラザ \n  \n\n\n\n時間\n演題内容\n\n\n08:55 –\n09:00\n開講式\n\n\n09:00 –\n09:40\nERCP関連手技\n　[講師]　向井　強（岐阜市民病院　消化器内科）\n　[司会]　畠山　啓朗（JA岐阜県厚生連 西美濃厚生病院　内科）\n\n\n09:40 –\n10:20\n膵・胆道領域におけるEUS関連手技\n　[講師]　安田　一朗（富山大学大学院医学薬学研究部　内科学第三講座）\n　[司会]　畠山　啓朗（JA岐阜県厚生連 西美濃厚生病院　内科）\n\n\n休憩\n\n\n10:25 –\n11:05\n内視鏡のリスクマネジメント\n　[講師]　春日井　邦夫（愛知医科大学　消化管内科）\n　[司会]　加藤　則廣（岐阜市民病院　消化器内科）\n\n\n11:05 –\n11:45\n消化管出血に対する内視鏡治療　\n　[講師]　丸山　保彦（藤枝市立総合病院　消化器内科）　\n　[司会]　加藤　則廣（岐阜市民病院　消化器内科）\n\n\n休憩\n\n\n12:00 –\n13:00\nランチョンセミナー「画像協調観察の実際」\n　[講師]　荒木　寛司（岐阜大学医学部附属病院　光学医療診療部）\n　[司会]　八木　信明（朝日大学病院　消化器内科）\n\n\n休憩\n\n\n13:10 –\n13:50\n大腸腫瘍の診断と治療\n　[講師]　堀木　紀行（三重大学医学部附属病院　光学医療診療部）\n　[司会]　大宮　直木 (藤田医科大学　消化管内科)\n\n\n13:50 –\n14:30\n小腸疾患の診断と治療　\n　[講師]　中村　正直（名古屋大学医学部附属病院　消化器内科）\n　[司会]　大宮　直木 (藤田医科大学　消化管内科)\n\n\n休憩\n\n\n14:35 –\n15:15\n消化管腫瘍に対するESD\n　[講師]　山崎　健路（岐阜県総合医療センター　消化器内科）\n　[司会]　田近　正洋（愛知県がんセンター　内視鏡部）\n\n\n15:15 –\n15:55\n消化管腫瘍の病理診断と検体の取り扱い\n　[講師]　山田　鉄也（社会医療法人厚生会 木沢記念病院　病理診断センター）\n　[司会]　田近　正洋（愛知県がんセンター　内視鏡部）\n\n\n15:55 –\n閉講式・受講証授与
URL:https://www.jges.net/event/2019-19510
LOCATION:じゅうろくプラザ\, 橋本町1丁目10番地11\, 岐阜市\, 500-8856
CATEGORIES:支部例会,東海支部
END:VEVENT
END:VCALENDAR