BEGIN:VCALENDAR
VERSION:2.0
PRODID:-//日本消化器内視鏡学会 - ECPv6.10.1.1//NONSGML v1.0//EN
CALSCALE:GREGORIAN
METHOD:PUBLISH
X-ORIGINAL-URL:https://www.jges.net
X-WR-CALDESC:日本消化器内視鏡学会 のイベント
REFRESH-INTERVAL;VALUE=DURATION:PT1H
X-Robots-Tag:noindex
X-PUBLISHED-TTL:PT1H
BEGIN:VTIMEZONE
TZID:Asia/Tokyo
BEGIN:STANDARD
TZOFFSETFROM:+0900
TZOFFSETTO:+0900
TZNAME:JST
DTSTART:20220101T000000
END:STANDARD
END:VTIMEZONE
BEGIN:VEVENT
DTSTART;VALUE=DATE:20221127
DTEND;VALUE=DATE:20221128
DTSTAMP:20260421T095310
CREATED:20220627T041814Z
LAST-MODIFIED:20220627T041814Z
UID:59002-1669507200-1669593599@www.jges.net
SUMMARY:第119回　日本消化器内視鏡学会北陸支部例会
DESCRIPTION:多数の演題ご応募お待ちしています。 \n会長\n寺﨑　修一（金沢赤十字病院） \n会期\n2022年11月27日（日） \n会場\n石川県地場産業振興センター「新館」 \n〒920-8203　石川県金沢市鞍月2-1 \n例会ホームページ\nhttp://www.jges-hokuriku.jp/seminar/seminar.html \n演題募集期間：開始～終了\n2022年8月15日（月）～9月16日（金）→28日（水）正午 \n※演題募集期間を9月28日（水）正午まで延長いたしました。 \n募集内容：募集テーマ等\n消化器内視鏡に関する演題 \nプログラム概要\nパネルディスカッション：「胆膵内視鏡にまつわる問題とトラブルシューティング」 \n　座長 \n　　富山県立中央病院　消化器内科　松田耕一郎 \n　　福井大学附属病院　光学医療診療部　大谷昌弘 \n  \n教育講演：「ピロリ除菌後時代の胃悪性病変（仮題）」 \n　　がん研有明病院　平澤俊明 \n  \nランチョンセミナー：「最新の胆管治療デバイスと治療（仮題）」 \n　　埼玉医科大学総合医療センター　肝臓・消化器内科　松原三郎 \n  \n特別講演：「食道疾患の最新治療　難治性GERDの内視鏡治療を中心に（仮題）」 \n　　昭和大学江東豊洲病院　消化器センター　井上晴洋 \n  \n一般演題 \n  \n事務局\n金沢赤十字病院 \n〒921-8162　金沢市三馬2-251 \n担当　梶　喜一郎 \nTEL：076-242-8131　　FAX：076-243-7552 \nE-mail：bonchi.tasuke@gmail.com \n運営事務局\n株式会社キュービクス \n〒920-2161　石川県白山市熱野町ハ8番地1 \n担当　丹野・吉尾 \nTEL：076-201-8821　　FAX：076-272-2488 \nE-mail：hiroshi.tanno@kubix.co.jp
URL:https://www.jges.net/event/2022-59002
LOCATION:石川県地場産業振興センター新館\, 石川県金沢市鞍月2丁目1番地\, 金沢市\, 石川県\, 920-8203\, Japan
CATEGORIES:北陸支部
END:VEVENT
END:VCALENDAR