BEGIN:VCALENDAR
VERSION:2.0
PRODID:-//日本消化器内視鏡学会 - ECPv6.10.1.1//NONSGML v1.0//EN
CALSCALE:GREGORIAN
METHOD:PUBLISH
X-ORIGINAL-URL:https://www.jges.net
X-WR-CALDESC:日本消化器内視鏡学会 のイベント
REFRESH-INTERVAL;VALUE=DURATION:PT1H
X-Robots-Tag:noindex
X-PUBLISHED-TTL:PT1H
BEGIN:VTIMEZONE
TZID:Asia/Tokyo
BEGIN:STANDARD
TZOFFSETFROM:+0900
TZOFFSETTO:+0900
TZNAME:JST
DTSTART:20240101T000000
END:STANDARD
END:VTIMEZONE
BEGIN:VEVENT
DTSTART;VALUE=DATE:20240630
DTEND;VALUE=DATE:20240701
DTSTAMP:20260420T032643
CREATED:20231226T055044Z
LAST-MODIFIED:20231226T055044Z
UID:77336-1719705600-1719791999@www.jges.net
SUMMARY:第122回　日本消化器内視鏡学会北陸支部例会
DESCRIPTION:多数の演題応募とご参加をお待ちしております。 \n会長\n太田　肇（市立敦賀病院） \n会期\n2024年6月30日（日） \n会場\n福井大学医学部（福井県吉田郡永平寺町） \n〒910-1193　福井県吉田郡永平寺町松岡下合月23-3 \nTEL：0776-61-3111 \n例会ホームページ\nhttp://www.jges-hokuriku.jp/ \n演題募集期間\n2024年3月18日（月）～ 4月26日（金） → 5月7日（火）17時 \n※演題募集期間を5月7日（火）17時まで延長いたしました。 \n募集内容\nパネルディスカッション「胆膵EUS　手技の工夫とトラブルシューティング」公募・一部指定 \n一般演題　公募 \nプログラム概要\nパネルディスカッション「胆膵EUS　手技の工夫とトラブルシューティング」　 \n一般演題 \n教育講演\n内藤　裕二（京都府立医科大学　生体免疫栄養学） \n特別企画\n「太田肇先生を偲んで」 \nランチョンセミナー \n「肝疾患と酸分泌抑制薬（仮）」\n日高　央（北里大学　消化器内科） \n特別講演\n山本　博徳（自治医科大学　消化器内科） \n事務局\n金沢大学消化器内科　 \n〒920-8640 石川県金沢市宝町13-1\n担当：鷹取 元\nTEL076-265-2233 \nE-mail：hajimetakatori@gmail.com \n運営事務局\n株式会社キュービクス \n〒920-2161\n石川県白山市熱野町ハ8-1\n担当：丹野　博・吉尾　知子\nTEL：076-201-8821 　FAX：076-272-2488\nE-mail：hiroshi.tanno@kubix.co.jp \n  \n 
URL:https://www.jges.net/event/2023-77336
CATEGORIES:北陸支部,支部例会
END:VEVENT
END:VCALENDAR