BEGIN:VCALENDAR
VERSION:2.0
PRODID:-//日本消化器内視鏡学会 - ECPv6.10.1.1//NONSGML v1.0//EN
CALSCALE:GREGORIAN
METHOD:PUBLISH
X-ORIGINAL-URL:https://www.jges.net
X-WR-CALDESC:日本消化器内視鏡学会 のイベント
REFRESH-INTERVAL;VALUE=DURATION:PT1H
X-Robots-Tag:noindex
X-PUBLISHED-TTL:PT1H
BEGIN:VTIMEZONE
TZID:Asia/Tokyo
BEGIN:STANDARD
TZOFFSETFROM:+0900
TZOFFSETTO:+0900
TZNAME:JST
DTSTART:20230101T000000
END:STANDARD
END:VTIMEZONE
BEGIN:VEVENT
DTSTART;VALUE=DATE:20231126
DTEND;VALUE=DATE:20231127
DTSTAMP:20260420T105000
CREATED:20230630T023314Z
LAST-MODIFIED:20230630T023314Z
UID:71083-1700956800-1701043199@www.jges.net
SUMMARY:第121回　日本消化器内視鏡学会北陸支部例会
DESCRIPTION:多数の演題応募とご参加をお待ちしております。 \n会長\n北方 秀一（金沢医科大学 消化器内視鏡学） \n会期\n2023年11月26日（日） \n会場\n金沢医科大学　講義室（医学教育棟4F\, 5F） \n〒920-0293\n石川県河北郡内灘町大学1丁目1番地 \nTEL:076-286-2211（代表）　内線:35242 \n例会ホームページ\nhttp://www.jges-hokuriku.jp/seminar/seminar.html \n演題募集期間\n2023年8月14日（月）～9月15日（金） → 9月25日（月）17時まで \n※演題募集期間を9月25日（月）17時まで延長いたしました。 \n募集内容\n一般演題として「上部消化管」「下部消化管」「胆膵疾患」に関する演題を募集します。\nまた、専攻医・初期臨床研修医からの演題も募集します。 \nプログラム概要\nパネルディスカッション：北陸におけるLECSの現状と展望\n　　基調講演　比企 直樹（北里大学 上部消化管外科） \n教育講演：タイトル未定（上部消化管）\n　　川田 研郎（東京医科歯科大学 消化管外科学） \nランチョンセミナー：タイトル未定（胆膵内視鏡関連）\n　　潟沼 朗生（手稲渓仁会病院 消化器内科） \n特別講演：タイトル未定（炎症性腸疾患関連）\n　　猿田 雅之（東京慈恵会医科大学 消化器・肝臓内科） \n一般演題：公募\n事務局\n金沢医科大学　消化器内視鏡学 \n〒920-0293\n石川県河北郡内灘町大学1丁目1番地\nTEL:076-286-2211（代表）　内線:5242 \n担当：久能弘彰\nTEL：076-218-8415　 FAX：076-218-8416\nE-mail：jges@kanazawa-med.ac.jp \n運営事務局\n株式会社キュービクス \n〒920-2161\n石川県白山市熱野町ハ8-1 \n担当：丹野　博・吉尾　知子\nTEL：076-201-8821　 FAX：076-272-2488\nE-mail：hiroshi.tanno@kubix.co.jp \n 
URL:https://www.jges.net/event/2023-71083
LOCATION:金沢医科大学　講義室（医学教育棟4F\, 5F）\, 石川県河北郡内灘町大学1丁目1番地\, 920-0293
CATEGORIES:北陸支部,支部例会
END:VEVENT
END:VCALENDAR