BEGIN:VCALENDAR
VERSION:2.0
PRODID:-//日本消化器内視鏡学会 - ECPv6.10.1.1//NONSGML v1.0//EN
CALSCALE:GREGORIAN
METHOD:PUBLISH
X-WR-CALNAME:日本消化器内視鏡学会
X-ORIGINAL-URL:https://www.jges.net
X-WR-CALDESC:日本消化器内視鏡学会 のイベント
REFRESH-INTERVAL;VALUE=DURATION:PT1H
X-Robots-Tag:noindex
X-PUBLISHED-TTL:PT1H
BEGIN:VTIMEZONE
TZID:Asia/Tokyo
BEGIN:STANDARD
TZOFFSETFROM:+0900
TZOFFSETTO:+0900
TZNAME:JST
DTSTART:20220101T000000
END:STANDARD
END:VTIMEZONE
BEGIN:VEVENT
DTSTART;VALUE=DATE:20220703
DTEND;VALUE=DATE:20220704
DTSTAMP:20260423T163127
CREATED:20210128T013807Z
LAST-MODIFIED:20210128T013807Z
UID:38661-1656806400-1656892799@www.jges.net
SUMMARY:第128回　日本消化器内視鏡学会中国支部例会
DESCRIPTION:　この度、第128回日本消化器内視鏡学会中国支部例会を担当させて頂くことになり私自身研修医の時から一般演題、主題演題、共催セミナーでの発表、司会を経験してきており大変思い入れのある学会の学会長を拝命することを大変光栄であります。このような機会を与えて頂きました前支部長の岡山大学岡田裕之教授、現支部長の島根大学石原俊治教授、日本消化器内視鏡学会副理事長の広島大学田中信治教授、広島大学の茶山一彰前教授、支部役員、会員の先生に厚くお礼申し上げます。 \n　われわれ広島市立安佐市民病院としまして伝統ある日本消化器内視鏡学会中国支部例会のお世話をさせて頂きますのは第57回会長　奥原種臣先生、第103回会長　日高　徹先生に続き3回目になります。 \n　2022年（令和4年）5月連休に広島市立安佐市民病院は移転新築し病院名も広島市立北部医療センター安佐市民病院に変わります。その年に本学会を担当させて頂く事は大変嬉しく会員の先生にも印象に残る有意義な学会になるよう誠意準備を進めて参りたいと思います。 \n　プログラムは研修医奨励賞、専修医奨励賞、一般演題部門賞、実地医家部門賞、ワークショップ部門賞（大腸領域と胆膵領域）を予定しております。　　 \n　私は常々若い先生に内視鏡検査・治療の経験数より上級医の手技を「見て学ぶ」ことを伝えており、ワークショップでは動画を供覧し発表して頂きます。ぜひ、各施設からの演題発表を楽しみにしておいて下さい。また、日曜日開催のため実地医家の先生にも演題応募しやすいように一般演題とは別枠で実地医家部門を設定しておりますので多数の演題応募をお願い致します。 \n　その他、特別講演、モーニングセミナー、ランチョンセミナー、エキスパートセミナーを予定しております。 \n　新型コロナウイルス感染症の収束の見通しがたちませんが会員の先生にとって最善な形式で開催したいと思います。新型コロナウイルス感染症の流行により2年間対面式での学会開催が出来ておりません。現地参加による会場での質疑応答を含めた臨場感とたくさんの会員の先生に参加しやすいようにWEBを用いたハイブリッド形式での開催を検討しています。 \n　皆様奮って演題応募頂きますようお願い致します。久しぶりに広島でお目にかかれるのを楽しみにしています。 \n会長\n永田　信二（広島市立北部医療センター安佐市民病院） \n会期\n2022年（令和4年）7月3日（日） \n会場\n広島国際会議場（広島市） \n〒730-0811\n広島県広島市中区中島町１−５ \nTEL:082-242-7777 \n例会ホームページ\nhttps://www.kwcs.jp/jges-ch128/ \n演題募集期間\n2022（令和4年）2月2日（水）～3月2日（水）→3月9日（水）正午→3月14日（月）正午※募集終了 \n募集内容\n研修医奨励賞、専修医奨励賞、一般演題部門賞、実地医家部門賞、ワークショップ部門賞を募集します。\n実地医家部門賞は認定施設以外の開業医、中小病院の先生から積極的な募集を期待します。\n一般演題部門賞は一般演題の中から最優秀賞、優秀賞を選出します。\nワークショップ部門賞は「大腸領域」と「胆膵領域」で若手の先生が「見て学ぶ」事が出来る動画の供覧をお願いします。 \nプログラム\n研修医奨励賞\n専修医奨励賞\n一般演題部門賞\n実地医家部門賞\nワークショップ部門賞「大腸領域」と「胆膵領域」 \nワークショップ1　「大腸腫瘍性病変に対する内視鏡治療の最前線」\n司会：岡　志郎　（広島大学病院　消化器・代謝内科）\n　　　八島　一夫（鳥取大学医学部　消化器・腎臓内科学分野）\n【司会の言葉】\n大腸腫瘍性病変に対する内視鏡治療は，内視鏡機器の改良や内視鏡手技の進歩により大きく変化した。ESDの普及により早期大腸癌内視鏡治療の適応は拡大し，治療困難例や粘膜下層浸潤癌に対してもポケット法や牽引法，ハサミ型ナイフの併用やPAEM (peranal endoscopic myectomy)など様々な工夫を駆使し安全に確実に切除できるようになった。また，従来のEMRやpolypectomy手技においても，pre-cutting EMR やunderwater EMR，cold polypectomyなどにより効率的で安全なポリープ切除が行われるようになったが，適応や棲み分けについては議論が必要である。\n本ワークショップでは，各施設における大腸腫瘍性病変に対する最新の内視鏡治療のコツと工夫について動画を用いて発表していただき，治療法や適応について議論を深めたい。\n（共催：EAファーマ株式会社） \nワークショップ2「総胆管結石治療の現状と展望」\n司会：加藤博也（岡山大学病院　光学医療診療部）\n　　　花田敬士（JA尾道総合病院　消化器内科）\n【司会の言葉】\n内視鏡を用いた総胆管結石治療は近年大きく進歩したが，巨大結石に対するEMLとEHLの使い分けや，術後再建腸管を有する結石に対するアプローチ法など，デバイスや手技の選択に関して議論するべき点が多い。また，超高齢者に対してどこまで踏み込んだ治療を行うかなど病態に応じた治療法の選択も議論が必要である。\n本セッションでは，各施設における結石除去のストラテジー，治療成績について発表いただき議論を深めたい。多くの演題応募を期待する。\n（共催：ゼオンメディカル株式会社） \n  \n特別講演1 \n「消化器内視鏡関連開発研究のすすめ」 \n司会：永田信二（広島市立北部医療センター安佐市民病院） \n演者：炭山和毅（東京慈恵会医科大学　内視鏡医学講座） \n（共催：オリンパスマーケティング株式会社） \n  \n特別講演2 \n「クローン病の長期予後改善を目指して～最近の私の関心事～」 \n司会：石原俊治（島根大学医学部　内科学講座（内科学第二）） \n演者：江﨑幹宏（佐賀大学医学部　内科学講座　消化器内科） \n（共催：ヤンセンファーマ株式会社／田辺三菱製薬株式会社） \n  \nモーニングレクチャー1 \n「上部消化管良性疾患のトピックス～逆流性食道炎\, 自己免疫性胃炎\, GAPを中心に～」 \n司会：西川潤　（山口大学大学院医学系研究科　基礎検査学分野） \n演者：鎌田智有（川崎医科大学　健康管理学） \n（共催：武田薬品工業株式会社） \n  \nモーニングレクチャー2 \n「DBE を多角的に使い熟す」 \n司会：塩谷昭子（川崎医科大学　消化器内科学） \n演者：青山大輝（広島市立北部医療センター安佐市民病院　消化器内科） \n（共催：富士フイルムメディカル株式会社） \n  \nモーニングレクチャー3 \n「小型大腸ポリープへの内視鏡診断と治療」 \n司会：河原祥朗（岡山大学学術研究院医歯薬学域　実践地域内視鏡学講座） \n演者：浦岡俊夫（群馬大学大学院医学系研究科　内科学講座　消化器・肝臓内科学分野） \n（共催：ボストンサイエンティフィックジャパン株式会社） \n  \nランチョンセミナー1 \n「消化器症状における漢方治療の最前線～新たなエビデンスを含めて～」 \n司会：石村典久（島根大学医学部　内科学講座第二） \n演者：眞部紀明（川崎医科大学　検査診断学（内視鏡・超音波）） \n（共催：株式会社ツムラ） \n  \nランチョンセミナー2 \n「炎症性腸疾患治療指針・ガイドライン改訂のポイント」 \n司会：磯本　一（鳥取大学医学部　消化器腎臓内科学分野） \n演者：長沼　誠（関西医科大学　内科学第三講座） \n（共催：アッヴィ合同会社） \n  \nランチョンセミナー3 \n「胆膵内視鏡診療の最前線」 \n司会：高見太郎（山口大学大学院医学系研究科 消化器内科学） \n演者：良沢昭銘（埼玉医科大学国際医療センター　消化器内科） \n（共催：株式会社カネカメディックス） \n  \nエキスパートセミナー1 \n「膵臓疾患の内視鏡診断と治療」 \n司会：河本博文（川崎医科大学総合医療センター　内科） \n演者：芹川正浩（広島大学病院　消化器・代謝内科） \n（共催：富士フイルムメディカル株式会社） \n  \nエキスパートセミナー2 \n「最新機器を用いた内視鏡診療の実際」 \n司会：伊藤公訓　（広島大学病院　総合内科・総合診療科） \n演者：鴫田賢次郎（広島市立北部医療センター安佐市民病院　内視鏡内科） \n（共催：株式会社アムコ） \n  \n会長講演 \n「出会いと内視鏡」 \n司会：田中信治（広島大学大学院医系科学研究科　内視鏡医学） \n演者：永田信二（広島市立北部医療センター安佐市民病院） \n（共催：大塚製薬株式会社） \n事務局\n広島市立安佐市民病院\n〒731-0293\n広島県広島市安佐北区亀山南一丁目2番1号\n担当　内視鏡内科　福本　晃\nTEL：082-815-5211 FAX：082-814-1791 \n運営事務局\n株式会社キョードープラス \n〒701-0205\n岡山県岡山市南区妹尾2346-1\n担当　浅山祐介\nTEL：086-250-7681 　FAX：086-250-7682\nE-mail：jges-ch128@kwcs.jp \n  \nたくさんの先生の演題応募とご参加をよろしくお願い致します。 \n2022年7月3日に広島市で会員の先生にお会い出来ることを祈念します。 \n  \n【開催形式】 \n　現地会場（広島国際会議場）とライブ配信のハイブリッド形式で開催いたします。 \n　オンラインの参加登録も以下の日程で実施いたしますので、ぜひご登録ください。 \n【オンライン参加登録】 \n　2022年6月1日（水）正午～7月3日（日） \n　第128回日本消化器内視鏡学会中国支部例会ホームページよりご登録ください。
URL:https://www.jges.net/event/2021-38661
LOCATION:広島国際会議場\, 中区中島町1番5号\, 広島市\, 広島県\, 730-0811\, 日本
CATEGORIES:中国支部,支部例会
END:VEVENT
END:VCALENDAR