BEGIN:VCALENDAR
VERSION:2.0
PRODID:-//日本消化器内視鏡学会 - ECPv6.10.1.1//NONSGML v1.0//EN
CALSCALE:GREGORIAN
METHOD:PUBLISH
X-ORIGINAL-URL:https://www.jges.net
X-WR-CALDESC:日本消化器内視鏡学会 のイベント
REFRESH-INTERVAL;VALUE=DURATION:PT1H
X-Robots-Tag:noindex
X-PUBLISHED-TTL:PT1H
BEGIN:VTIMEZONE
TZID:Asia/Tokyo
BEGIN:STANDARD
TZOFFSETFROM:+0900
TZOFFSETTO:+0900
TZNAME:JST
DTSTART:20240101T000000
END:STANDARD
END:VTIMEZONE
BEGIN:VEVENT
DTSTART;VALUE=DATE:20241130
DTEND;VALUE=DATE:20241202
DTSTAMP:20260426T125800
CREATED:20231013T080918Z
LAST-MODIFIED:20231013T080918Z
UID:73584-1732924800-1733097599@www.jges.net
SUMMARY:第133回　日本消化器内視鏡学会四国支部例会
DESCRIPTION:第133回日本消化器内視鏡学会四国支部例会を下記の要領で開催させていただきます。本支部例会は第122回日本消化器病学会四国支部例会（会長　阿部雅則先生、愛媛大学大学院　消化器・内分泌・代謝内科学）との合同開催となります。会員の皆様には多数の演題応募およびご参加をお願い申し上げます。 \n会長\n宮田　英樹（愛媛県立中央病院 消化器内科） \n会期\n2024年11月30日（土）～12月1日（日） \n会場\n松山市総合コミュニティーセンター \n〒790-0012　愛媛県松山市湊町七丁目5番地 \n例会ホームページアドレス\nhttp://www.e-g.co.jp/jsge-sk122133/ \n演題募集期間\n2024年7月17日（水）～8月19日（月） \n募集内容\n未定 \nプログラム概要\n準備中 \n事務局\n愛媛県立中央病院　消化器内科 \n〒790-0024\n松山市春日町83番地\n担当：宮田英樹\nTEL：089-947-1111　FAX：089-943-4136\nE-mail：tenchijin.hideki0527@gmail.com \n運営事務局\nイブニング・グロー \n〒780-0912 高知市八反町1-15-15\n担当：豊永あき\nTEL：088-824-2715　FAX：088-824-9244\nE-mail：jsge-sk122133@e-g.co.jp
URL:https://www.jges.net/event/2023-73584
LOCATION:松山市総合コミュニティセンター
CATEGORIES:四国支部,支部例会
END:VEVENT
END:VCALENDAR