BEGIN:VCALENDAR
VERSION:2.0
PRODID:-//日本消化器内視鏡学会 - ECPv6.10.1.1//NONSGML v1.0//EN
CALSCALE:GREGORIAN
METHOD:PUBLISH
X-WR-CALNAME:日本消化器内視鏡学会
X-ORIGINAL-URL:https://www.jges.net
X-WR-CALDESC:日本消化器内視鏡学会 のイベント
REFRESH-INTERVAL;VALUE=DURATION:PT1H
X-Robots-Tag:noindex
X-PUBLISHED-TTL:PT1H
BEGIN:VTIMEZONE
TZID:Asia/Tokyo
BEGIN:STANDARD
TZOFFSETFROM:+0900
TZOFFSETTO:+0900
TZNAME:JST
DTSTART:20130101T000000
END:STANDARD
END:VTIMEZONE
BEGIN:VEVENT
DTSTART;TZID=Asia/Tokyo:20131109T110000
DTEND;TZID=Asia/Tokyo:20131109T160000
DTSTAMP:20260421T032153
CREATED:20170131T095432Z
LAST-MODIFIED:20170131T095432Z
UID:7267-1383994800-1384012800@www.jges.net
SUMMARY:第5回　北海道ESDライブ
DESCRIPTION:代表世話人：近藤　仁（斗南病院　消化器病センター） \n会期：平成25年11月9日（土）11：00～16：00（17：00まで延長の可能性があります） \n会場：\n札幌ガーデンパレス\n 札幌市中央区北1条西6丁目\n TEL：011-261-5311 \nゲストデモンストレーター\n町田浩久（まちだ胃腸病院） \n世話人（五十音順）\n石後岡正弘（勤医協中央病院　外科）\n 太田　智之（札幌東徳洲会病院　消化器科）\n 勝木　伸一（小樽掖済会病院　消化器病センター）\n 加藤　貴司（北海道消化器科病院　内科）\n 佐川　　保（北海道がんセンター）\n 佐藤　康史（札幌医科大学　第四内科）\n 清水　勇一（北海道大学　第三内科）\n 関　　英幸（ＫＫＲ札幌医療センター　消化器科）\n 高橋　宏明（恵佑会札幌病院　消化器内科）\n 田邊　裕貴（旭川医科大学　第三内科）\n 平山　眞章（斗南病院　消化器病センター）\n 前田　　聡（札幌厚生病院　第一消化器科）\n 三井　慎也（手稲渓仁会病院　消化器病センター）\n 山下健太郎（札幌医科大学　第一内科） \n参加費：\n医師 5\,000円\n コ・メディカル 3\,000円 \n事務局：\n斗南病院　住吉徹哉\n TEL：011-231-2121（代表） \n共催：\n北海道ＥＳＤ研究会\n オリンパスメディカルシステムズ株式会社\n エーザイ株式会社
URL:https://www.jges.net/event/2017-7267
LOCATION:札幌ガーデンパレス\, 中央区北1条西6丁目\, 札幌市\, 北海道\, 0600001\, Japan
CATEGORIES:共催・後援ライブセミナー・ハンズオンセミナー
END:VEVENT
BEGIN:VEVENT
DTSTART;TZID=Asia/Tokyo:20130831T100000
DTEND;TZID=Asia/Tokyo:20130831T160000
DTSTAMP:20260421T032153
CREATED:20170131T094123Z
LAST-MODIFIED:20170131T094123Z
UID:7247-1377943200-1377964800@www.jges.net
SUMMARY:第11回仙台ライブ－仙台治療内視鏡ワークショップ－
DESCRIPTION:代表世話人：藤田　直孝（仙台市医療センター仙台オープン病院　副院長） \n会　期：平成25年8月31日（土）10：00-16：00 \n会　場：\n 仙台市医療センター仙台オープン病院２階　大会議室\n 〒983-0824　仙台市宮城野区鶴ヶ谷５−２２−１ \n定　員：120名（定員になり次第、締め切らせていただきます） \n内　容：\n 消化管、膵胆道における最新の内視鏡処置のポイントをライブデモンストレーションでお示しいたします。 \n\n EMR/ESD\n 大腸挿入法\n NBI/拡大内視鏡検査\n EUS（消化管・胆膵）\n ERCP\n EST/stenting　その他\n\n招待術者：\n 八木　一芳（新潟県立吉田病院）\n 齋藤　豊　（国立がん研究センター中央病院） \nGuest Faculty：\n 小山　恒男（佐久総合病院）\n 後藤田卓志（東京医科大学病院）\n 豊永　高史（神戸大学医学部附属病院） \nミニレクチャー：\n 田尻久雄（東京慈恵会医科大学附属病院）\n 「消化器内視鏡の近未来」 \n参加費：10\,000円 \n事務局：\n 仙台市医療センター　仙台オープン病院消化器内科内\n 仙台治療内視鏡ワークショップ事務局\n Tel. 022-252-1111（代）\n Fax 022-252-9431 \n申し込み方法：送付先を明記の上Faxにて上記事務局まで、申込用紙をご請求ください。
URL:https://www.jges.net/event/2017-7247
LOCATION:仙台市医療センター仙台オープン病院\, 宮城野区鶴ヶ谷5-22-1\, 仙台市\, 宮城県\, 9830824\, Japan
CATEGORIES:共催・後援ライブセミナー・ハンズオンセミナー
END:VEVENT
END:VCALENDAR