BEGIN:VCALENDAR
VERSION:2.0
PRODID:-//日本消化器内視鏡学会 - ECPv6.10.1.1//NONSGML v1.0//EN
CALSCALE:GREGORIAN
METHOD:PUBLISH
X-WR-CALNAME:日本消化器内視鏡学会
X-ORIGINAL-URL:https://www.jges.net
X-WR-CALDESC:日本消化器内視鏡学会 のイベント
REFRESH-INTERVAL;VALUE=DURATION:PT1H
X-Robots-Tag:noindex
X-PUBLISHED-TTL:PT1H
BEGIN:VTIMEZONE
TZID:Asia/Tokyo
BEGIN:STANDARD
TZOFFSETFROM:+0900
TZOFFSETTO:+0900
TZNAME:JST
DTSTART:20180101T000000
END:STANDARD
END:VTIMEZONE
BEGIN:VEVENT
DTSTART;TZID=Asia/Tokyo:20181201T093000
DTEND;TZID=Asia/Tokyo:20181201T160000
DTSTAMP:20260420T071149
CREATED:20180724T104217Z
LAST-MODIFIED:20180724T104217Z
UID:12825-1543656600-1543680000@www.jges.net
SUMMARY:東北GIイノベーション　仙台ライブ2018（2018/07/24更新）
DESCRIPTION:日時\n2018年12月1日(土)　9:30-16:00　(予定) \n場所\n仙台厚生病院　管理棟1階　熊谷・海老名ホール\n宮城県仙台市青葉区広瀬町4-15 \n連絡先\nTEL　022-222-6181\nFAX　022-713-8013 \n内容\n消化器疾患における最新の内視鏡診断/治療のコツとポイントをLive Demonstrationでお示しします。拡大内視鏡、エンドサイト、AI診断、ESD、EUS、ERCP関連手技など。 \n定員\n120名 \n参加費\n医師・企業 10\,000円、パラメディカル 3\,000円 \n申込方法\n仙台厚生病院　東北GIイノベーション・仙台ライブ事務局\n〒980-0873　仙台市青葉区広瀬町4-15\nTEL：022-222-6181（内線666） \n申し込み方法\n仙台厚生病院ホームページからご登録ください。\nhttp://www.sendai-kousei-hospital.jp/medical/digestive/advanced01.html
URL:https://www.jges.net/event/2018-12825
LOCATION:仙台厚生病院\, 青葉区広瀬町4-15\, 仙台市\, 宮城県\, 9800873\, Japan
CATEGORIES:共催・後援ライブセミナー・ハンズオンセミナー
END:VEVENT
END:VCALENDAR