BEGIN:VCALENDAR
VERSION:2.0
PRODID:-//日本消化器内視鏡学会 - ECPv6.10.1.1//NONSGML v1.0//EN
CALSCALE:GREGORIAN
METHOD:PUBLISH
X-ORIGINAL-URL:https://www.jges.net
X-WR-CALDESC:日本消化器内視鏡学会 のイベント
REFRESH-INTERVAL;VALUE=DURATION:PT1H
X-Robots-Tag:noindex
X-PUBLISHED-TTL:PT1H
BEGIN:VTIMEZONE
TZID:Asia/Tokyo
BEGIN:STANDARD
TZOFFSETFROM:+0900
TZOFFSETTO:+0900
TZNAME:JST
DTSTART:20190101T000000
END:STANDARD
END:VTIMEZONE
BEGIN:VEVENT
DTSTART;TZID=Asia/Tokyo:20190629T100000
DTEND;TZID=Asia/Tokyo:20190629T160000
DTSTAMP:20260420T142247
CREATED:20190206T001907Z
LAST-MODIFIED:20190206T001907Z
UID:18235-1561802400-1561824000@www.jges.net
SUMMARY:仙台内視鏡治療ライブセミナー２０１９
DESCRIPTION:一般社団法人 日本消化器内視鏡学会 共催（予定） \n参加者には、専門医・指導医の資格申請／更新に必要な単位５点が付与されます。 \n日時\n2019年6月29日（土）10:00～16:00 \n場所\n仙台オープン病院Ｃ棟地下１Ｆ 大会議室 \n宮城県仙台市宮城野区鶴ヶ谷5-22-1 \n定員\n120名(定員になり次第、締切らせていただきます) \n内容\n膵胆道疾患における最新の内視鏡診断と治療関連手技 \n（EUSの描出法、EUS-FNA、Interventional EUS、胆道鏡、胆道stenting、胆管結石除去術、小腸鏡など）のLive Demoを学術的知見と融合した独自の手法でお示しいたします。 \nGuest Faculty（順不同）\n北野 雅之 先生（和歌山県立医科大学 消化器内科 教授） \n河上 洋 先生（宮崎大学医学部附属病院 消化器内科学 教授） \n原 和生 先生（愛知県がんセンター 消化器内科 部長） \n島谷 昌明 先生（関西医科大学附属病院 消化器肝臓内科 准教授） \n加藤 博也 先生（岡山大学病院 消化器内科 助教） \nHost Faculty\n仙台市医療センター 仙台オープン病院 消化管・肝胆膵内科 \n伊藤 啓 \n越田 真介 \n菅野 良秀 \n参加費\n10\,000円（コメディカルスタッフ 3\,000円） \n申込方法\nWebサイトより事前登録をお願い致します。 \nURL : https://sendailive.com \n事務局\n仙台内視鏡治療ライブセミナー \nTEL：022-252-1111（代表） \nURL：https://sendailive.com \n後援\n宮城県医師会／仙台市医師会（予定） \n 
URL:https://www.jges.net/event/2019-18235
LOCATION:仙台市医療センター仙台オープン病院\, 宮城野区鶴ヶ谷5-22-1\, 仙台市\, 宮城県\, 9830824\, Japan
CATEGORIES:共催・後援ライブセミナー・ハンズオンセミナー
END:VEVENT
END:VCALENDAR