BEGIN:VCALENDAR
VERSION:2.0
PRODID:-//日本消化器内視鏡学会 - ECPv6.10.1.1//NONSGML v1.0//EN
CALSCALE:GREGORIAN
METHOD:PUBLISH
X-ORIGINAL-URL:https://www.jges.net
X-WR-CALDESC:日本消化器内視鏡学会 のイベント
REFRESH-INTERVAL;VALUE=DURATION:PT1H
X-Robots-Tag:noindex
X-PUBLISHED-TTL:PT1H
BEGIN:VTIMEZONE
TZID:Asia/Tokyo
BEGIN:STANDARD
TZOFFSETFROM:+0900
TZOFFSETTO:+0900
TZNAME:JST
DTSTART:20190101T000000
END:STANDARD
END:VTIMEZONE
BEGIN:VEVENT
DTSTART;TZID=Asia/Tokyo:20191012T100000
DTEND;TZID=Asia/Tokyo:20191012T173000
DTSTAMP:20260420T214018
CREATED:20190606T061410Z
LAST-MODIFIED:20190606T061410Z
UID:19785-1570874400-1570901400@www.jges.net
SUMMARY:第17回　北海道胆膵内視鏡診断・治療研究会ライブセミナー
DESCRIPTION:会　期\n2019年10月12日（土）10:00~17:30 \n会　場\n手稲渓仁会病院 渓仁会ビル2F 大会議室 \n〒006-0811 \n札幌市手稲区前田1条12丁目2丁目355番地 \nTEL：011-747-1457 \n代表世話人\n潟沼 朗生（医療法人渓仁会　手稲渓仁会病院　消化器病センター長） \nホームページ\nhttp://teine-live.hkdo.jp \n運営事務局\nマイス株式会社 \n〒060-0041 \n札幌市中央区大通東7丁目18-2 EAST7ビル7F \nTEL：011-280-8008 \nFAX：011-280-4000 \nEmail：contact@teine-live.hkdo.jp \n 
URL:https://www.jges.net/event/2019-19785
LOCATION:手稲渓仁会病院\, 札幌市手稲区前田1条12丁目2丁目355番地\, 006-0811
CATEGORIES:共催・後援ライブセミナー・ハンズオンセミナー
END:VEVENT
END:VCALENDAR