BEGIN:VCALENDAR
VERSION:2.0
PRODID:-//日本消化器内視鏡学会 - ECPv6.10.1.1//NONSGML v1.0//EN
CALSCALE:GREGORIAN
METHOD:PUBLISH
X-WR-CALNAME:日本消化器内視鏡学会
X-ORIGINAL-URL:https://www.jges.net
X-WR-CALDESC:日本消化器内視鏡学会 のイベント
REFRESH-INTERVAL;VALUE=DURATION:PT1H
X-Robots-Tag:noindex
X-PUBLISHED-TTL:PT1H
BEGIN:VTIMEZONE
TZID:Asia/Tokyo
BEGIN:STANDARD
TZOFFSETFROM:+0900
TZOFFSETTO:+0900
TZNAME:JST
DTSTART:20200101T000000
END:STANDARD
END:VTIMEZONE
BEGIN:VEVENT
DTSTART;TZID=Asia/Tokyo:20200704T100000
DTEND;TZID=Asia/Tokyo:20200704T160000
DTSTAMP:20260421T194235
CREATED:20191223T060729Z
LAST-MODIFIED:20191223T060729Z
UID:25538-1593856800-1593878400@www.jges.net
SUMMARY:仙台内視鏡治療ライブセミナー2020※開催中止
DESCRIPTION:新型コロナウイルス発生拡大に伴い、2020年7月の仙台内視鏡治療ライブセミナー2020の開催は中止となりました。 \n日時\n2020年7月4日（土）10:00～16:00（予定） \n場所\n公益財団法人仙台市医療センター・仙台オープン病院　大会議室 \n〒983-0824 宮城県仙台市宮城野区鶴ヶ谷5-22-1 \nTEL: 022-252-1111 \n定員\n120名(定員になり次第、締切らせていただきます) \nGuest Faculty（順不同）\n良沢　昭銘　先生（埼玉医科大学国際医療センター　消化器内科　教授） \n菅野　敦　先生（東北大学　消化器内科　講師） \n河上　洋　先生（宮崎大学　内科学講座　消化器内科学分野　教授） \n原　和生　先生（愛知県がんセンター　消化器内科　部長） \n竹中　完　先生（近畿大学　消化器内科　講師） \n中原　一有　先生（聖マリアンナ医科大学　消化器・肝臓内科　講師） \nHost Faculty\n伊藤　啓（仙台市医療センター・仙台オープン病院　消化管・肝胆膵内科） \n越田　真介（仙台市医療センター・仙台オープン病院　消化管・肝胆膵内科） \n菅野　良秀（仙台市医療センター・仙台オープン病院　消化管・肝胆膵内科） \n参加費\n医師　¥10.000　（メディカルスタッフ¥3.000） \n※仙台内視鏡治療ライブセミナー2020お申し込みについて参加費は事前登録制とさせていただきます。 \n定員に達し次第締め切りとさせていただきますので予めご了承ください。 \n申込方法\nWebサイトより事前登録をお願い致します。 \nURL : https://sendailive.com \n事務局\n事務局　仙台オープン病院 \nTEL：022-252-1111（代表） \ne-mail：hishoshitu@openhp.or.jp \n運営事務局　株式会社東北共立 \nTEL：022-246-2591 \ne-mail：koashi@tohoku-kyoritz.co.jp \n 
URL:https://www.jges.net/event/2019-25538
CATEGORIES:共催・後援ライブセミナー・ハンズオンセミナー
END:VEVENT
END:VCALENDAR