BEGIN:VCALENDAR
VERSION:2.0
PRODID:-//日本消化器内視鏡学会 - ECPv6.10.1.1//NONSGML v1.0//EN
CALSCALE:GREGORIAN
METHOD:PUBLISH
X-ORIGINAL-URL:https://www.jges.net
X-WR-CALDESC:日本消化器内視鏡学会 のイベント
REFRESH-INTERVAL;VALUE=DURATION:PT1H
X-Robots-Tag:noindex
X-PUBLISHED-TTL:PT1H
BEGIN:VTIMEZONE
TZID:Asia/Tokyo
BEGIN:STANDARD
TZOFFSETFROM:+0900
TZOFFSETTO:+0900
TZNAME:JST
DTSTART:20210101T000000
END:STANDARD
END:VTIMEZONE
BEGIN:VEVENT
DTSTART;TZID=Asia/Tokyo:20210327T093000
DTEND;TZID=Asia/Tokyo:20210327T170000
DTSTAMP:20260422T043638
CREATED:20210308T044100Z
LAST-MODIFIED:20210308T044100Z
UID:40312-1616837400-1616864400@www.jges.net
SUMMARY:Kinki Live Endoscopy 2021　第16回近畿内視鏡治療研究会ライブセミナー
DESCRIPTION:日時\n2021年3月27日（土）9:30～17:00 \n場所\n草津総合病院9階 あおばなホール \n滋賀県草津市矢橋町1660　Tel 077－563－8866 \n定員\n150名 \n当番幹事\n豊永高史（神戸大学　光学医療診療部） \nGuest　Faculty\n小山　恒男先生（佐久医療センター 内視鏡内科） \n池原　久朝先生（日本大学 消化器肝臓内科） \nHost　Faculty\n伴　宏充先生　(草津総合病院　消化器内科) \nランチョンセミナー\n「生検の延長がESD ! 〜難しい操作は必要ない」 \n後藤田卓志先生（日本大学医学部内科学系消化器肝臓内科学分野 教授） \n＜共催：富士フイルムメディカル株式会社＞ \n病院側Faculty\n道田　知樹（大阪国際がんセンター 消化管内科） \n森田　圭紀（神戸大学 国際がん医療・研究センター） \n山本 克己 （JCHO大阪病院 消化器内科） \n竹内　洋司（大阪国際がんセンター 消化管内科） \n赤松 拓司 （日本赤十字社和歌山医療センター 消化器内科） \nスポンサードセミナー\n上堂　文也（大阪国際がんセンター 消化管内科） \n北村 陽子 （市立奈良病院 消化器内科) \n＜共催：株式会社アムコ/株式会社トップ/ボストン・サイエンテイフィック ジャパン株式会社＞ \n会場側　Faculty\n梅垣　英次（川崎医科大学 消化管内科学） \n町田　浩久（まちだ胃腸病院 内科） \n滝本　見吾（宇治徳洲会病院 消化器内科） \n  \n第16回近畿内視鏡治療研究会ライブセミナーお申し込みについて\n参加費\n参加費　￥10\,000（医師・企業）　　￥3\,000（コメディカル） \n参加費のお振込みの確認にて登録完了とさせて頂きます。（事前振込み制） \n定員に達し次第、締切とさせていただきますので予めご了承ください。 \n　当日受付は　￥12\,000（医師・企業）　￥4\,000（コメディカル）となります。 \nお申し込み方法\nWebサイトよりお申込みください。　 \nhttps://kinki-live.jp \n折り返し、e-mailにて受付確認および参加費振込先のご連絡をさせて頂きます。 \nお問い合わせ\n事務局代行 \n近畿内視鏡治療研究会ライブセミナー事務局 \nE-mail: kinki@med.kobe-u.ac.jp \n共催 \n近畿内視鏡治療研究会/神戸国際消化器内視鏡教育センター/日本消化器内視鏡学会
URL:https://www.jges.net/event/2021-40312
CATEGORIES:共催・後援ライブセミナー・ハンズオンセミナー
END:VEVENT
END:VCALENDAR