BEGIN:VCALENDAR
VERSION:2.0
PRODID:-//日本消化器内視鏡学会 - ECPv6.10.1.1//NONSGML v1.0//EN
CALSCALE:GREGORIAN
METHOD:PUBLISH
X-ORIGINAL-URL:https://www.jges.net
X-WR-CALDESC:日本消化器内視鏡学会 のイベント
REFRESH-INTERVAL;VALUE=DURATION:PT1H
X-Robots-Tag:noindex
X-PUBLISHED-TTL:PT1H
BEGIN:VTIMEZONE
TZID:Asia/Tokyo
BEGIN:STANDARD
TZOFFSETFROM:+0900
TZOFFSETTO:+0900
TZNAME:JST
DTSTART:20210101T000000
END:STANDARD
END:VTIMEZONE
BEGIN:VEVENT
DTSTART;TZID=Asia/Tokyo:20210619T080000
DTEND;TZID=Asia/Tokyo:20210619T170000
DTSTAMP:20260422T070129
CREATED:20210122T011057Z
LAST-MODIFIED:20210122T011057Z
UID:38369-1624089600-1624122000@www.jges.net
SUMMARY:北里Interventional EUSセミナー※開催中止のお知らせ
DESCRIPTION:  \n  \n2021年度6月19日に予定していました北里Interventional EUSセミナーについて、 \nCOVID-19の状況を鑑み、今年度は中止とすることとしました。 \n  \n是非、来年はコロナVirusが終息して、晴れてセミナーが開催できることを祈っております。 \nその際には、皆様の参加をお待ちしております \n  \n北里大学医学部消化器内科 \n木田　光広
URL:https://www.jges.net/event/2021-38369
CATEGORIES:共催・後援ライブセミナー・ハンズオンセミナー
END:VEVENT
END:VCALENDAR