BEGIN:VCALENDAR
VERSION:2.0
PRODID:-//日本消化器内視鏡学会 - ECPv6.10.1.1//NONSGML v1.0//EN
CALSCALE:GREGORIAN
METHOD:PUBLISH
X-WR-CALNAME:日本消化器内視鏡学会
X-ORIGINAL-URL:https://www.jges.net
X-WR-CALDESC:日本消化器内視鏡学会 のイベント
REFRESH-INTERVAL;VALUE=DURATION:PT1H
X-Robots-Tag:noindex
X-PUBLISHED-TTL:PT1H
BEGIN:VTIMEZONE
TZID:Asia/Tokyo
BEGIN:STANDARD
TZOFFSETFROM:+0900
TZOFFSETTO:+0900
TZNAME:JST
DTSTART:20210101T000000
END:STANDARD
END:VTIMEZONE
BEGIN:VEVENT
DTSTART;TZID=Asia/Tokyo:20210828T090000
DTEND;TZID=Asia/Tokyo:20210828T161000
DTSTAMP:20260422T081502
CREATED:20210216T043617Z
LAST-MODIFIED:20210216T043617Z
UID:39353-1630141200-1630167000@www.jges.net
SUMMARY:第14回　広島消化管内視鏡ライブセミナーのご案内
DESCRIPTION:  \n本年度は、コロナ禍につき、Webinarの形式で開催させていただきます。 \n会期\n2021年8月28日（土）9：00 – 16：10 \n会場\n広島大学病院内視鏡診療科からWEB中継 \n参加費\n無料 \n代表世話人\n茶山　一彰（広島大学病院 消化器･代謝内科） \n田中　信治（広島大学病院 内視鏡診療科） \n術　者／コメンテーター\n小山　恒男 （佐久医療センター） \n後藤田　卓志（日本大学） \n斎藤　豊（国立がん研究センター中央病院） \n田中　信治 （広島大学） \n本間　清明（ほんま内科胃腸科医院） \n矢作　直久（慶応義塾大学）　 \n特別講演（モーニングセミナー）講師\n井上　晴洋（昭和大学江東豊洲病院） \n特別講演（ランチョンセミナー）講師\n田尻　久雄（東京慈恵会医科大学） \n司会\n梅垣　英次（川崎医科大学） \n岡　 志郎（広島大学） \n申込方法\nWebサイトよりお申し込みください。 \nURL : https://hirolive.hiroshima-u.ac.jp/ \n※8月半ばに聴講用WEBのURLをメールでお送りいたします。 \n事務局\n広島消化管内視鏡ライブセミナー事務局 \n〒734-8551　広島市南区霞1-2-3 \n担当：秋山 佳子（広島大学 内視鏡診療科 教授室） \nTEL：082-257-5538 \nFAX：082-253-2930 \nE-mail：hirolive@hiroshima-u.ac.jp \n 
URL:https://www.jges.net/event/2021-39353
CATEGORIES:共催・後援ライブセミナー・ハンズオンセミナー
END:VEVENT
END:VCALENDAR