BEGIN:VCALENDAR
VERSION:2.0
PRODID:-//日本消化器内視鏡学会 - ECPv6.10.1.1//NONSGML v1.0//EN
CALSCALE:GREGORIAN
METHOD:PUBLISH
X-WR-CALNAME:日本消化器内視鏡学会
X-ORIGINAL-URL:https://www.jges.net
X-WR-CALDESC:日本消化器内視鏡学会 のイベント
REFRESH-INTERVAL;VALUE=DURATION:PT1H
X-Robots-Tag:noindex
X-PUBLISHED-TTL:PT1H
BEGIN:VTIMEZONE
TZID:Asia/Tokyo
BEGIN:STANDARD
TZOFFSETFROM:+0900
TZOFFSETTO:+0900
TZNAME:JST
DTSTART:20220101T000000
END:STANDARD
END:VTIMEZONE
BEGIN:VEVENT
DTSTART;TZID=Asia/Tokyo:20220604T100000
DTEND;TZID=Asia/Tokyo:20220604T160000
DTSTAMP:20260423T045053
CREATED:20211214T004459Z
LAST-MODIFIED:20211214T004459Z
UID:51550-1654336800-1654358400@www.jges.net
SUMMARY:仙台内視鏡治療ライブセミナー2022
DESCRIPTION:日時\n2022年6月4日（土）　10:00〜16:00（予定） \n場所\n公益財団法人仙台市医療センター・仙台オープン病院　大会議室 \n〒983-0824 宮城県仙台市宮城野区鶴ヶ谷5-22-1 \nTEL: 022-252-1111 \n定員\n100名 \nGuest faculty\n良沢昭銘　先生 \n（埼玉医科大学国際医療センター　消化器内科　教授） \n菅野敦　先生 \n（自治医科大学　消化器内科　講師） \n河上洋　先生 \n（宮崎大学　消化器内科学講座　教授） \n原和生　先生 \n（愛知県がんセンター　消化器内科　部長） \n竹中完　先生 \n（近畿大学　消化器内科　講師） \n中原一有　先生 \n（聖マリアンナ医科大学　消化器・肝臓内科　准教授） \nHost faculty\n伊藤啓 \n（仙台市医療センター・仙台オープン病院　消化管・肝胆膵内科） \n越田真介 \n（仙台市医療センター・仙台オープン病院　消化管・肝胆膵内科） \n菅野良秀 \n（仙台市医療センター・仙台オープン病院　消化管・肝胆膵内科） \n仙台内視鏡治療ライブセミナー2022お申し込みについて\n参加費　¥10.000（医師）　¥3.000（メディカルスタッフ） \n参加費は事前登録制とさせていただきます。 \n定員に達し次第締め切りとさせていただきますので予めご了承ください。 \nお申し込み方法\nWebサイトからお申し込みください。 \nhttps://sendailive.com \nお問い合わせ\n事務局　仙台オープン病院　022-252-1111（代表） \nhishoshitu@openhp.or.jp \n運営事務局　株式会社東北共立　022-246-2591 \nsendailive@tohoku-kyoritz.co.jp \n 
URL:https://www.jges.net/event/2021-51550
CATEGORIES:共催・後援ライブセミナー・ハンズオンセミナー
END:VEVENT
END:VCALENDAR