BEGIN:VCALENDAR
VERSION:2.0
PRODID:-//日本消化器内視鏡学会 - ECPv6.10.1.1//NONSGML v1.0//EN
CALSCALE:GREGORIAN
METHOD:PUBLISH
X-ORIGINAL-URL:https://www.jges.net
X-WR-CALDESC:日本消化器内視鏡学会 のイベント
REFRESH-INTERVAL;VALUE=DURATION:PT1H
X-Robots-Tag:noindex
X-PUBLISHED-TTL:PT1H
BEGIN:VTIMEZONE
TZID:Asia/Tokyo
BEGIN:STANDARD
TZOFFSETFROM:+0900
TZOFFSETTO:+0900
TZNAME:JST
DTSTART:20190101T000000
END:STANDARD
END:VTIMEZONE
BEGIN:VEVENT
DTSTART;TZID=Asia/Tokyo:20190824T093000
DTEND;TZID=Asia/Tokyo:20190824T170000
DTSTAMP:20260420T171332
CREATED:20190227T073351Z
LAST-MODIFIED:20190227T073351Z
UID:18526-1566639000-1566666000@www.jges.net
SUMMARY:第13回　広島消化管内視鏡ライブセミナー
DESCRIPTION:13th Hiroshima live demonstration seminar on diagnostic\nand therapeutic GI endoscopy\n日本消化器内視鏡学会 共催 \n  \n　第13回広島消化管内視鏡ライブセミナーを下記の要領で開催致しますので御案内申し上げます。\n　本セミナーの理念は「基本手技の標準化を目指して」であり，ESDのみでなく，上部消化管から大腸までの精密内視鏡診断(通常観察，拡大観察，NBI観察，EUSなど)・治療(EMR/EPMR/ESD)・大腸内視鏡挿入法などの幅広い基本手技のコツとピットフォールおよび応用編を全国から招聘する専門術者が実演・解説します。実技ライブに各先生のミニレクチャーも含んだ大変充実した内容です。全国の皆さん奮って御参加下さい。  \n  \n代表世話人： \n　茶山　一彰　（広島大学 消化器･代謝内科）\n　田中　信治　（広島大学 内視鏡診療科） \n会　期： \n　2019年8月24日（土曜日）9：30～17：00\n　（18：00まで延長の可能性有り） \n会　場： \n　広島大学霞キャンパス・医学部第5講義室（250名収容）\n　（広島大学病院内視鏡診療科から会場へ実況中継） \n会　費： \n　医師 12\,000円、コメディカル 5\,000円 \n  \n術　者／コメンテーター\n　１）小野　裕之　（静岡県立静岡がんセンター）\n　２）井上　晴洋　（昭和大学江東豊洲病院）\n　３）後藤田卓志　（日本大学）\n　４）田中　信治　（広島大学）\n　５）八尾　建史　（福岡大学筑紫病院）\n　６）山野　泰穂　（札幌医科大学） \n  \nモーニングセミナー　「胃拡大観察のコツとピットフォール」\n　　講師　八尾　建史　（福岡大学筑紫病院） \n  \n特別講演（ランチョンセミナー）　「世界的視野からみた日本の消化器内視鏡学の課題」\n　　講師　田尻　久雄　（日本消化器内視鏡学会前理事長） \n  \n司　会\n　１）桑井　寿雄　（呉医療センター/中国がんセンター）\n　２）岡　　志郎　（広島大学） \n  \n連絡申込先： \n下記Webにて２０１９年４月上旬より、受け付けを開始します。なお、定員になり次第締め切らせて頂きます。\nhttp://home.hiroshima-u.ac.jp/hirolive/ \n  \n事務局： \n　秋山　住子（広島大学 内視鏡診療科 教授室 秘書）\n　〒734-8551　広島市南区霞1-2-3\n　電話：082-257-5538、FAX：082-253-2930\n　E-mail：hirolive@hiroshima-u.ac.jp \n 
URL:https://www.jges.net/event/2019-18526
LOCATION:広島大学霞キャンパス・医学部第５講義室\, 南区霞１－２−３\, 広島市\, 広島県\, 734-8551
CATEGORIES:共催・後援ライブセミナー・ハンズオンセミナー
END:VEVENT
END:VCALENDAR