BEGIN:VCALENDAR
VERSION:2.0
PRODID:-//日本消化器内視鏡学会 - ECPv6.10.1.1//NONSGML v1.0//EN
CALSCALE:GREGORIAN
METHOD:PUBLISH
X-ORIGINAL-URL:https://www.jges.net
X-WR-CALDESC:日本消化器内視鏡学会 のイベント
REFRESH-INTERVAL;VALUE=DURATION:PT1H
X-Robots-Tag:noindex
X-PUBLISHED-TTL:PT1H
BEGIN:VTIMEZONE
TZID:Asia/Tokyo
BEGIN:STANDARD
TZOFFSETFROM:+0900
TZOFFSETTO:+0900
TZNAME:JST
DTSTART:20190101T000000
END:STANDARD
END:VTIMEZONE
BEGIN:VEVENT
DTSTART;TZID=Asia/Tokyo:20191201T100000
DTEND;TZID=Asia/Tokyo:20191201T163000
DTSTAMP:20260421T001910
CREATED:20190816T060539Z
LAST-MODIFIED:20190816T060539Z
UID:21005-1575194400-1575217800@www.jges.net
SUMMARY:第9回 関西消化器内視鏡ライブセミナー
DESCRIPTION:顧問\n工藤正俊（近畿大学） \n代表世話人\n樫田博史（近畿大学） \n会期\n2019年12月1日（日）10：00～16：30（予定） \n会場\n近畿大学病院　円形棟大講堂および光学治療センター \n〒589-8511 大阪府大阪狭山市大野東377-2 \nTEL：072-366-0221（代） \n定員\n300名（定員になり次第、締め切らせていただきます） \n内容\n上下部消化管、膵胆道における内視鏡処置のポイントを基礎から　最新技術まで、ライブデモンストレーションでお見せします。 \n■画像強調・拡大内視鏡検査 \n■ESD/EMR \n■EIS/EVL \n■EUS/EUS-FNA/Interventional EUS \n■ERCP/EST/Stenting \n■ランチョンセミナー　 その他予定 \n術者\n藤城光弘(名古屋大学)、中井陽介(東京大学)、武田康宏(天理よろづ相談所病院)、樫田博史、松井繁長、櫻井俊治、竹中　完(近畿大学) \n総括発言\n内藤裕二(京都府立医科大学) \n参加費\n医師：事前申し込み5\,000円（当日受付7\,000円） \n研修医・ｺﾒﾃﾞｨｶﾙ・その他：2\,000円（当日受付2\,000円） \n学生・留学生：無料 \n―事前申し込みは、2019年11月25日まで― \nお申し込み方法\n氏名、所属、連絡先住所・Fax 番号・メールアドレスを明記の上、下記連絡先にFax またはE-mail で参加申込み後、参加費振込み口座をお知らせいたします。振込みを確認させていただいた後、受理番号を発行させていただきます。 \n『関西消化器内視鏡ライブセミナー事務局　宛』 \nFAX：072-367-2880　　 \nE-mail：kansai-live@med.kindai.ac.jp \n近畿大学医学部消化器内科ホームページも御参照ください。 \nhttp://www.med.kindai.ac.jp/shoukaki/index.html \nお問合せ先（事務局）\n近畿大学医学部 消化器内科　 \n関西消化器内視鏡ライブセミナー事務局（松井繁長） \n〒589-8511　大阪府大阪狭山市大野東377-2　近畿大学病院近畿大学病院 \nTEL: 072-366-0221 (内線3525)　FAX: 072-367-2880 \nE-mail: kansai-live@med.kindai.ac.jp \n  \n※本セミナー受講者には、日本消化器内視鏡学会専門医の申請・更新に必要なポイント5点が付加されます。\n※日本消化器内視鏡技師資格の更新に必要なポイント2点が付与されます。\n※大阪府医師会生涯研修　5単位を申請予定。
URL:https://www.jges.net/event/2019-21005
LOCATION:近畿大学病院\, 大阪府大阪狭山市大野東377-2\, 589-8511
CATEGORIES:共催・後援ライブセミナー・ハンズオンセミナー
END:VEVENT
END:VCALENDAR