BEGIN:VCALENDAR
VERSION:2.0
PRODID:-//日本消化器内視鏡学会 - ECPv6.10.1.1//NONSGML v1.0//EN
CALSCALE:GREGORIAN
METHOD:PUBLISH
X-ORIGINAL-URL:https://www.jges.net
X-WR-CALDESC:日本消化器内視鏡学会 のイベント
REFRESH-INTERVAL;VALUE=DURATION:PT1H
X-Robots-Tag:noindex
X-PUBLISHED-TTL:PT1H
BEGIN:VTIMEZONE
TZID:Asia/Tokyo
BEGIN:STANDARD
TZOFFSETFROM:+0900
TZOFFSETTO:+0900
TZNAME:JST
DTSTART:20200101T000000
END:STANDARD
END:VTIMEZONE
BEGIN:VEVENT
DTSTART;TZID=Asia/Tokyo:20200118T140000
DTEND;TZID=Asia/Tokyo:20200118T163000
DTSTAMP:20260421T071255
CREATED:20191206T021155Z
LAST-MODIFIED:20191206T021155Z
UID:25194-1579356000-1579365000@www.jges.net
SUMMARY:第103回日本消化器内視鏡学会近畿支部例会 ハンズオンセミナー
DESCRIPTION:会期\n2020年1月18日（土）14:00～16:30（13:45集合）予定 \n会場\n大阪国際交流センター\n〒543-0001　大阪府天王寺区天王寺区上本町8丁目2-6 \n参加方法\n詳細はこちらからご確認ください。 \n応募先/募集に関するお問い合わせ先\n第103回日本消化器内視鏡学会近畿支部例会 運営事務局\nTEL:03-5940-2614\nFAX:03-3942-6396\nE-mail: jgeskinki103hands-on@sunpla-mcv.com \n  \n 
URL:https://www.jges.net/event/2019-25194
LOCATION:大阪国際交流センター\, 天王寺区上本町8-2-6\, 大阪市\, 大阪府\, 543-0001
CATEGORIES:共催・後援ライブセミナー・ハンズオンセミナー
END:VEVENT
END:VCALENDAR