BEGIN:VCALENDAR
VERSION:2.0
PRODID:-//日本消化器内視鏡学会 - ECPv6.10.1.1//NONSGML v1.0//EN
CALSCALE:GREGORIAN
METHOD:PUBLISH
X-ORIGINAL-URL:https://www.jges.net
X-WR-CALDESC:日本消化器内視鏡学会 のイベント
REFRESH-INTERVAL;VALUE=DURATION:PT1H
X-Robots-Tag:noindex
X-PUBLISHED-TTL:PT1H
BEGIN:VTIMEZONE
TZID:Asia/Tokyo
BEGIN:STANDARD
TZOFFSETFROM:+0900
TZOFFSETTO:+0900
TZNAME:JST
DTSTART:20200101T000000
END:STANDARD
END:VTIMEZONE
BEGIN:VEVENT
DTSTART;VALUE=DATE:20201003
DTEND;VALUE=DATE:20201004
DTSTAMP:20260421T235027
CREATED:20200124T013209Z
LAST-MODIFIED:20200124T013209Z
UID:26142-1601683200-1601769599@www.jges.net
SUMMARY:第2回北里Interventional EUSセミナー※開催中止
DESCRIPTION:第2回北里Interventional EUSセミナー今年度中止のお知らせ \n　コロナVirusの流行の状況は、改善傾向が見られず、特に東京、神奈川においては漸増状況にあります。このような状況を鑑み、6月20から、10月3日に順延しておりました北里Interventional EUSセミナーを今年度は、中止とすることとしました。 \n　一応、来年の北里Interventional EUSセミナーは、6月19日に予定しております。是非、来年はコロナVirusが終息して、晴れてセミナーが開催できることを祈っております。その際には、皆様の参加をお待ちしております \n　　　　　　　　　　　　　　　　　　　　北里大学医学部消化器内科 \n　　　　　　　　　　　　　　　　　　　　　　　　　木田　光広 \n会期\n2020年6月20日（土）10:30～18:00 \n→2020年10月3日（土）10：30～18：00 \n会場\n北里大学病院3F　内視鏡センター・臨床講義室 \n参加費・定員\n20\,000円　　定員28名 \n※定員になり次第、締め切らせていただきます。 \n参加方法\n申し込みについては参加申込み用紙をご確認下さい。 \n応募先/募集に関するお問い合わせ先\n事務局：北里大学病院\nTEL:042-778-8111\nFAX:042-778-8390\nE-mail: endoscop@kitasato-u.ac.jp
URL:https://www.jges.net/event/2020-26142
CATEGORIES:共催・後援ライブセミナー・ハンズオンセミナー
END:VEVENT
BEGIN:VEVENT
DTSTART;TZID=Asia/Tokyo:20201010T100000
DTEND;TZID=Asia/Tokyo:20201010T180000
DTSTAMP:20260421T235027
CREATED:20200127T021533Z
LAST-MODIFIED:20200127T021533Z
UID:26233-1602324000-1602352800@www.jges.net
SUMMARY:第18回北海道胆膵内視鏡診断・治療研究会ライブセミナー（手稲ライブ）※開催中止
DESCRIPTION:新型コロナウイルス発生拡大に伴い2020年6月の第18回北海道胆膵内視鏡診断・治療研究会ライブセミナー（手稲ライブ）は、開催は中止となりました。 \n会　期\n2020年6月6日（土曜日）10:30~17:30 \n→2020年10月10日（土）10：30～17：30※開催中止 \n会　場\n手稲渓仁会病院 渓仁会ビル2F 大会議室 \n〒006-0811 \n札幌市手稲区前田1条12丁目2丁目355番地 \n定員\n医師　150名、コメディカル　80名 \n代表世話人\n潟沼 朗生（医療法人渓仁会　手稲渓仁会病院　消化器病センター長） \n道外世話人\n糸井隆夫（東京医科大学消化器内科） \n花田敬士（JA尾道総合病院） \n招待術者\n竹中完　（近畿大学消化器内科） \n参加費\n医師12000円、コメディカル3000円 \n  \n参加登録受付開始：2020年3月2日（月）～ \n参加申し込み\nこちらのWebサイトをご参照ください。 \n※参加費のお振込みが確認できた時点で申込完了となります。 \n定員に達し次第締め切りとなりますのでお早めのお申込みをお願い致します。 \n運営事務局\n手稲渓仁会病院消化器病センター \n田中美穂、金俊文 \nTEL：011-611-8111 \nFAX：011-685-2967 \nE-mail：teine.live@gmail.com \n 
URL:https://www.jges.net/event/2020-26233
CATEGORIES:共催・後援ライブセミナー・ハンズオンセミナー
END:VEVENT
END:VCALENDAR