BEGIN:VCALENDAR
VERSION:2.0
PRODID:-//日本消化器内視鏡学会 - ECPv6.10.1.1//NONSGML v1.0//EN
CALSCALE:GREGORIAN
METHOD:PUBLISH
X-ORIGINAL-URL:https://www.jges.net
X-WR-CALDESC:日本消化器内視鏡学会 のイベント
REFRESH-INTERVAL;VALUE=DURATION:PT1H
X-Robots-Tag:noindex
X-PUBLISHED-TTL:PT1H
BEGIN:VTIMEZONE
TZID:Asia/Tokyo
BEGIN:STANDARD
TZOFFSETFROM:+0900
TZOFFSETTO:+0900
TZNAME:JST
DTSTART:20210101T000000
END:STANDARD
END:VTIMEZONE
BEGIN:VEVENT
DTSTART;TZID=Asia/Tokyo:20210306T130000
DTEND;TZID=Asia/Tokyo:20210306T183000
DTSTAMP:20260422T032738
CREATED:20210215T011434Z
LAST-MODIFIED:20210215T011434Z
UID:39287-1615035600-1615055400@www.jges.net
SUMMARY:第9回　大阪胆膵内視鏡ライブセミナー(北野ライブ)のご案内
DESCRIPTION:日時\n2021年3月6日（土曜日）13：00 – 18：15 \n場所\n公益財団法人田附興風会医学研究所北野病院5階　きたのホール \n〒530-8480 \n大阪市北区扇町2－4－20 \n定員\nWEB配信のため定員はありません。 \n会長\n栗田　亮（北野病院） \nGuest Demonstrator\n 糸井　隆夫先生（東京医科大学　消化器内科　教授） \n参加費\n3000円 \n申込方法・セミナーホームページアドレス\nURL : https://reg.ibmd.jp/osklive9/第9回北野ライブご案内 \n※スマートフォン・パソコンからアクセス可能です。　 \n  \n本ライブセミナーはzoomを用いたweb配信となっております。 \n事前申し込みいただいた方には詳細をご案内致します。 \n第9回北野ライブのご案内(pdf) \n事務局\n第９回大阪胆膵内視鏡ライブセミナー事務局 栗田　亮 \nTEL：06-6312-1221 \nFAX：06-6312-8867 \nE-mail：a-kurita@kitano-hp.or.jp
URL:https://www.jges.net/event/2021-39287
CATEGORIES:共催・後援ライブセミナー・ハンズオンセミナー
END:VEVENT
BEGIN:VEVENT
DTSTART;TZID=Asia/Tokyo:20210314T083000
DTEND;TZID=Asia/Tokyo:20210314T170000
DTSTAMP:20260422T032738
CREATED:20210225T051344Z
LAST-MODIFIED:20210225T051344Z
UID:39790-1615710600-1615741200@www.jges.net
SUMMARY:第19回国際消化器内視鏡セミナー（横浜ライブ2021）のご案内
DESCRIPTION:日時\n2021年3月14日（日） \n開催方法\nWeb開催 \n会場にご参集いただく必要はございません。 \nCourse director\n工藤進英（昭和大学国際消化器内視鏡研修センター） \n参加費\n医師・企業：5\,000円　　技師・看護師：3\,000円　　学生・研修医：1\,000円 \n申込方法・セミナーホームページアドレス\nhttp://www.yokohama-live.com/ \nWebサイトより参加登録をお願いいたします。 \n  \nライブ配信ではなく全手技の事前収録動画を配信いたします。 \n治療動画を最初から最後まで放映し、各領域のスペシャリストからライブにて解説していただく予定です。Web参加して頂き、配信中の質問も可能です。 \n事務局\n国際消化器内視鏡セミナー横浜ライブ 運営事務局\n〒113-0033\n東京都文京区本郷 4-1-5 石渡ビル6F\n株式会社プランニングウィル内\nTEL：03-6801-8084　FAX：03-6801-8094\nE-mail：YIEC-secretariat@pw-co.jp
URL:https://www.jges.net/event/2021-39790
CATEGORIES:共催・後援ライブセミナー・ハンズオンセミナー
END:VEVENT
BEGIN:VEVENT
DTSTART;TZID=Asia/Tokyo:20210327T093000
DTEND;TZID=Asia/Tokyo:20210327T170000
DTSTAMP:20260422T032738
CREATED:20210308T044100Z
LAST-MODIFIED:20210308T044100Z
UID:40312-1616837400-1616864400@www.jges.net
SUMMARY:Kinki Live Endoscopy 2021　第16回近畿内視鏡治療研究会ライブセミナー
DESCRIPTION:日時\n2021年3月27日（土）9:30～17:00 \n場所\n草津総合病院9階 あおばなホール \n滋賀県草津市矢橋町1660　Tel 077－563－8866 \n定員\n150名 \n当番幹事\n豊永高史（神戸大学　光学医療診療部） \nGuest　Faculty\n小山　恒男先生（佐久医療センター 内視鏡内科） \n池原　久朝先生（日本大学 消化器肝臓内科） \nHost　Faculty\n伴　宏充先生　(草津総合病院　消化器内科) \nランチョンセミナー\n「生検の延長がESD ! 〜難しい操作は必要ない」 \n後藤田卓志先生（日本大学医学部内科学系消化器肝臓内科学分野 教授） \n＜共催：富士フイルムメディカル株式会社＞ \n病院側Faculty\n道田　知樹（大阪国際がんセンター 消化管内科） \n森田　圭紀（神戸大学 国際がん医療・研究センター） \n山本 克己 （JCHO大阪病院 消化器内科） \n竹内　洋司（大阪国際がんセンター 消化管内科） \n赤松 拓司 （日本赤十字社和歌山医療センター 消化器内科） \nスポンサードセミナー\n上堂　文也（大阪国際がんセンター 消化管内科） \n北村 陽子 （市立奈良病院 消化器内科) \n＜共催：株式会社アムコ/株式会社トップ/ボストン・サイエンテイフィック ジャパン株式会社＞ \n会場側　Faculty\n梅垣　英次（川崎医科大学 消化管内科学） \n町田　浩久（まちだ胃腸病院 内科） \n滝本　見吾（宇治徳洲会病院 消化器内科） \n  \n第16回近畿内視鏡治療研究会ライブセミナーお申し込みについて\n参加費\n参加費　￥10\,000（医師・企業）　　￥3\,000（コメディカル） \n参加費のお振込みの確認にて登録完了とさせて頂きます。（事前振込み制） \n定員に達し次第、締切とさせていただきますので予めご了承ください。 \n　当日受付は　￥12\,000（医師・企業）　￥4\,000（コメディカル）となります。 \nお申し込み方法\nWebサイトよりお申込みください。　 \nhttps://kinki-live.jp \n折り返し、e-mailにて受付確認および参加費振込先のご連絡をさせて頂きます。 \nお問い合わせ\n事務局代行 \n近畿内視鏡治療研究会ライブセミナー事務局 \nE-mail: kinki@med.kobe-u.ac.jp \n共催 \n近畿内視鏡治療研究会/神戸国際消化器内視鏡教育センター/日本消化器内視鏡学会
URL:https://www.jges.net/event/2021-40312
CATEGORIES:共催・後援ライブセミナー・ハンズオンセミナー
END:VEVENT
END:VCALENDAR