BEGIN:VCALENDAR
VERSION:2.0
PRODID:-//日本消化器内視鏡学会 - ECPv6.10.1.1//NONSGML v1.0//EN
CALSCALE:GREGORIAN
METHOD:PUBLISH
X-ORIGINAL-URL:https://www.jges.net
X-WR-CALDESC:日本消化器内視鏡学会 のイベント
REFRESH-INTERVAL;VALUE=DURATION:PT1H
X-Robots-Tag:noindex
X-PUBLISHED-TTL:PT1H
BEGIN:VTIMEZONE
TZID:Asia/Tokyo
BEGIN:STANDARD
TZOFFSETFROM:+0900
TZOFFSETTO:+0900
TZNAME:JST
DTSTART:20220101T000000
END:STANDARD
END:VTIMEZONE
BEGIN:VEVENT
DTSTART;TZID=Asia/Tokyo:20220805T080000
DTEND;TZID=Asia/Tokyo:20220807T190000
DTSTAMP:20260423T145407
CREATED:20220415T101542Z
LAST-MODIFIED:20220415T101542Z
UID:56328-1659686400-1659898800@www.jges.net
SUMMARY:東京国際内視鏡ライブセミナー2022のご案内
DESCRIPTION:会期\n2022年8月5日（金）～　8月7日（日） \n開催形式\nWEBにて開催 \n会長\n井上晴洋（昭和大学江東豊洲病院消化器センター） \nお申し込み方法\nWebサイトよりお申込みください。　 \n視聴登録につきましては、下記HPにてお知らせいたします。 \n******tokyolive/ \n※視聴登録につきましてはHPにてお知らせいたします。 \nお問い合わせ\n東京国際内視鏡ライブ2022運営事務局 \nTEL：03-5805-5261 \nFAX：03-3815-2028 \nE-mail：tokyolive@coca.co.jp
URL:https://www.jges.net/event/2022-56328
CATEGORIES:共催・後援ライブセミナー・ハンズオンセミナー
END:VEVENT
BEGIN:VEVENT
DTSTART;TZID=Asia/Tokyo:20220820T090000
DTEND;TZID=Asia/Tokyo:20220820T170000
DTSTAMP:20260423T145407
CREATED:20220323T073257Z
LAST-MODIFIED:20220323T073257Z
UID:55300-1660986000-1661014800@www.jges.net
SUMMARY:第１５回　広島消化管内視鏡ライブセミナーのご案内
DESCRIPTION:会期\n２０２２年８月２０日（土曜日）９：００～１７：００ \n会場\n広島大学霞キャンパス・医学部第５講義室 \n〒734-8551 \n広島市南区霞1-2-3 \n定員\n２５０名 \n会長\n田中信治（広島大学病院） \nモーニングセミナー講師\n八尾　建史 先生　（福岡大学筑紫病院） \n特別講演（ランチョンセミナー）講師\n味岡　洋一 先生　（新潟大学） \n参加費\n12\,000円 \n申込み方法\nWebサイトよりお申込みください。　 \nhttps://hirolive.hiroshima-u.ac.jp \nお問合せ先\n広島消化管内視鏡ライブセミナー事務局　 \n担当：秋山（広島大学内視鏡診療科 教授室） \nTEL：　082-257-5538 \nFAX：　082-253-2930 \nE-mail：　hirolive@hiroshima-u.ac.jp \n 
URL:https://www.jges.net/event/2022-55300
CATEGORIES:共催・後援ライブセミナー・ハンズオンセミナー
END:VEVENT
END:VCALENDAR