BEGIN:VCALENDAR
VERSION:2.0
PRODID:-//日本消化器内視鏡学会 - ECPv6.10.1.1//NONSGML v1.0//EN
CALSCALE:GREGORIAN
METHOD:PUBLISH
X-WR-CALNAME:日本消化器内視鏡学会
X-ORIGINAL-URL:https://www.jges.net
X-WR-CALDESC:日本消化器内視鏡学会 のイベント
REFRESH-INTERVAL;VALUE=DURATION:PT1H
X-Robots-Tag:noindex
X-PUBLISHED-TTL:PT1H
BEGIN:VTIMEZONE
TZID:Asia/Tokyo
BEGIN:STANDARD
TZOFFSETFROM:+0900
TZOFFSETTO:+0900
TZNAME:JST
DTSTART:20220101T000000
END:STANDARD
END:VTIMEZONE
BEGIN:VEVENT
DTSTART;VALUE=DATE:20221001
DTEND;VALUE=DATE:20221002
DTSTAMP:20260423T172214
CREATED:20220331T072614Z
LAST-MODIFIED:20220331T072614Z
UID:55671-1664582400-1664668799@www.jges.net
SUMMARY:第11回　広島EMR/ESDハンズオンセミナーのご案内
DESCRIPTION:会期\n2022年10月1日（土） \n会場\n広仁会館（広島大学医学部　霞キャンパス内） \n〒734-0037 \n広島市南区霞1丁目-2-3 \n定員\n25名 \n会長\n田中　信治（広島大学病院） \n参加費\nベーシックコース：10\,000円　、アドバンスドコース：15\,000円 \n申込み方法\nhttps://endosc.hiroshima-u.ac.jp/ \n※広島大学病院内視鏡診療科「広島EMR/ESDハンズオンセミナー」をご確認ください \nお問合せ先\n第11回広島EMR/ESDハンズオンセミナー事務局 \nE-mail：Yasuhisa.Abe@bsci.com
URL:https://www.jges.net/event/2022-55671
CATEGORIES:共催・後援ライブセミナー・ハンズオンセミナー
END:VEVENT
END:VCALENDAR