BEGIN:VCALENDAR
VERSION:2.0
PRODID:-//日本消化器内視鏡学会 - ECPv6.10.1.1//NONSGML v1.0//EN
CALSCALE:GREGORIAN
METHOD:PUBLISH
X-WR-CALNAME:日本消化器内視鏡学会
X-ORIGINAL-URL:https://www.jges.net
X-WR-CALDESC:日本消化器内視鏡学会 のイベント
REFRESH-INTERVAL;VALUE=DURATION:PT1H
X-Robots-Tag:noindex
X-PUBLISHED-TTL:PT1H
BEGIN:VTIMEZONE
TZID:Asia/Tokyo
BEGIN:STANDARD
TZOFFSETFROM:+0900
TZOFFSETTO:+0900
TZNAME:JST
DTSTART:20200101T000000
END:STANDARD
END:VTIMEZONE
BEGIN:VEVENT
DTSTART;TZID=Asia/Tokyo:20210124T090000
DTEND;TZID=Asia/Tokyo:20210131T235900
DTSTAMP:20260421T094301
CREATED:20201113T015306Z
LAST-MODIFIED:20201113T015306Z
UID:35134-1611478800-1612137540@www.jges.net
SUMMARY:第34回九州支部セミナー【WEB開催】のご案内
DESCRIPTION:※申込み受付は終了いたしました。\n会長\n竹島　史直（長崎県五島中央病院） \n配信期間\n2021年1月24日（日）9:00 ～ 1月31日（日）23:59 \n受講方法\n事前収録済の講演動画をオンデマンド配信 \n\n受講料振込完了された方にWeb開催1週間前（予定）で、Web視聴用URL、\nID・パスワードを受講登録メールアドレスに送付します。\nWeb配信期間中にすべてのプログラムの視聴をお願い致します。\n視聴期間内は全ての講演が何度でも視聴可能です\n全ての講演を視聴した履歴を確認の上、事務局にて単位を登録いたします。\n受講料振込完了者には、開催1週間前までにテキスト集を発送いたします。\n\n受講ページ\nhttps://medcon.jp/jges_ks34/viewer/ \n問い合わせ先\n第34回九州セミナー事務局 \n㈱JTBコミュニケーションデザイン　担当：北原　・　細井 \nTEL：092-751-3244 \nFAX：092-751-3244 \nE-mail：jges_ks34@jtbcom.co.jp \n※お問い合わせはメールでお願いいたします。
URL:https://www.jges.net/event/2020-35134
CATEGORIES:セミナーWEB開催
END:VEVENT
BEGIN:VEVENT
DTSTART;TZID=Asia/Tokyo:20210124T090000
DTEND;TZID=Asia/Tokyo:20210131T170000
DTSTAMP:20260421T094301
CREATED:20201208T071500Z
LAST-MODIFIED:20201208T071500Z
UID:37282-1611478800-1612112400@www.jges.net
SUMMARY:第30回四国セミナー【WEB開催】のご案内
DESCRIPTION:※申込み受付は終了いたしました。\n会長\n日浅　陽一（愛媛大学大学院　消化器・内分泌・代謝内科学） \n配信期間\n2021年1月24日（日）9:00　～　31日（日）17:00 \nテーマ\n消化器内視鏡診断と治療　〜コロナ禍への対応を含めて \n受講方法\n現地参加およびオンライン参加(当日Web視聴、あるいはオンデマンド配信視聴) \n四国以外、特に新型コロナウイルス感染指定地域から参加される先生方は、現地参加をご遠慮いただき、原則Web参加をご利用下さい。 \n  \nオンライン参加は当日Web視聴できますし、収録した講演動画を1月31日(日)17:00までWebにてオンデマンド配信(スポンサードセミナーを除く)いたします。 \n\n受講料振込完了された方に、開催1週間前（予定）にWeb視聴用URLを受講登録メールアドレスに送付します。\n受講料振込完了者には、開催1週間前までにテキスト集を発送いたします。\n視聴期間内は全ての講演が何度でも視聴可能です。Web配信期間中にすべてのプログラムの視聴をお願い致します。\n講演の視聴履歴を確認の上、事務局にて単位を登録いたします。\n\n  \n当日Web視聴される先生方へ \n配信時間　1月24日(日) 9：00～16：00　　8：00よりアクセス可能 \n※配信時間はライブ配信のため終了時刻は予定となります。ご協力をお願いします。 \n  \nご出席確認のため、ライブ配信画面上のチャット内に「お名前・ご所属」の書き込みをお願いします。下記の時間に入室・退室の確認をとりますので、指定時間にご入力ください。 \n※入室退室の確認をとり、単位登録の受領といたします。またあらかじめmailさせていただきますアンケートにご記入いただき、mail address: 3naika@m.ehime-u.ac.jpに送付ください。(当日Web視聴の場合はkey numberの入力は不要です)。送付期限は2月1日(月)です。 \n  \n入室時 ： 1月24日(日)9：40まで \n退室時 ： 1月24日(日)14：30以降 \n   \nオンデマンド配信視聴される先生方へ \n配信時間　1月26日(火) 9:00～1月31日(日) 17：00まで \n  \nご出席確認のため、各講演の最後に「key number」お知らせいたします。あらかじめmailさせていただきますkey number回答用紙にkey numberをご記入ください。また事前にmailいたしますアンケートとともに、mail address: 3naika@m.ehime-u.ac.jpに、あるいはFaxにて送付ください。送付期限は2月1日(月)です。送付いただくことで受講確認し、単位登録の受領といたします。 \n受講ページ\n2021年1月18日　参加者にmailにてお伝えします。 \n問い合わせ先\n第30回四国セミナー事務局　　 \n池田宜央、三好彩織 \nTEL：089-960-5308 \nFAX：089-960-5310 \nE-mail：3naika@m.ehime-u.ac.jp
URL:https://www.jges.net/event/2020-37282
CATEGORIES:セミナーWEB開催
END:VEVENT
BEGIN:VEVENT
DTSTART;TZID=Asia/Tokyo:20210117T085500
DTEND;TZID=Asia/Tokyo:20210117T184000
DTSTAMP:20260421T094301
CREATED:20201106T033634Z
LAST-MODIFIED:20201106T033634Z
UID:34876-1610873700-1610908800@www.jges.net
SUMMARY:第32回東海セミナー【WEB開催】のご案内
DESCRIPTION:※本セミナーの開催は終了いたしました。\n会長\n堀田 欣一（静岡県立静岡がんセンター　内視鏡科） \n配信期間\n2021年1月17日（日）08:55　～　2021年1月17日（日）16:40 \n受講方法\n※【本セミナーは現地開催を中止し、完全Web配信セミナーとなります】（12/11更新）\nZoomウェビナーによる配信となります。 \n  \n2021年1月7日（木）頃より、Zoomウェビナー登録URLを受講料のご入金がお済みの先生方から順にメールにてお送りいたします。 \n  \n※2021年1月17日（日）会期当日までに、ウェビナー登録をお済ませください。 \n登録後、ご登録メールアドレスへ自動送信されるウェビナー閲覧用URLからのみご視聴いただけます。 \n自動送信メールならびに閲覧用URLは、会期当日まで大切に保管ください。 \n  \nなお、従来実施しておりました受講証の発行は廃止となりました。 \n第32回東海セミナーでは、セミナー冊子送付の際に同封いたします領収書にて代えさせていただきます。 \n  \n【日本ケミファ株式会社　ランチョンセミナーアンケート】 \nhttps://forms.office.com/Pages/ResponsePage.aspx?id=RmVaeItnJ0WEXLEIfp8Pl3B3dUXGjsNMomAdfwziCw5UQjRVUktETk44UUowU1RXT0gxNlc1NkhOMS4u \n問い合わせ先\n第32回日本消化器内視鏡学会東海セミナー運営事務局 \nTEL：052-269-3181 \nFAX：052-269-3252 \nE-mail：jges32seminar@ccs-net.co.jp
URL:https://www.jges.net/event/2020-34876
CATEGORIES:セミナーWEB開催
END:VEVENT
BEGIN:VEVENT
DTSTART;TZID=Asia/Tokyo:20210113T120000
DTEND;TZID=Asia/Tokyo:20210131T235900
DTSTAMP:20260421T094301
CREATED:20201206T223408Z
LAST-MODIFIED:20201206T223408Z
UID:37181-1610539200-1612137540@www.jges.net
SUMMARY:第41回 関東セミナー【WEB開催】のご案内
DESCRIPTION:※申込み受付は終了いたしました。\n会長\n瓜田　純久（東邦大学医療センター大森病院） \n配信期間\n2021年1月13日（水）12:00　～　31日（日）23:59 \nテーマ\n内視鏡診療のABC \n受講方法\nWeb受講（オンデマンド ストリーミング方式）にて実施いたします。 \n配信期間内に動画視聴をお願いいたします。 \n共催セミナーのみ、2021年1月31日（日）にLIVE配信（プログラム）いたします。 \n※共催セミナーは単位認定要件ではございません。 \n  \n◆テキストと領収証について \nテキストはすべての参加登録者に発送を完了しております。 \n領収証は入金済みの方にはテキスト同封にてお送りしております。 \n未入金の方にはテキストのみを先にお送りしております。参加費の入金確認が取れ次第、郵送にて領収証をお送りいたします。 \n◆受講用のIDとパスワードについて \n1月12日（火）午前中までにご入金済みの方にはメールにて、受講用のIDとパスワードのご案内メールの配信を完了しております。 \n未入金の方には入金確認（毎週一度を目安）が取れ次第、あらためてご案内メールをお送りいたします。 \n◆受講ページは、一つのIDとパスワードで多重ログインできないように設定しております。 \n　つきましては、下記の２点にご留意のうえ、受講をお願い申し上げます。 \n①　1回ログインして、ログアウトせず（ログアウトボタンを押さず）に、そのままブラウザを閉じてしまったり \n②　他のデバイスで同時にログインしようとしますと、 \nログインができず、「同時にログイン可能なデバイス数が上限に達しています。」と表示されます。 \n他のデバイスで視聴する場合は必ず、ログアウトしてから他のデバイスでログインしてください。 \nまた、①の場合では同デバイス\,同ブラウザであれば、再度ログインは可能です。 \n解決しない場合は、前のログインをしてから40分後に自動ログアウトされますので、40分後に再度ログインし直して受講ください。 \n◆受講証明書の取得について \n受講証明書は単位認定要件となった講義（講演1～7）の受講完了が必要です。 \n受講証のダウンロードの際に、講演1～7の受講中に表示される「キーワード（数字）」の入力が必須となります。 \n受講中に7種のキーワード（数字）のメモをお取りください。 \n受講証明書の再発行は致しかねます。印刷して大切に保管してください。 \n受講ページはこちら\n※オンデマンド配信は終了いたしました。ご視聴いただき誠にありがとうございました。 \n問い合わせ先\n第41回関東セミナー運営事務局 \nTEL：03-5940-2614 \nFAX：03-3942-6396 \nE-mail：jgesk41@sunpla-mcv.com \n政府の緊急事態宣言を受け、新型コロナウイルス感染拡大防止のため、運営事務局ではテレワークを実施しております。 \nつきましては、担当者が不在の可能性がございますので、できます限り、E-mailにてご連絡くださいますようお願い申し上げます。 \nご理解、ご協力のほど、何卒よろしくお願い申し上げます。 \n  \n \n+ Google カレンダー+ iCal エクスポート\n \n\n\n詳細\n\n開始:\n12月 9日 8:00 AM \n終了:\n2021年1月12日 12:00 PM \nイベントカテゴリー:\n臨時：セミナーWEB開催
URL:https://www.jges.net/event/2020-37181
CATEGORIES:セミナーWEB開催
END:VEVENT
BEGIN:VEVENT
DTSTART;TZID=Asia/Tokyo:20210108T090000
DTEND;TZID=Asia/Tokyo:20210131T235900
DTSTAMP:20260421T094301
CREATED:20201110T075422Z
LAST-MODIFIED:20201110T075422Z
UID:35017-1610096400-1612137540@www.jges.net
SUMMARY:第30回中国支部セミナー【WEB開催】のご案内
DESCRIPTION:※申込み受付は終了いたしました。\n配信期間\n2021年1月8日(金) 9:00　～　1月31日(日) 23:59 \n　※特別講演のみLive配信　2021年1月11日（月・祝） 12:30~13:20 \n会長\n徳毛 宏則(JA広島総合病院) \n受講方法\n事前収録済の講演動画をオンデマンド配信 \n※特別講演のみLive配信となりますのでご注意ください \n○受講方法について \n１．受講者の皆様へ、12月中に、視聴ページのURLと視聴用のIDとパスワードを \nご登録いただきましたメールアドレスへ送ります。 \n２．下記URLよりアクセスしていただき視聴用IDとPWを入力してください。 \nhttps://sites.net-convention.com/jges30/ \n３．視聴期間は、2021 年1月8日（金）12:00より1月 31 日（日・祝）23:59までです。 \n４．上記期間中に、講演１～８の聴講をしてください。（必須） \n　　※視聴期間内は、全ての講演が何度でも視聴可能です。 \n　　※日にちを分けて視聴いただいても結構です。 \n５．講演１～８の中に、決まったキーナンバーが設定されています。 \n６．視聴が終了いたしましたら、講演１～８のそれぞれの \n　　正しいキーナンバーを入力いただきアンケートにご回答いただければ、 \n　　受講証明書をダウンロードできます。 \n　　※キーナンバーは各講演の8 個が必要です。 \n　　※入力方法は、視聴サイトでご確認いただけます。 \n　　※受講証明書の再発行は致しかねます。大切に保管してください。 \n　　※領収書はメールでお送り致します \n7．テキストは視聴サイトよりダウンロードできます。 \n受講ページ\nhttps://sites.net-convention.com/jges30/ \n問い合わせ先\n第30回日本内視鏡学会中国支部セミナー事務局 \nTEL：082-236-8021 \nFAX：082-567-2301 \nE-mail：jges-ch30@c-linkage.co.jp
URL:https://www.jges.net/event/2020-35017
CATEGORIES:セミナーWEB開催
END:VEVENT
BEGIN:VEVENT
DTSTART;TZID=Asia/Tokyo:20201209T080000
DTEND;TZID=Asia/Tokyo:20210112T120000
DTSTAMP:20260421T094301
CREATED:20200929T053742Z
LAST-MODIFIED:20200929T053742Z
UID:33561-1607500800-1610452800@www.jges.net
SUMMARY:第29回北陸セミナー【WEB開催】のご案内
DESCRIPTION:※本セミナーの開催は終了いたしました。\n配信期間\n2020年12月6日（日）ライブ配信 \n2020年12月9日（水）～2021年1月12日オンデマンド配信 \n会長\n大坪　公士郎　（金沢大学附属病院がんセンター） \n受講方法\nLIVE+オンデマンド \n※共催セミナーに関しましては、当日のLIVE配信でのみ視聴可能です。御注意下さい。 \n1.下記URLよりアクセスしていただき、視聴用IDとパスワードを入力してください。 \n　受講料振込完了者には、受講申込み時に登録いただいたメールアドレスに視聴用ID、パスワードをお送りします。 \nhttp://jges29.gakkai-gran.jp \n2.アクセス後、「オンライン会場」より入室して視聴してください。 \n3.視聴期間は以下の通りです。 \n　LIVE配信　2020年12月6日（日） 9:30〜16：20 \n　オンデマンド配信　2020年12月9日 (水）～2021年1月12日 (火) \n4.上記期間中に、講演1～8の聴講をしてください。（必須） \n　視聴期間内は、全ての講演 (共催セミナーは除く) が何度でも視聴可能です。 \n　共催セミナーに関しましては、当日のLIVE配信でのみ視聴可能です。御注意下さい。 \n5.講演1～8では、終了時に1桁の数字 (キーナンバー) をお知らせします。 \n　全ての視聴が終了した段階で、「キーナンバー入力」より講演1〜8のキーナンバーを登録してください。 \n6.正しいキーナンバーを入力いただければ、後日受講申込み時に登録いただきましたメールアドレスに受講証明書をお送りいたします。 \n受講ページ\nhttp://jges29.gakkai-gran.jp \n問い合わせ先\n第29回北陸セミナー運営事務局 \nTEL：076-201-8821 \nFAX：076-272-2488 \nE-mail：hiroshi.tanno.kubix@s6.dion.ne.jp
URL:https://www.jges.net/event/2020-33561
CATEGORIES:セミナーWEB開催
END:VEVENT
BEGIN:VEVENT
DTSTART;TZID=Asia/Tokyo:20201129T080000
DTEND;TZID=Asia/Tokyo:20210112T170000
DTSTAMP:20260421T094301
CREATED:20201022T224915Z
LAST-MODIFIED:20201022T224915Z
UID:34434-1606636800-1610470800@www.jges.net
SUMMARY:第39回近畿セミナー【WEB開催】のご案内
DESCRIPTION:※本セミナーの開催は終了いたしました。\n配信期間\n2020年11月29日（日）Live配信 \n2020年12月11日（金）正午～2021年1月12日（火）17：00オンデマンド配信 \n会長\n西崎　朗（兵庫県立丹波医療センター） \n受講方法\n\n\n\n\n1.       下記URLよりアクセスしていただきWeb視聴ボタンより視聴用IDとPWを入力してください。 \nhttp://square.umin.ac.jp/jgeskinki39/ \n  \n2.       視聴用IDとPWは受講申込み時に登録いただきましたメールアドレスに会期の1週間前にお送りいたします。 \n  \n3.       視聴期間は下記をご確認ください。 \nLive配信　2020年11月29日（日）8：55〜16：00 \n　 1）   Zoomを用いたリアルタイム配信です。 \n　・Zoomアプリケーションお持ちでない方へ \n　閲覧ページに記載されているURLリンクをクリックして頂くと自動的にアプリケーションのダウンロードを要求されますので、ダウンロードして参加　してください。 \n　・Zoomアプリケーションお持ちの方へ \n　必ず『バージョン5.0.0以上』への更新をお願いします。 \n　バージョン5.0.0未満のZoomアプリケーションを使用されますと暗号化方式の \n　違いにより、参加ができなくなります。 \n　2） 視聴にはシステム上、お名前とメールアドレスが必要になります。 \n　3） 一旦退場されますと、再度入力が必要となります。 \n　4） 質問はQ&Aで受付いたします。（質問内容は座長のみに表示されます） \n　5） 入場の際にご入力頂きましたお名前とメールアドレスは、視聴にのみ必要であり、共催企業にお渡しすることはありません。 \n  \n　オンデマンド配信　2020年12月11日（金）正午～2021年1月12日（火）17：00 \n  \n4.       上記期間中に、講演1～8の聴講をしてください。（必須） \n　※視聴期間内は、全ての講演（ランチョンセミナーは除く）が何度でも視聴可能です。 \n※日にちを分けて視聴いただいても結構です。 \n※但し、ランチョンセミナーのみLive配信 \n  \n5.       講演1～8では、終了時に1桁の数字（キーナンバー）をお知らせします。 \n  \n6.       全ての視聴が終了した段階で、講演1〜8のキーナンバーを登録してください。正しいキーナンバーを入力いただければ、後日（オンデマンド配信終了後）受講証明書（領収書付）をお送りいたします。 \n※キーナンバーは8個必要です。 \n　 ※入力方法は、視聴サイトでご確認いただけます。 \n　 ※受講証明書（領収書付）の再発行は致しかねます。大切に保管してください。 \n  \n7.       セミナー会場（千里ライフサイエンスセンター）では視聴できませんので、ご来場はご遠慮ください。 \n  \n8.       アンケートにお答えください。 \n  \n\n\n\n\n受講ページ\nhttp://square.umin.ac.jp/jgeskinki39/ \n※オンデマンド配信終了後、受講証明書（領収書付）をお送りいたします。 \n問い合わせ先\n第39回日本消化器内視鏡学会近畿セミナー運営事務局 \nTEL：06-6630-9002 \nFAX：06-6630-9003 \nE-mail：kinkiseminar39@p-forest.co.jp
URL:https://www.jges.net/event/2020-34434
CATEGORIES:セミナーWEB開催
END:VEVENT
BEGIN:VEVENT
DTSTART;TZID=Asia/Tokyo:20201115T090000
DTEND;TZID=Asia/Tokyo:20201115T235900
DTSTAMP:20260421T094301
CREATED:20201001T080739Z
LAST-MODIFIED:20201001T080739Z
UID:33644-1605430800-1605484740@www.jges.net
SUMMARY:第32回東北セミナー【WEB開催】のご案内
DESCRIPTION:※本セミナーの開催は終了いたしました。\n会長\n中村昌太郎（岩手医科大学内科学講座消化器内科消化管分野） \n配信期間\n2020年11月15日（日）9:00 ～ 23:59 \nテーマ\n消化器内視鏡学：平成から令和への新展開 \n受講方法\n事前収録済の講演動画をオンデマンド配信 \n※ランチョンセミナーのみ（12:30~13:20）Live配信となりますのでご注意ください \n〇受講方法 \n1.　受講料振込完了者には、11月初旬に受講ページURLと、視聴用ID・パスワードを登録メールアドレスに送付します。 \n2.　視聴期間中に、必ず全ての講演を視聴してください。 \n3.　視聴期間内は全ての講演が何度でも視聴可能です（但し、ランチョンセミナーのみLive配信） \n4.　全ての講演を視聴した履歴を確認の上、事務局にて単位を登録いたします。 \n5.　受講修了証の発行はありません。 \n6.　受講料振込完了者には、開催1週間前までにテキスト集を発送いたします \n受講ページ\nhttps://singlecast.gakkaitv.net/stream/201001161 \n問い合わせ先\n第32回東北セミナー運営事務局 \n株式会社東北共立　担当：小足 \nTEL：022-246-2591 \nFAX：022-246-1754 \nE-mail：jges-t32@tohoku-kyoritz.co.jp
URL:https://www.jges.net/event/2020-33644
CATEGORIES:セミナーWEB開催
END:VEVENT
BEGIN:VEVENT
DTSTART;TZID=Asia/Tokyo:20201115T090000
DTEND;TZID=Asia/Tokyo:20201115T235900
DTSTAMP:20260421T094301
CREATED:20200714T014035Z
LAST-MODIFIED:20200714T014035Z
UID:31205-1605430800-1605484740@www.jges.net
SUMMARY:第34回北海道セミナー【WEB開催】のご案内
DESCRIPTION:※本セミナーの開催は終了いたしました。\n配信期間\n2020年11月15日（日）9:00~23:59：Web開催 \n会長\n盛一　健太郎（旭川医科大学　病態代謝・消化器・血液腫瘍制御内科学分野（消化器・内視鏡学部門）） \n受講方法\nお申込みをされた方に、受講用のIDとパスワードをお送りします。 \nIDとパスワードは11月10日（火）頃にメールにてご案内します。 \nログイン画面にIDとパスワードをご入力いただくと、テキスト（PDF）とプログラムが掲載されたページに変わります。 \nテキストはダウンロードの上、ご利用ください。 \n講演の動画はプログラムの演題タイトルをクリックいただくと、動画のページに移動して、視聴いただけます。 \n  \n講演動画視聴の注意事項 \n・各動画（開講式・閉講式を含む）は必ず最後まで視聴してください。 \n・視聴が未完了の場合、視聴済みの箇所より先の場所からの「早送り」再生はできません。（「巻き戻し」は可能です） \n・一度視聴が完了した動画は「巻き戻し」、「早送り」再生が可能です \n・動画視聴を開始・停止を行うと自動で視聴時間を計測します。各動画視聴ページを離れる際は視聴済み範囲の記録のため、「一時停止」ボタンを押し再生の停止を行ってください。 \n・動画の再生中にウィンドウを閉じる等を行わないでください。 \n・各動画の視聴順番は問いません。 \n受講ページ\nhttps://jges-hokkaido-2020.web.app/ \n問い合わせ先\n第34回 日本消化器内視鏡学会北海道支部セミナー事務局 \n株式会社イー・シー・プロ \nE-mail：matsuda@ec-pro.co.jp \n※お問合せはメールにお送りいただけますよう、お願い致します。
URL:https://www.jges.net/event/2020-31205
CATEGORIES:セミナーWEB開催
END:VEVENT
BEGIN:VEVENT
DTSTART;TZID=Asia/Tokyo:20200930T120000
DTEND;TZID=Asia/Tokyo:20201028T170000
DTSTAMP:20260421T094301
CREATED:20200804T033923Z
LAST-MODIFIED:20200804T033923Z
UID:31602-1601467200-1603904400@www.jges.net
SUMMARY:第44回学会セミナー【WEB開催】のご案内
DESCRIPTION:※視聴期間は終了いたしました。 \n配信期間\n2020年9月30日（水）正午～10月28日（水）17：00 \n会長\n木田　光広（北里大学医学部　消化器内科学） \n受講方法\n１． 視聴サイトへのログインには受講者氏名と会員番号の入力が必要となります。 \n会員番号は予めご用意くださいますようお願いいたします。 \n※受講申込手続き(事前申込ならびに受講料振込)が完了していないと受講サイトへ \nのログインは出来ません。 \n２． 日本消化器内視鏡学会ホームページより、第44回日本消化器内視鏡学会セミナーのホームページ内の受講サイトへ 視聴期間内にアクセスしてください。 \n３． 視聴期間は、2020年9月30日（水）正午〜10月28日（水）17:00迄です。 \n４． 上記期間中に、講演１～12の視聴をしてください。(必須) \n　　 　※視聴期間内は、全ての講演が何度でも視聴可能です。 \n　　 　※日にちを分けて視聴いただいても結構です。 \n５． 講演１～12を視聴完了ごとに設問ページへアクセス出来るようになります。 \n　設問に全て正解すると受講終了となり、出席証明証がダウンロードできます。 \n（受講証の再発行は致しかねます。大切に保管してください。） \n*本セミナー受講終了後の出席登録は、配信期間終了後に運営事務局にて行いますので、 \n各個人でのお手続きは不要です。 \n６． 受講料の領収書が必要な方は、視聴サイトよりダウンロードしてください。 \n受講ページ\n【視聴期間は終了いたしました】 \n問い合わせ先\n第44回学会セミナー運営事務局 \n株式会社プランニングウィル \nTEL：03-6801-8084 \nFAX：03-6801-8094 \nE-mail：44jges_seminar@pw-co.jp
URL:https://www.jges.net/event/2020-31602
CATEGORIES:セミナーWEB開催
END:VEVENT
BEGIN:VEVENT
DTSTART;TZID=Asia/Tokyo:20200927T120000
DTEND;TZID=Asia/Tokyo:20201004T120000
DTSTAMP:20260421T094301
CREATED:20200817T063840Z
LAST-MODIFIED:20200817T063840Z
UID:31932-1601208000-1601812800@www.jges.net
SUMMARY:第48回重点卒後教育セミナー【WEB開催】のご案内
DESCRIPTION:※本セミナーの開催は終了いたしました。\n配信期間 \n2020年9月27日（日）正午～2020年10月４日（日）正午 \n会長\n廣岡　芳樹(藤田医科大学　消化器内科学講座Ⅱ) \n受講方法\n\n視聴サイトページより、会員番号・パスワードをご入力の上、会員ページへログインください\n【第48回重点卒後教育セミナー（WEB開催）】をご選択ください。\nログイン情報と照合し、事前申込みが完了している方のみ視聴画面へ進めます。\n\n　※事前申込みされていない方は、受講いただくことはできません。 \n  4.全講演を視聴完了した確認がとれた方へ、受講証明書をメールにて送付いたします。 \n　※講演ごとに日にちを分けて視聴いただいても結構です。 \n受講ページ\n【受講期間は終了いたしました】 \n※2020年10月４日（日）正午までに全講演の視聴が完了していない場合、業績は付与されませんのでご注意ください。 \n問い合わせ先\n■WEB視聴画面の操作に関するお問合せ \n第４８回重点卒後教育セミナーWEB運営事務局 \nTEL: 0120-046-844 \nFAX: 03-6368-9509 \nE-mail：helpdesk@jges-elearning.org \n■日本消化器内視鏡学会事務局 \n※専門医・指導医資格に関するお問合せは下記学会ホームページ、お問合せフォームよりお問合せください。 \nhttps://www.jges.net/contact
URL:https://www.jges.net/event/2020-31932
CATEGORIES:セミナーWEB開催
END:VEVENT
BEGIN:VEVENT
DTSTART;TZID=Asia/Tokyo:20200823T085500
DTEND;TZID=Asia/Tokyo:20200930T170000
DTSTAMP:20260421T094301
CREATED:20200728T063659Z
LAST-MODIFIED:20200728T063659Z
UID:31431-1598172900-1601485200@www.jges.net
SUMMARY:第38回近畿セミナー【WEB開催】のご案内
DESCRIPTION:※本セミナーの開催は終了いたしました。\n会長 \n水野　成人　（近畿大学奈良病院　内視鏡部） \n配信期間\nリアルタイム配信　2020年8月23日（日）8：55　～　16：00 \nオンデマンド配信　2020年8月31日（月）正午　～　9月30日（水）17：00 \nテーマ\n安全で効果的な内視鏡診療　－その継承と発展－ \n受講方法\n\n8月中旬に、視聴用IDとパスワードを、ご登録いただいたメールアドレスに送ります。\n日本消化器内視鏡学会ホームページより、第38回日本消化器内視鏡学会近畿セミナーのホームページ内の視聴サイトへ視聴期間内にアクセスしてください。\n視聴期間は、2020 年8 月23日（日）と、8月31日（月）から9月30日（水）までです。 8月23日の当日配信以降8月30日までは、オンデマンド配信準備のため視聴できません。\n上記期間中に、全ての講演の聴講をしてください（必須）。\n\n視聴期間内は、全ての講演が何度でも視聴可能です。\n日にちを分けて視聴いただいても結構です。\n\n\n各講演では、終了時に1桁の数字（キーナンバー）をお知らせします。\n全ての視聴が終了した段階で、講演のキーナンバーを登録してください。正しいキーナンバーを入力いただければ、後日受講証明書（領収書付き）をお送りします。\n\nキーナンバーは9個必要です。\n入力方法は視聴サイトでご確認いただけます。\n受講証明書（領収書付き）の再発行は致しかねます。大切に保管してください。\n\n\n\n受講ページ\nhttp://plaza.umin.ac.jp/~jgeskinki38/ \nお知らせ\n\n新型コロナウイルスの蔓延の程度により、今後変更される可能性があります。\nセミナー会場（大阪国際交流センター）では視聴できませんので、来場はご遠慮ください。\n視聴後、アンケートにお答えください。\n\n問い合わせ先\n第38回日本消化器内視鏡学会近畿セミナー運営事務局　 \n株式会社 PLANNING FOREST \nTEL：06-6630-9002 \nFAX：06-6630-9003 \nE-mail：kinkiseminar38@p-forest.co.jp
URL:https://www.jges.net/event/2020-31431
CATEGORIES:セミナーWEB開催
END:VEVENT
BEGIN:VEVENT
DTSTART;TZID=Asia/Tokyo:20200805T120000
DTEND;TZID=Asia/Tokyo:20200831T120000
DTSTAMP:20260421T094301
CREATED:20200707T023341Z
LAST-MODIFIED:20200707T023341Z
UID:30950-1596628800-1598875200@www.jges.net
SUMMARY:第40回関東セミナー【WEB開催】のご案内
DESCRIPTION:※本セミナーの開催は終了いたしました。\n会長\n谷中　昭典（筑波大学附属病院 日立社会連携教育研究センター 消化器内科） \n配信期間\n2020年8月5日（水）12:00 ～ 2020年8月31日（月）12:00 \nテーマ\n令和新時代の消化器内視鏡学―安全と飛躍を目指して \n受講方法\n１．受講者の皆様へ、7 月下旬に視聴用のID とパスワードの発行方法のご案内を \n　ご登録いただきましたメールアドレスへ送ります。 \n２．日本消化器内視鏡学会ホームページより、 \n　第40 回日本消化器内視鏡学会関東セミナーのホームページ内の視聴サイトへ \n　視聴期間内にアクセスしてください。 \n３．視聴期間は、2020 年8 月5 日（水）正午〜 31 日（月）正午までです。 \n４．上記期間中に、講演１～８の聴講をしてください。（必須） \n　※視聴期間内は、全ての講演が何度でも視聴可能です。 \n　※日にちを分けて視聴いただいても結構です。 \n５．講演１～８には、決まったキーワードが設定されています。 \n６．視聴が終了いたしましたら、講演１～８のそれぞれ \n　正しいキーワードを入力いただければ、終了証が視聴サイトよりダウンロードできます。 \n　※キーワードは8 個必要です。 \n　※入力方法は、視聴サイトでご確認いただけます。 \n　※終了証の再発行は致しかねます。大切に保管してください。 \n７．受講料の領収書が必要な方は、視聴サイトよりダウンロードしてください。 \n受講ページ\nhttps://www.ibmd.jp/40kanto_seminar/ \n問い合わせ先\n第40回 関東セミナー運営事務局 \nTEL：03-6801-8084 \nFAX：03-6801-8094 \nE-mail：40kanto_seminar@pw-co.jp
URL:https://www.jges.net/event/2020-30950
CATEGORIES:セミナーWEB開催
END:VEVENT
BEGIN:VEVENT
DTSTART;TZID=Asia/Tokyo:20200726T090000
DTEND;TZID=Asia/Tokyo:20200930T235900
DTSTAMP:20260421T094301
CREATED:20200623T012227Z
LAST-MODIFIED:20200623T012227Z
UID:30537-1595754000-1601510340@www.jges.net
SUMMARY:第31回東海セミナー【WEB開催】のご案内
DESCRIPTION:※本セミナーの開催は終了いたしました。\n会長 \n柴田知行（藤田医科大学　消化器内科Ⅰ） \n配信期間\n2020年7月26日（日）9:00　～　2020年9月30日（水）23:59 \n受講方法\nWeb受講（オンデマンド ストリーミング方式）となります。 \n配信期間内に動画の視聴をお願いいたします。 \n  \n★必ず配信期間内にプログラムの全動画を視聴してください。\n　全動画の視聴が確認できない場合は業績となりません。\n　また、配信期間前および配信終了後の視聴はできませんのでご注意ください。 \n★全動画の視聴完了を確認の上、配信期間終了後２週間程度（10月中旬頃）に、 \n　本部にて業績を登録いたします。 \n　終了後の修了証の発行はございません。 \n受講ページ\n視聴ページURL：　https://jges31tokaiseminar.metamovics.jp/ \n※事前にご案内をしておりますIDとパスワードにてログインし、 \n　必ず配信期間中にすべての動画を再生、視聴してください。 \n　動画の視聴は7月26日（日）午前09:00より可能となります。 \n※講師の先生方へのご質問についてはEmailにて受け付けます。 \n　件名を【質問】+演題名として頂き、本文に質問事項をご記入の上、 \njges31tokaiseminar@ccs-net.co.jp宛へメールをご送信ください。　 \n　なお、回答は配信期間終了後となる見込みです。予めご了承ください。 \n問い合わせ先\n第31回東海セミナー事務局 \nTEL：　052-269-3181 \nFAX：　052-269-3252 \nE-mail：　jges31tokaiseminar@ccs-net.co.jp \n 
URL:https://www.jges.net/event/2020-30537
CATEGORIES:セミナーWEB開催
END:VEVENT
END:VCALENDAR