BEGIN:VCALENDAR
VERSION:2.0
PRODID:-//日本消化器内視鏡学会 - ECPv6.10.1.1//NONSGML v1.0//EN
CALSCALE:GREGORIAN
METHOD:PUBLISH
X-WR-CALNAME:日本消化器内視鏡学会
X-ORIGINAL-URL:https://www.jges.net
X-WR-CALDESC:日本消化器内視鏡学会 のイベント
REFRESH-INTERVAL;VALUE=DURATION:PT1H
X-Robots-Tag:noindex
X-PUBLISHED-TTL:PT1H
BEGIN:VTIMEZONE
TZID:Asia/Tokyo
BEGIN:STANDARD
TZOFFSETFROM:+0900
TZOFFSETTO:+0900
TZNAME:JST
DTSTART:20200101T000000
END:STANDARD
END:VTIMEZONE
BEGIN:VEVENT
DTSTART;TZID=Asia/Tokyo:20201115T090000
DTEND;TZID=Asia/Tokyo:20201115T235900
DTSTAMP:20260421T023347
CREATED:20200714T014035Z
LAST-MODIFIED:20200714T014035Z
UID:31205-1605430800-1605484740@www.jges.net
SUMMARY:第34回北海道セミナー【WEB開催】のご案内
DESCRIPTION:※本セミナーの開催は終了いたしました。\n配信期間\n2020年11月15日（日）9:00~23:59：Web開催 \n会長\n盛一　健太郎（旭川医科大学　病態代謝・消化器・血液腫瘍制御内科学分野（消化器・内視鏡学部門）） \n受講方法\nお申込みをされた方に、受講用のIDとパスワードをお送りします。 \nIDとパスワードは11月10日（火）頃にメールにてご案内します。 \nログイン画面にIDとパスワードをご入力いただくと、テキスト（PDF）とプログラムが掲載されたページに変わります。 \nテキストはダウンロードの上、ご利用ください。 \n講演の動画はプログラムの演題タイトルをクリックいただくと、動画のページに移動して、視聴いただけます。 \n  \n講演動画視聴の注意事項 \n・各動画（開講式・閉講式を含む）は必ず最後まで視聴してください。 \n・視聴が未完了の場合、視聴済みの箇所より先の場所からの「早送り」再生はできません。（「巻き戻し」は可能です） \n・一度視聴が完了した動画は「巻き戻し」、「早送り」再生が可能です \n・動画視聴を開始・停止を行うと自動で視聴時間を計測します。各動画視聴ページを離れる際は視聴済み範囲の記録のため、「一時停止」ボタンを押し再生の停止を行ってください。 \n・動画の再生中にウィンドウを閉じる等を行わないでください。 \n・各動画の視聴順番は問いません。 \n受講ページ\nhttps://jges-hokkaido-2020.web.app/ \n問い合わせ先\n第34回 日本消化器内視鏡学会北海道支部セミナー事務局 \n株式会社イー・シー・プロ \nE-mail：matsuda@ec-pro.co.jp \n※お問合せはメールにお送りいただけますよう、お願い致します。
URL:https://www.jges.net/event/2020-31205
CATEGORIES:セミナーWEB開催
END:VEVENT
BEGIN:VEVENT
DTSTART;TZID=Asia/Tokyo:20201115T090000
DTEND;TZID=Asia/Tokyo:20201115T235900
DTSTAMP:20260421T023347
CREATED:20201001T080739Z
LAST-MODIFIED:20201001T080739Z
UID:33644-1605430800-1605484740@www.jges.net
SUMMARY:第32回東北セミナー【WEB開催】のご案内
DESCRIPTION:※本セミナーの開催は終了いたしました。\n会長\n中村昌太郎（岩手医科大学内科学講座消化器内科消化管分野） \n配信期間\n2020年11月15日（日）9:00 ～ 23:59 \nテーマ\n消化器内視鏡学：平成から令和への新展開 \n受講方法\n事前収録済の講演動画をオンデマンド配信 \n※ランチョンセミナーのみ（12:30~13:20）Live配信となりますのでご注意ください \n〇受講方法 \n1.　受講料振込完了者には、11月初旬に受講ページURLと、視聴用ID・パスワードを登録メールアドレスに送付します。 \n2.　視聴期間中に、必ず全ての講演を視聴してください。 \n3.　視聴期間内は全ての講演が何度でも視聴可能です（但し、ランチョンセミナーのみLive配信） \n4.　全ての講演を視聴した履歴を確認の上、事務局にて単位を登録いたします。 \n5.　受講修了証の発行はありません。 \n6.　受講料振込完了者には、開催1週間前までにテキスト集を発送いたします \n受講ページ\nhttps://singlecast.gakkaitv.net/stream/201001161 \n問い合わせ先\n第32回東北セミナー運営事務局 \n株式会社東北共立　担当：小足 \nTEL：022-246-2591 \nFAX：022-246-1754 \nE-mail：jges-t32@tohoku-kyoritz.co.jp
URL:https://www.jges.net/event/2020-33644
CATEGORIES:セミナーWEB開催
END:VEVENT
END:VCALENDAR