BEGIN:VCALENDAR
VERSION:2.0
PRODID:-//日本消化器内視鏡学会 - ECPv6.10.1.1//NONSGML v1.0//EN
CALSCALE:GREGORIAN
METHOD:PUBLISH
X-ORIGINAL-URL:https://www.jges.net
X-WR-CALDESC:日本消化器内視鏡学会 のイベント
REFRESH-INTERVAL;VALUE=DURATION:PT1H
X-Robots-Tag:noindex
X-PUBLISHED-TTL:PT1H
BEGIN:VTIMEZONE
TZID:Asia/Tokyo
BEGIN:STANDARD
TZOFFSETFROM:+0900
TZOFFSETTO:+0900
TZNAME:JST
DTSTART:20210101T000000
END:STANDARD
END:VTIMEZONE
BEGIN:VEVENT
DTSTART;TZID=Asia/Tokyo:20210124T080000
DTEND;TZID=Asia/Tokyo:20210207T235900
DTSTAMP:20260421T065032
CREATED:20201105T223516Z
LAST-MODIFIED:20201105T223516Z
UID:34848-1611475200-1612742340@www.jges.net
SUMMARY:第32回甲信越セミナー【WEB開催】のご案内
DESCRIPTION:※申込み受付は終了いたしました。\n会長\n三枝　久能（JA長野厚生連　南長野医療センター篠ノ井総合病院） \n配信期間\n2021年1月24日（日）8：00　～　2021年2月7日（日）23：59 \n受講方法\n事前収録済の講演動画をWEBにてオンデマンド配信（スポンサードセミナー含む） \n  \n1.　受講料振込完了者には、配信日初日の約1ヶ月前にテキスト、受講URL、視聴用ID・パスワード、受講料領収書を送付します。 \n（併せてご登録いただいたメールアドレスへ同内容(テキスト・領収書除く)を添付し送付） \n2.　視聴期間中に、必ず全ての講演を視聴して下さい。 \n3.　視聴期間中は全ての講演がいつでも視聴可能です。 \n4.　講演視聴中に中断したい場合は、「しおり機能」を利用することで、再視聴時に中断箇所から視聴することができます。 \n5.　各講演の最後に「keyword」をお知らせいたします。全ての「keyword」をお答えいただく事で受講終了となります。 \n（スポンサードセミナーは除く） \n6.　8講演の他に「アンケート」が受講完了の条件の1つとしていますのでご回答下さい。 \n（「必須」項目をお答えいただくことで受講完了となります） \n7.　全ての講演を視聴した履歴を確認の上、事務局にて単位を登録いたします。 \n8.　受講修了証が必要な方は、全ての講演を視聴されると「認定証を発行する」をクリック可能となり印刷することができます。 \n9.　操作方法が不明な場合は、サイトの「操作方法」を参照して下さい。 \n10. 講演に関する質問はお受けしないことといたします。 \n受講ページ\nhttps://www.c-streaming.net/v5/e-learning/user/login.php?kaisha_id=Fdq7m89srx4%3D \n問い合わせ先\n第32回日本消化器内視鏡学会甲信越セミナー運営事務局\nTEL：026-292-2261　 \nFAX：026-293-0025\nE-mail：syonai-shino@shinonoi-hp.jp
URL:https://www.jges.net/event/2020-34848
CATEGORIES:セミナーWEB開催
END:VEVENT
END:VCALENDAR