BEGIN:VCALENDAR
VERSION:2.0
PRODID:-//日本消化器内視鏡学会 - ECPv6.10.1.1//NONSGML v1.0//EN
CALSCALE:GREGORIAN
METHOD:PUBLISH
X-WR-CALNAME:日本消化器内視鏡学会
X-ORIGINAL-URL:https://www.jges.net
X-WR-CALDESC:日本消化器内視鏡学会 のイベント
REFRESH-INTERVAL;VALUE=DURATION:PT1H
X-Robots-Tag:noindex
X-PUBLISHED-TTL:PT1H
BEGIN:VTIMEZONE
TZID:Asia/Tokyo
BEGIN:STANDARD
TZOFFSETFROM:+0900
TZOFFSETTO:+0900
TZNAME:JST
DTSTART:20210101T000000
END:STANDARD
END:VTIMEZONE
BEGIN:VEVENT
DTSTART;TZID=Asia/Tokyo:20210423T120000
DTEND;TZID=Asia/Tokyo:20210430T120000
DTSTAMP:20260421T093945
CREATED:20210303T034136Z
LAST-MODIFIED:20210303T034136Z
UID:40068-1619179200-1619784000@www.jges.net
SUMMARY:第49回重点卒後教育セミナー【WEB開催】のご案内
DESCRIPTION:※本セミナーの開催は終了いたしました。 \n  \nオンデマンド配信期間 \n2021年4月23日（金）正午　～　2021年4月30日（金）正午 \n会長\n矢作　直久（慶應義塾大学医学部　腫瘍センター） \n受講方法\n\n下記【受講ページ】より、会員番号・パスワードをご入力の上、会員ページへログインください\n【第49回重点卒後教育セミナーWEB配信】をご選択ください。\nログイン情報と照合し、事前申込みが完了している方のみ視聴画面へ進めます。\n\n　※事前申込みされていない方は、受講いただくことはできません。 \n  4.各講演毎に出題される設問3問に解答が必要です。 \n  5.全6講演の視聴、及び設問への回答が完了すると受講証明書の発行が可能になります。 \n     ご自身で「受講証明書ダウンロード」ボタンよりご発行をお願い致します。 \n  \n※受講は、講演ごとに日にちを分けて視聴いただいても結構です。 \n受講ページ\n※本セミナーの開催は終了いたしました。 \n※事前申込みされていない方は、受講いただくことはできません。 \n※2021年4月30日（金）正午までに全講演の視聴が完了していない場合、業績は付与されませんのでご注意ください。 \n問い合わせ先\n■日本消化器内視鏡学会事務局 \n※専門医・指導医資格に関するお問合せは下記学会ホームページ、お問合せフォームよりご連絡ください。 \nhttps://www.jges.net/contact \n■WEB視聴画面の操作に関するお問合せ\n第49回重点卒後教育セミナーWEB運営事務局\nTEL: 0120-046-844\n電話受付時間：平日10:00－17:00\nE-mail：helpdesk@jges-elearning.org
URL:https://www.jges.net/event/2021-40068
CATEGORIES:セミナーWEB開催
END:VEVENT
END:VCALENDAR