BEGIN:VCALENDAR
VERSION:2.0
PRODID:-//日本消化器内視鏡学会 - ECPv6.10.1.1//NONSGML v1.0//EN
CALSCALE:GREGORIAN
METHOD:PUBLISH
X-WR-CALNAME:日本消化器内視鏡学会
X-ORIGINAL-URL:https://www.jges.net
X-WR-CALDESC:日本消化器内視鏡学会 のイベント
REFRESH-INTERVAL;VALUE=DURATION:PT1H
X-Robots-Tag:noindex
X-PUBLISHED-TTL:PT1H
BEGIN:VTIMEZONE
TZID:Asia/Tokyo
BEGIN:STANDARD
TZOFFSETFROM:+0900
TZOFFSETTO:+0900
TZNAME:JST
DTSTART:20210101T000000
END:STANDARD
END:VTIMEZONE
BEGIN:VEVENT
DTSTART;TZID=Asia/Tokyo:20211105T120000
DTEND;TZID=Asia/Tokyo:20211114T200000
DTSTAMP:20260421T122155
CREATED:20210902T060445Z
LAST-MODIFIED:20210902T060445Z
UID:47220-1636113600-1636920000@www.jges.net
SUMMARY:第50回重点卒後教育セミナー【WEB開催】のご案内
DESCRIPTION:オンデマンド配信期間\n2021年11月5日（金）正午 ～ 11月14日（日）20時まで \n会長\n春日井　邦夫（愛知医科大学　消化管内科） \n受講方法\n\n下記【受講ページ】より、会員番号・パスワードをご入力の上、会員ページへログインください\n【第50 回重点卒後教育セミナーWEB配信】をご選択ください。\nログイン情報と照合し、事前申込みが完了している方のみ視聴画面へ進めます。\n\n　※事前申込みされていない方は、受講いただくことはできません。 \n  4．受講修了には、配信期間中に全6講演の視聴完了が必要がとなります。 \n　※受講は、講演ごとに日にちを分けて視聴いただいても結構です。 \n  5．配信期間終了後、約2週間程で学会事務局にて業績登録を行います。 \n　※受講証明書の発行はございません。 \n受講ページ\n下記URLより会員ログインの上、視聴サイトへお進みください。 \nhttps://www.jges.net/medical/conference/education-seminar-50 \n※事前申込みされていない方は、受講いただくことはできません。 \n※ 11月14日（日）20時までに全講演の視聴が完了していない場合、業績は付与されませんのでご注意ください。 \n　ご自身の視聴状況は【視聴履歴】ボタンにてご確認いただけます。 \n問い合わせ先\n■日本消化器内視鏡学会事務局 \n※専門医・指導医資格に関するお問合せは下記学会ホームページ、お問合せフォームよりご連絡ください。 \nhttps://www.jges.net/contact \n■WEB視聴画面の操作に関するお問合せ\n第50回重点卒後教育セミナーWEB運営事務局\nTEL: 0120-046-844\n電話受付時間：平日10:00－17:00\nE-mail：helpdesk@jges-elearning.org
URL:https://www.jges.net/event/2021-47220
CATEGORIES:セミナーWEB開催
END:VEVENT
END:VCALENDAR