BEGIN:VCALENDAR
VERSION:2.0
PRODID:-//日本消化器内視鏡学会 - ECPv6.10.1.1//NONSGML v1.0//EN
CALSCALE:GREGORIAN
METHOD:PUBLISH
X-ORIGINAL-URL:https://www.jges.net
X-WR-CALDESC:日本消化器内視鏡学会 のイベント
REFRESH-INTERVAL;VALUE=DURATION:PT1H
X-Robots-Tag:noindex
X-PUBLISHED-TTL:PT1H
BEGIN:VTIMEZONE
TZID:Asia/Tokyo
BEGIN:STANDARD
TZOFFSETFROM:+0900
TZOFFSETTO:+0900
TZNAME:JST
DTSTART:20210101T000000
END:STANDARD
END:VTIMEZONE
BEGIN:VEVENT
DTSTART;TZID=Asia/Tokyo:20211128T085500
DTEND;TZID=Asia/Tokyo:20220107T170000
DTSTAMP:20260421T122248
CREATED:20211125T060946Z
LAST-MODIFIED:20211125T060946Z
UID:49491-1638089700-1641574800@www.jges.net
SUMMARY:第41回近畿セミナー【WEB開催】のご案内
DESCRIPTION:配信期間\n2021年11月28日（日）【Live配信】 \n2021年12月10日（金）～2022年1月7日（金）【オンデマンド配信】 \n会長\n河南　智晴（大津赤十字病院　消化器内科） \n受講方法\n1.下記URLよりアクセスしていただきWeb視聴ボタンより視聴用IDとPWを入力してください。 \nhttp://square.umin.ac.jp/jgeskinki41/ \n2.視聴用IDとPWは受講申込み時に登録いただきましたメールアドレスに会期の1週間前にお送りいたします。 \n3.視聴期間は下記をご確認ください。 \nLive配信　2021年11月28日（日）8：55〜16：00 \n　1）Zoomを用いたリアルタイム配信です。 \n　・Zoomアプリケーションお持ちでない方へ \n　閲覧ページに記載されているURLリンクをクリックして頂くと自動的にアプリケーションのダウンロードを要求されますので、ダウンロードして参加してください。 \n　・Zoomアプリケーションお持ちの方へ \n　　必ず『バージョン5.0.0以上』への更新をお願いします。 \n　　バージョン5.0.0未満のZoomアプリケーションを使用されますと暗号化方式の違いにより、参加ができなくなります。 \n　2）視聴にはシステム上、お名前とメールアドレスが必要になります。 \n　3）一旦退場されますと、再度入力が必要となります。 \n　4）質問はQ&Aで受付いたします。（質問内容は座長のみに表示されます） \n　5）入場の際にご入力頂きましたお名前とメールアドレスは、視聴にのみ必要であり、共催企業にお渡しすることはありません。 \n　オンデマンド配信　2021年12月10日（金）～2022年1月7日（金） \n4.上記期間中に、講演1～8の聴講をしてください。（必須） \n　※視聴期間内は、全ての講演（ランチョンセミナーは除く）が何度でも視聴可能です。 \n　※日にちを分けて視聴いただいても結構です。 \n　※但し、ランチョンセミナーのみLive配信 \n5.講演1～8では、終了時に1桁の数字（キーナンバー）をお知らせします。 \n6.全ての視聴が終了した段階で、講演1〜8のキーナンバーを登録してください。正しいキーナンバーを入力いただければ、後日（オンデマンド配信終了後）受講証明書（領収書付）をお送りいたします。 \n　※キーナンバーは8個必要です。 \n　※入力方法は、視聴サイトでご確認いただけます。 \n　※受講証明書（領収書付）の再発行は致しかねます。大切に保管してください。 \n7.セミナー会場では視聴できませんので、ご来場はご遠慮ください。 \n8.アンケートにお答えください。 \n受講ページ\nhttp://square.umin.ac.jp/jgeskinki41/ \n※推奨環境 \nWindows 8.1以降 & macOS High Sierra以降 \nMicrosoft Edge\, Internet Explorer\, Firefox\, Chrome\, Safari(Mac版のみ)\, 各最新版 \njavascriptを有効にしてください。 \n解像度が低い環境では表示が崩れる場合があります。 \nお問合せ先\n第41回日本消化器内視鏡学会近畿セミナー運営事務局 \nTEL：06-6630-9002 \nFAX：06-6630-9003 \nE-mail：kinkiseminar41@p-forest.co.jp
URL:https://www.jges.net/event/2021-49491
CATEGORIES:セミナーWEB開催
END:VEVENT
END:VCALENDAR