BEGIN:VCALENDAR
VERSION:2.0
PRODID:-//日本消化器内視鏡学会 - ECPv6.10.1.1//NONSGML v1.0//EN
CALSCALE:GREGORIAN
METHOD:PUBLISH
X-ORIGINAL-URL:https://www.jges.net
X-WR-CALDESC:日本消化器内視鏡学会 のイベント
REFRESH-INTERVAL;VALUE=DURATION:PT1H
X-Robots-Tag:noindex
X-PUBLISHED-TTL:PT1H
BEGIN:VTIMEZONE
TZID:Asia/Tokyo
BEGIN:STANDARD
TZOFFSETFROM:+0900
TZOFFSETTO:+0900
TZNAME:JST
DTSTART:20220101T000000
END:STANDARD
END:VTIMEZONE
BEGIN:VEVENT
DTSTART;TZID=Asia/Tokyo:20220114T120000
DTEND;TZID=Asia/Tokyo:20220123T200000
DTSTAMP:20260421T094906
CREATED:20211007T092114Z
LAST-MODIFIED:20211007T092114Z
UID:48067-1642161600-1642968000@www.jges.net
SUMMARY:第45回学会セミナー（2回目）WEB開催のご案内（申込み・受講）
DESCRIPTION:※本セミナーの受講期間は終了いたしました。\n \n※1回目のオンデマンド配信（10月1日～10月10日）を受講された方は、本セミナーを申込み・受講されても業績は付与されませんのでご注意ください。\n  \n※本セミナーは事前受付は行いませんので、配信開始日の2022年1月14日正午より、下記の手順で参加登録⇒受講料決済の上、受講いただけます。 \n配信期間\n2022年1月14日（金）正午～1月23日（日）20：00迄 \n会長\n八尾 建史（福岡大学筑紫病院 内視鏡部） \n受講料\n15\,000円 \n受講方法\n１．ページ下方の【受講ページ】より、会員番号・パスワードをご入力の上、会員ページへログインください \n※会員ログインパスワードをお忘れの方は、事前にこちらより再設定をお願いいたします。 \n２．【第45回学会セミナー（オンデマンド）】を選択の上、参加登録へお進みください。 \n３．参加登録、支払い（クレジット決済可能）完了後、受講画面にお進みいただけます。 \n４．受講修了には、配信期間中に全講演の視聴完了が必要となります。 \n５．配信期間終了後、2週間程で学会事務局にて業績登録を行います。 \n　※受講証明書の発行はございません。 \n  \n第45回学会セミナー（2回目）のオンデマンド配信は、本年度限りの臨時配信となりますため、テキストの配布はございません。ご了承ください。 \n受講ページ\nhttps://www.jges.net/medical/conference/conference-seminars-45second \n※2021年１月23日（日）20：00までに全講演の視聴が完了していない場合、業績は付与されませんのでご注意ください。 \nお問合せ先\n■日本消化器内視鏡学会事務局 \n※専門医・指導医資格に関するお問合せは下記学会ホームページ、お問合せフォームよりご連絡ください。 \nhttps://www.jges.net/contact \n■WEB視聴画面の操作に関するお問合せ\n第45 回学会セミナーWEB配信事務局\nTEL: 0120-046-844\n電話受付時間：平日10:00－17:00\nE-mail：helpdesk@jges-elearning.org \n  \nプログラム\n\n\n\n演題名\n担当\n講師/司会者氏名・所属\n\n\n開会挨拶\n会長\n八尾 建史\n\n\n（福岡大学筑紫病院 内視鏡部）\n\n\n1　食道癌に対するESD/EMRガイドライン\n講師\n石原 立\n\n\n（大阪国際がんセンター 消化管内科）\n\n\n司会\n有馬 美和子\n\n\n（埼玉県立がんセンター 内視鏡科）\n\n\n2　POEM診療ガイドライン\n講師\n井上 晴洋\n\n\n（昭和大学江東豊洲病院\n\n\n　消化器センター）\n\n\n司会\n村上 和成\n\n\n（大分大学医学部 消化器内科）\n\n\n3　非静脈瘤性上部消化管出血における内視鏡診療ガイドライン\n講師\n藤城 光弘\n\n\n（東京大学大学院医学系研究科\n\n\n　消化器内科学）\n\n\n司会\n矢作 直久\n\n\n（慶應義塾大学医学部 腫瘍センター）\n\n\n4　早期胃癌の内視鏡診断ガイドライン\n講師\n八尾 建史\n\n\n（福岡大学筑紫病院 内視鏡部）\n\n\n司会\n田尻 久雄\n\n\n（東京慈恵会医科大学\n\n\n　先進内視鏡治療研究講座）\n\n\n5　胃癌に対するESD/EMRガイドライン（第2版）\n講師\n小野 裕之\n\n\n（県立静岡がんセンター 内視鏡科）\n\n\n司会\n上堂 文也\n\n\n（大阪国際がんセンター 消化管内科）\n\n\n6　抗血栓薬服用者に対する消化器内視鏡診療ガイドライン\n講師\n加藤 元嗣\n\n\n（独立行政法人国立病院機構\n\n\n　函館病院）\n\n\n司会\n藤本 一眞\n\n\n（国際医療福祉大学大学院\n\n\n　国際医療福祉大学医学部\n\n\n　内科）\n\n\n7　EST診療ガイドライン\n講師\n良沢 昭銘\n\n\n（埼玉医科大学国際医療センター\n\n\n　消化器内科）\n\n\n司会\n藤田 直孝\n\n\n（みやぎ健診プラザ）\n\n\n8　EPLBD診療ガイドライン\n講師\n糸井 隆夫\n\n\n（東京医科大学 消化器内科）\n\n\n司会\n岡部 義信\n\n\n（久留米大学医学部\n\n\n　内科学講座消化器内科部門）\n\n\n9　小腸内視鏡診療ガイドライン\n講師\n山本 博徳\n\n\n（自治医科大学 内科学講座 ）\n\n\n司会\n中村 哲也\n\n\n（獨協医科大学 医療情報センター）\n\n\n10　内視鏡診療における鎮静に関するガイドライン（第2版）\n講師\n後藤田 卓志\n\n\n（日本大学医学部 内科学系消化器肝臓内科学分野 消化器内科）\n\n\n司会\n福田 眞作\n\n\n（弘前大学大学院医学研究科\n\n\n　消化器血液内科学講座）\n\n\n11　大腸内視鏡スクリーニングとサーベイランスガイドライン\n講師\n斎藤 豊\n\n\n（国立がん研究センター中央病院\n\n\n　内視鏡科）\n\n\n司会\n松田 尚久\n\n\n（東邦大学医療センター大森病院\n\n\n　消化器内科）\n\n\n12　大腸ESD/EMRガイドライン（第２版）\n講師\n田中 信治\n\n\n（広島大学大学院医系科学研究科　\n\n\n　内視鏡医学）\n\n\n司会\n鶴田 修\n\n\n（社会医療法人雪の聖母会\n\n\n　聖マリア病院 消化器内科）\n\n\n閉会挨拶\n会長\n八尾 建史\n\n\n（福岡大学筑紫病院 内視鏡部）
URL:https://www.jges.net/event/2021-48067
CATEGORIES:セミナーWEB開催
END:VEVENT
BEGIN:VEVENT
DTSTART;TZID=Asia/Tokyo:20220123T090000
DTEND;TZID=Asia/Tokyo:20220131T120000
DTSTAMP:20260421T094906
CREATED:20211208T031404Z
LAST-MODIFIED:20211208T031404Z
UID:51438-1642928400-1643630400@www.jges.net
SUMMARY:第35回九州セミナー【WEB開催】のご案内
DESCRIPTION:配信期間\n2022年1月23日（日）午前9：00　～1月31日（月）　正午迄 \n会長\n江﨑　幹宏（佐賀大学医学部内科学講座 消化器内科） \n受講方法\n・入金完了者には（会期1週間前頃）視聴用IDとPWをメール送信致します。 \n・配信期間中に講演1～9の全ての聴講を行ってください。（必須） \n　※視聴期間内は、全ての講演が何度でも視聴可能です。 \n　※日にちを分けて視聴いただいても結構です。 \n・講演1～9の終了時に1桁の数字（キーナンバー）を表示いたします。 \n・全ての講演を視聴後、講演1～9のキーナンバーを視聴サイトの「キーナンバー登録・アンケート回答」より登録してください。正しいキーナンバーを入力いただければ、後日（オンデマンド配信終了後）受講証明書をお送りいたします。 \n受講ページ\nhttps://convention.kijima-p.co.jp/jges_ks35_webmeeting/ \nお問合せ先\n第35回日本消化器内視鏡学会九州セミナー　運営事務局\nE-mail：jges_ks35@jtbcom.co.jp \n※メールでのお問い合わせをお願いいたします。
URL:https://www.jges.net/event/2021-51438
CATEGORIES:セミナーWEB開催
END:VEVENT
BEGIN:VEVENT
DTSTART;TZID=Asia/Tokyo:20220123T090000
DTEND;TZID=Asia/Tokyo:20220205T180000
DTSTAMP:20260421T094906
CREATED:20211121T235834Z
LAST-MODIFIED:20211121T235834Z
UID:49361-1642928400-1644084000@www.jges.net
SUMMARY:第33回 甲信越支部セミナー【WEB開催】のご案内
DESCRIPTION:配信期間\n2022年1月23日（日）9：00　～2月5日（土）　18：00 \n会長\n深澤　光晴（山梨大学医学部附属病院） \n受講方法\n受講申し込みは配信開始日の2週間前、入金期日は1週間前までで締め切とさせて頂きます。 \n入金完了者には視聴用のIDとPWをメール送信致します。 \n講演の途中、または最後にキーワードが表示されますので、すべてのキーワードをフォームに入力すると自動的に管理者にメールが届きます。キーワードが揃っている方には事務局より受講証明書を送信致します。 \n受講ページ\nhttps://33koshinetsu.jp \n問い合わせ先\n第33回日本消化器内視鏡学会甲信越支部セミナー事務局\nTEL：055-273-9584　 \nFAX：055-273-6748\nE-mail：hirokoa@yamanashi.ac.jp
URL:https://www.jges.net/event/2021-49361
CATEGORIES:セミナーWEB開催
END:VEVENT
END:VCALENDAR