BEGIN:VCALENDAR
VERSION:2.0
PRODID:-//日本消化器内視鏡学会 - ECPv6.10.1.1//NONSGML v1.0//EN
CALSCALE:GREGORIAN
METHOD:PUBLISH
X-WR-CALNAME:日本消化器内視鏡学会
X-ORIGINAL-URL:https://www.jges.net
X-WR-CALDESC:日本消化器内視鏡学会 のイベント
REFRESH-INTERVAL;VALUE=DURATION:PT1H
X-Robots-Tag:noindex
X-PUBLISHED-TTL:PT1H
BEGIN:VTIMEZONE
TZID:Asia/Tokyo
BEGIN:STANDARD
TZOFFSETFROM:+0900
TZOFFSETTO:+0900
TZNAME:JST
DTSTART:20230101T000000
END:STANDARD
END:VTIMEZONE
BEGIN:VEVENT
DTSTART;TZID=Asia/Tokyo:20230109T085500
DTEND;TZID=Asia/Tokyo:20230130T235900
DTSTAMP:20260420T065727
CREATED:20220630T014637Z
LAST-MODIFIED:20220630T014637Z
UID:59166-1673254500-1675123140@www.jges.net
SUMMARY:第32回中国支部セミナー【ハイブリッド開催】のご案内
DESCRIPTION:配信期間\nライブ配信： \n2023年1月9日（祝・月）8：55　～　1月9日（祝・月）17：00（予定）\nオンデマンド配信（共催セミナーは除く）： \n2023年1月17日（火）　～　1月30日（月）24：00（予定） \n会長\n磯本　一（鳥取大学医学部消化器・腎臓内科学） \n受講方法\nLive配信視聴方法\n・12月下旬にご登録いただきましたメールアドレスに視聴用のURLを送付させていただきます。\n・ウェビナーへのお名前、メールアドレスのご登録をお忘れなきようお願いいたします。\n・共催セミナーのご視聴（Live配信視聴）は単位認定の必須要件ではございません。\n・質疑はQ＆Aボックスのみで受付いたします。音声による質疑は行いません。 \nオンデマンド配信視聴方法\n開催期間 ：2023年1月17日（火）～30日（月）24：00（予定）\n※1月30日（月）24：00以降はサイトにアクセスできなくなりますため、\n　最終日1月30日(月)は24：00までにご視聴を終了していただくようお願いいたします。\n※配信期間中は共催セミナーを除く全ての講演がいつでも視聴可能です。 \nURL、ID、パスワードに関しまして\n　12月下旬に視聴用のURL、ID、パスワードを運営事務局より、\nご登録いただいたメールアドレスへ配信いたします。 \nテキスト\n　テキストはWEB視聴サイトより閲覧またはダウンロードいただく予定です。 \n受講証明書の交付\n　すべての動画の視聴後、セミナーサイトより受講証明書のダウンロードが可能\nとなりますのでセミナーサイトよりダウンロードをお願いいたします。 \n受講ページ：受講用のリンク\nhttps://med-gakkai.jp/jges-ch32/ \n◆動画視聴に係る留意事項◆\n　1. 同一IDでの複数者のログインを禁止いたします。\n　2. 動画の早送りを禁止いたします。\n　3. 画面キャプチャを撮ることも禁止とさせていただきます。\n　4. 同じＩＴ機器で複数者が受講される場合は、受講者の区別のために確実にログアウトされてから、次の受講者がログインをお願いします。確実なログアウトのために、一度シャットダウンまたは再起動してからのご視聴をおすすめします。\n　5. 視聴ログをお取りさせていただきます。 \n◆注意事項◆\n・ご使用されるパソコン、スマートホン、タブレット等やインターネット回線の状況等により、映像や音声が途切れる、または停止するなど、正常に視聴できないことがあります。\n・インターネット回線の不調やＩＴ機器の不具合などで、ご受講に支障等が発生した際は、ページを再読み込み（更新）いただくか、サイトをログアウトし、再度ログインし直していただきますようお願いします。 別のブラウザから視聴することで問題が解消する場合もあります。\n・インターネット回線やＩＴ機器の操作・不具合については、対応致しかねますので、大変心苦しく存じますが、インターネット回線事業者・ＩＴ機器の保守担当サービス会社などに、必要な対応等をお問い合わせくださいますようお願いします。 \nお問合せ先\n第32回日本消化器内視鏡学会中国支部セミナー運営事務局 \nTEL：086-463-5344 \nFAX：086-463-5345 \nE-mail：jges-ch32@med-gakkai.org
URL:https://www.jges.net/event/2022-59166
CATEGORIES:セミナーWEB開催
END:VEVENT
BEGIN:VEVENT
DTSTART;TZID=Asia/Tokyo:20230112T100000
DTEND;TZID=Asia/Tokyo:20230125T235900
DTSTAMP:20260420T065727
CREATED:20221130T021647Z
LAST-MODIFIED:20221130T021647Z
UID:64827-1673517600-1674691140@www.jges.net
SUMMARY:第36回　九州セミナー【WEB開催】のご案内
DESCRIPTION:配信期間\n2023年1月12日（木）10:00　～　2023年1月25日（水）23:59 \n会長\n中村　和彦（国立病院機構 福岡東医療センター） \n受講方法\n１．入金完了者には（会期1週間前頃）視聴用IDとPWをメール送信致します。\n　　※携帯のキャリアメールよりご連絡いただいている場合、迷惑メールに入ってしまっているケースなど、未着となっている可能性がございます。\n　　運営事務局からのメールがオンデマンド開始2日間前までに確認できない場合は、@以降をご自身でお持ちのメールアドレスにご変更いただき、jges_ks36@jtbcom.co.jpまでご連絡ください。\n２．配信期間中に講演1～8の全ての聴講を行ってください。（必須）\n　　※視聴期間内は、全ての講演が何度でも視聴可能です。\n　　※日にちを分けて視聴頂いても結構です。\n３．講演1～8のそれぞれの講演終了時に1桁の数字（キーナンバー）を表示いたしますので、全ての講演を視聴後、講演１~8のキーナンバーを視聴サイトの「キーナンバー登録」より登録してください。\n　　※キーナンバーの登録がないと受講証明書の発行ができません。 \n◆動画視聴に係る留意事項◆\n　1. 同一IDでの複数者のログインを禁止いたします。\n　2. 動画の早送りを禁止いたします。\n　3. 画面キャプチャを撮ることも禁止とさせていただきます。\n　4. 同じＩＴ機器で複数者が受講される場合は、受講者の区別のために確実にログアウト されてから、次の受講者のログインをお願いします。\n　　確実なログアウトのために、一度シャットダウンまたは再起動してからのご視聴をおすすめします。\n　5. 視聴ログを取らせていただきます。 \n◆注意事項◆\n・ご使用されるパソコン、スマートホン、タブレット等やインターネット回線の状況等により、映像や音声が途切れる、または停止するなど、正常に視聴できないことがあります。\n・インターネット回線の不調やＩＴ機器の不具合などで、ご受講に支障等が発生した際は、ページを再読み込み（更新）いただくか、サイトをログアウトし、再度ログインし直していただきますようお願いします。 別のブラウザから視聴することで問題が解消する場合もあります。\n・インターネット回線やＩＴ機器の操作・不具合については、運営事務局では対応致しかねますので、インターネット回線事業者・ＩＴ機器の保守担当サービス会社などに、必要な対応等をお問い合わせくださいますようお願いします。 \n受講ページ\nhttps://www.medicalvista.jp/jges_kyushu36/ \nその他\n【テキスト】\nテキストは電子抄録での公開となります。\n配信期間中に、配信ページより閲覧・ダウンロードが可能です。\n冊子での事前送付はございませんので、予めご了承ください。 \n【受講証明書の交付】\n受講証の発行はございません。（廃止となりました） \n【出席ポイント】\n出席ポイントは、セミナー視聴記録とキーナンバーの登録を運営事務局で確認した後、学会事務局にて会員情報システムに登録致します。\n（オンデマンド配信終了後3週間程度でホームページにて確認できます）\n注）セミナーの視聴とキーナンバーの登録が確認できない場合はポイント付与は認められません。 \n【領収書】 \n受講料の領収書が必要な方は、第36回日本消化器内視鏡学会九州セミナー運営事務局にメールでお知らせください。 \nE-mail：jges_ks36@jtbcom.co.jp \nお問い合わせ先                                                                                       \n第36回日本消化器内視鏡学会九州セミナー運営事務局\n(株)JTBコミュニケーションデザイン \nTEL：092-751-3244　　（月~金　10:00~17:30） \nFAX：092-751-3250 \nE-mail：jges_ks36@jtbcom.co.jp
URL:https://www.jges.net/event/2022-64827
CATEGORIES:セミナーWEB開催
END:VEVENT
BEGIN:VEVENT
DTSTART;VALUE=DATE:20230115
DTEND;VALUE=DATE:20230207
DTSTAMP:20260420T065727
CREATED:20221214T014951Z
LAST-MODIFIED:20221214T014951Z
UID:65265-1673740800-1675727999@www.jges.net
SUMMARY:第45回　関東セミナー【WEB開催】のご案内
DESCRIPTION:ライブ配信\n2023年1月15日（日）8：30～17：20 \nオンデマンド配信\n2023年1月23日（月）正午～2月6日（月） \n会長\n小林　清典（北里大学医学部 新世紀医療開発センター） \n受講方法\n１．受講者の皆様へ、受講サイトへアクセスできる ID とパスワードをご登録いただきましたメールアドレスへお送りします。 \n２．日本消化器内視鏡学会ホームページより、第 45 回日本消化器内視鏡学会関東セミナーのホームページ内の受講サイトへアクセスしてください。 \n３．受講期間\nライブ配信：2023 年 1 月 15 日（日）\nオンデマンド配信：2023 年 1 月 23 日（月）正午～ 2 月 6 日（月） \n４．上記期間に聴講をしてください。（講演 1・3・4・6・7・8・9 必須）\n※日にちを分けて聴講いただいても結構です。\n※オンデマンド配信期間内は、ランチョンセミナー以外の全ての講演が何度でも聴講可能です。 \n５．講演 1・3・4・6・7・8・9 には、設問が設定されています。 \n６．講演 1・3・4・6・7・8・9 を視聴完了後、設問ページへアクセス出来るようになります。設問に全て回答すると受講終了となり、出席証明書がダウンロードできます。（出席証明書の再発行は致しかねます。大切に保管してください。） \n７．受講料の領収書が必要な方は、受講サイトよりダウンロードしてください。 \n【ライブ配信について】\n下記プログラムはライブ配信のみとなります。\nランチョンセミナー\n　日時：2023 年 1 月 15 日（日）12:20 ～ 13:05\n　「潰瘍性大腸炎診療の最近の潮流」\n　司会：横山　薫（北里大学医学部　消化器内科学）\n　演者：杉本　健（浜松医科大学　内科学第一講座・消化器内科）\n　共催：田辺三菱製薬株式会社・ヤンセンファーマ株式会社・株式会社 JIMRO \n受講ページ\nhttps://yocto.ibmd.jp/45kanto_seminar/ \nお問い合わせ先                                                                                       \n第45回日本消化器内視鏡学会関東セミナー運営事務局\n㈱プランニングウィル内　                                                                                           \nTEL：03-6801-8084                                                                                          \nE-mail：45kanto_seminar@pw-co.jp
URL:https://www.jges.net/event/2022-65265
CATEGORIES:セミナーWEB開催
END:VEVENT
END:VCALENDAR