BEGIN:VCALENDAR
VERSION:2.0
PRODID:-//日本消化器内視鏡学会 - ECPv6.10.1.1//NONSGML v1.0//EN
CALSCALE:GREGORIAN
METHOD:PUBLISH
X-WR-CALNAME:日本消化器内視鏡学会
X-ORIGINAL-URL:https://www.jges.net
X-WR-CALDESC:日本消化器内視鏡学会 のイベント
REFRESH-INTERVAL;VALUE=DURATION:PT1H
X-Robots-Tag:noindex
X-PUBLISHED-TTL:PT1H
BEGIN:VTIMEZONE
TZID:Asia/Tokyo
BEGIN:STANDARD
TZOFFSETFROM:+0900
TZOFFSETTO:+0900
TZNAME:JST
DTSTART:20230101T000000
END:STANDARD
END:VTIMEZONE
BEGIN:VEVENT
DTSTART;VALUE=DATE:20230206
DTEND;VALUE=DATE:20230221
DTSTAMP:20260420T095244
CREATED:20221202T061224Z
LAST-MODIFIED:20221202T061224Z
UID:64924-1675641600-1676937599@www.jges.net
SUMMARY:第36回　東海セミナー【WEB開催】のご案内
DESCRIPTION:配信期間\n2023年2月6日（月）12：00　～　20日（月）11：59 \n会長\n小笠原尚高（愛知医科大学　消化管内科） \n受講方法\n１．受講申込をされた方へは１月下旬に受講方法をご案内いたします。 \n２．視聴の際は視聴用ページへアクセスし、追ってご案内しますIDとパスワードにてログインの上、視聴画面へお進みください。\n　★視聴用ページURL：　https://ccs-net-system.com/jges36seminar/login/index02\n　配信期間外はご視聴になれませんのでご注意ください。 \n３．視聴確認後、配信終了後３週間程度で日本消化器内視鏡学会にて業績を登録いたします。\n　　（修了証の発行はいたしません。） \n受講ページ\nhttps://ccs-net-system.com/jges36seminar/login/index02 \nお問い合わせ先                                                                                       \n第36回日本消化器内視鏡学会東海セミナー運営事務局　                                                                                           \nTEL：052-269-3181                                                                                           \nFAX：052-269-3252                                                                                           \nE-mail：jges36seminar@ccs-net.co.jp
URL:https://www.jges.net/event/2022-64924
CATEGORIES:セミナーWEB開催
END:VEVENT
END:VCALENDAR