BEGIN:VCALENDAR
VERSION:2.0
PRODID:-//日本消化器内視鏡学会 - ECPv6.10.1.1//NONSGML v1.0//EN
CALSCALE:GREGORIAN
METHOD:PUBLISH
X-WR-CALNAME:日本消化器内視鏡学会
X-ORIGINAL-URL:https://www.jges.net
X-WR-CALDESC:日本消化器内視鏡学会 のイベント
REFRESH-INTERVAL;VALUE=DURATION:PT1H
X-Robots-Tag:noindex
X-PUBLISHED-TTL:PT1H
BEGIN:VTIMEZONE
TZID:Asia/Tokyo
BEGIN:STANDARD
TZOFFSETFROM:+0900
TZOFFSETTO:+0900
TZNAME:JST
DTSTART:20210101T000000
END:STANDARD
END:VTIMEZONE
BEGIN:VEVENT
DTSTART;TZID=Asia/Tokyo:20210704T085500
DTEND;TZID=Asia/Tokyo:20210704T164000
DTSTAMP:20260421T151212
CREATED:20210315T044536Z
LAST-MODIFIED:20210315T044536Z
UID:40674-1625388900-1625416800@www.jges.net
SUMMARY:第33回東海セミナー【WEB開催】のご案内
DESCRIPTION:※本セミナーの受講申込みは、定員となりましたので締め切りました。\n会長\n藤城光弘（名古屋大学大学院医学系研究科　消化器内科学） \n配信期間\n2021年7月4日（日）08:55　～　16:40 \n受講方法\n※本セミナーはWEB配信セミナーとなります（3/12更新） \nZoomウェビナーによる配信となります。 \n  \n2021年6月中旬頃より、受講料のご入金がお済みの先生方から順にZoomウェビナー登録URLをメールにてお送りいたします。 \n＜2021年7月4日（日）会期当日までに、ウェビナー登録をお済ませください。＞ \n  \n◎登録後、ご登録メールアドレスへ自動送信されるウェビナー閲覧用URLからのみご視聴いただけます。 \n◎自動送信メールならびに閲覧用URLは、会期当日まで大切に保管ください。 \n  \nなお、従来実施しておりました受講証の発行は廃止となりました。 \n第33回東海セミナーでは、セミナー冊子送付の際に同封いたします領収書にて代えさせていただきます。 \n問い合わせ先\n第33回日本消化器内視鏡学会東海セミナー運営事務局 \nTEL：　052-269-3181 \nFAX：　052-269-3252 \nE-mail：jges33seminar@ccs-net.co.jp
URL:https://www.jges.net/event/2021-40674
CATEGORIES:セミナーWEB開催
END:VEVENT
BEGIN:VEVENT
DTSTART;TZID=Asia/Tokyo:20210718T110000
DTEND;TZID=Asia/Tokyo:20210831T235900
DTSTAMP:20260421T151212
CREATED:20210706T045125Z
LAST-MODIFIED:20210706T045125Z
UID:45679-1626606000-1630454340@www.jges.net
SUMMARY:第42回関東セミナー【WEB開催】のご案内
DESCRIPTION:※本セミナーの受講申込みは定員となりましたので、受付を締め切りました。 \n配信期間\nオンデマンド配信：2021年8月5日（木）正午　～31日（火）　23：59 \nスポンサードセミナー・ランチョンセミナー：7月18日（日）LIVE配信のみ \n会長\n河村　修（上牧温泉病院） \n受講方法\n本セミナーはWEB配信セミナーとなります。受講料の入金がお済みの先生方へ2021年7月上旬にLIVE配信用の視聴URL\,ID\,PWをお送りいたします。 \nオンデマンド配信用の視聴URL\,ID\,PWは7月下旬にお送りいたします。 \n受講ページ\nご視聴頂きありがとうございます。配信は終了致しました。 \n問い合わせ先\n第42回日本消化器内視鏡学会関東セミナー運営事務局 \nTEL：03-5940-2614 \nFAX：03-3942-6396 \nE-mail：jgesk42@sunpla-mcv.com
URL:https://www.jges.net/event/2021-45679
CATEGORIES:セミナーWEB開催
END:VEVENT
END:VCALENDAR