BEGIN:VCALENDAR
VERSION:2.0
PRODID:-//日本消化器内視鏡学会 - ECPv6.10.1.1//NONSGML v1.0//EN
CALSCALE:GREGORIAN
METHOD:PUBLISH
X-WR-CALNAME:日本消化器内視鏡学会
X-ORIGINAL-URL:https://www.jges.net
X-WR-CALDESC:日本消化器内視鏡学会 のイベント
REFRESH-INTERVAL;VALUE=DURATION:PT1H
X-Robots-Tag:noindex
X-PUBLISHED-TTL:PT1H
BEGIN:VTIMEZONE
TZID:Asia/Tokyo
BEGIN:STANDARD
TZOFFSETFROM:+0900
TZOFFSETTO:+0900
TZNAME:JST
DTSTART:20130101T000000
END:STANDARD
END:VTIMEZONE
BEGIN:VEVENT
DTSTART;VALUE=DATE:20130627
DTEND;VALUE=DATE:20130629
DTSTAMP:20260421T104126
CREATED:20170131T092502Z
LAST-MODIFIED:20170131T092502Z
UID:7228-1372291200-1372463999@www.jges.net
SUMMARY:第22回　日本癌病態治療研究会
DESCRIPTION:当番世話人：松川　正明（昭和大学附属豊洲病院　内科） \n会期：\n平成25年６月27日（木）・28日（金）\n ※６月26日（水）世話人会等会議開催 \n開催場所：\nホテル日航東京\n 〒135-8625 東京都港区台場1-9-1 \n事務局（問い合わせ先）：\n昭和大学附属豊洲病院内科\n 担当者：関川／土屋\n 〒135-8577 東京都江東区豊洲4-1-18\n TEL：03-3534-1151　FAX：03-3534-1545\n E-mail：toyosu2008@med.showa-u.ac.jp
URL:https://www.jges.net/event/2017-7228
LOCATION:ホテル日航東京\, 台場1-9-1\, 港区\, 東京都\, 1358625\, Japan
CATEGORIES:他学会等
END:VEVENT
END:VCALENDAR