BEGIN:VCALENDAR
VERSION:2.0
PRODID:-//日本消化器内視鏡学会 - ECPv6.10.1.1//NONSGML v1.0//EN
CALSCALE:GREGORIAN
METHOD:PUBLISH
X-ORIGINAL-URL:https://www.jges.net
X-WR-CALDESC:日本消化器内視鏡学会 のイベント
REFRESH-INTERVAL;VALUE=DURATION:PT1H
X-Robots-Tag:noindex
X-PUBLISHED-TTL:PT1H
BEGIN:VTIMEZONE
TZID:Asia/Tokyo
BEGIN:STANDARD
TZOFFSETFROM:+0900
TZOFFSETTO:+0900
TZNAME:JST
DTSTART:20130101T000000
END:STANDARD
END:VTIMEZONE
BEGIN:VEVENT
DTSTART;VALUE=DATE:20131009
DTEND;VALUE=DATE:20131013
DTSTAMP:20260421T052431
CREATED:20170106T082411Z
LAST-MODIFIED:20170106T082411Z
UID:2192-1381276800-1381622399@www.jges.net
SUMMARY:第86回　日本消化器内視鏡学会総会
DESCRIPTION:第86回　日本消化器内視鏡学会総会のご案内\n会長： \n　藤田　直孝（仙台市医療センター仙台オープン病院・消化器内科） \n会期： \n　平成25年10月９日（水）～12日（土） \n会場： \n　グランドプリンスホテル新高輪・国際館パミール・グランドプリンスホテル高輪・品川プリンスホテル \n　このたび日本消化器内視鏡学会第86回総会を担当させて頂くこととなり、大変光栄に存じますとともに責任の重さを痛感しているところです。本総会は６学会で構成されるJDDW2013に参加しており、JDDW開催期間の2013年10月９日（水）から12日（土）までの４日間のうち、10日から12日の３日を使って、品川において開催されます。JDDW2013はさらに参加者数の増加が見込まれており、これまで用いられてきたグランドプリンス新高輪、高輪に加え、品川プリンスホテルも会場として使用することになっています。\n 　 本消化器内視鏡学会は田尻久雄理事長の指導のもと、国際化を活動の一つの柱として掲げていますが、JDDWも国際セッションを重視する方向性を打ち出しています。おかげさまをもちまして理事長、プログラム委員をはじめとする多くの先生方のご指導により、この流れを汲みつつタイムリーなテーマが満載のプログラムを編成することができました。その中で、会期中どの時間帯でもInternational sessionがある、という構成を実現しました。今や東南アジア各国でも国際学会が盛んに開催されるようになっており、JDDWにも、アジアにとどまらず広く世界中からに参加者が増えることを期待したいと思います。一方、消化器内視鏡には実学の側面があります。また、症例を通じて学ぶことも少なくありません。これらについても考慮したプログラムを準備したつもりです。参加の先生方各々の立場で、少しでも多くの情報を持ち帰っていただければ幸いです。 \n第86回日本消化器内視鏡学会総会会長 \n藤田　直孝 \n第86回　日本消化器内視鏡学会総会プログラム\n詳細は総会ホームページをご覧ください。\n 　第86回　日本消化器内視鏡学会総会（JDDW2013）ホームページ \n\nプログラム委員（敬称略、50音順） \n田尻　久雄、上西　紀夫、赤松　泰次、糸井　隆夫、乾　　和郎、井上　晴洋、\n 岩男　　泰、上村　直実、遠藤　昌樹、大西　洋英、大原　弘隆、大宮　直木、\n 緒方　晴彦、小山　恒男、神澤　輝実、河合　　隆、木田　光広、小池　智幸、\n 後藤田卓志、斉藤　裕輔、田中　信治、丹野　誠志、豊永　高史、引地　拓人、\n 樋口　和秀、廣岡　芳樹、福田　眞作、藤城　光弘、藤本　一眞、古瀬　純司、\n 松本　主之、武藤　　学、屋嘉比康治、安田　一朗、矢作　直久、山野　泰穂、\n 良沢　昭銘、J.H Moon、James Lau\n\n\n第86回　日本消化器内視鏡学会総会事務局\n 会　　長：藤田　直孝（仙台市医療センター仙台オープン病院・消化器内科）\n 実務担当：野田　　裕（仙台市医療センター仙台オープン病院・消化器内科）\n 〒983-0824　仙台市宮城野区鶴ヶ谷5-22-1\n TEL：022-252-1111　　FAX：022-252-9431\n E-mail：jddw@openhp.or.jp
URL:https://www.jges.net/event/jges86
LOCATION:グランドプリンスホテル新高輪・国際館パミール\, 高輪３−１３−１\, 港区\, 東京都\, 108-0074 \, Japan
CATEGORIES:総会
END:VEVENT
BEGIN:VEVENT
DTSTART;TZID=Asia/Tokyo:20131012T133000
DTEND;TZID=Asia/Tokyo:20131012T170000
DTSTAMP:20260421T052431
CREATED:20170131T094551Z
LAST-MODIFIED:20170131T094551Z
UID:7250-1381584600-1381597200@www.jges.net
SUMMARY:第3回　腹腔鏡下スリーブ状胃切除術セミナー
DESCRIPTION:現在、世界中で急速に普及している新しい肥満外科手術、腹腔鏡下スリーブ状胃切除術（laparoscopic sleeve gastrectomy\, LSG）の第3回のセミナーを内視鏡下肥満外科治療研究会主催で開催いたします。腹腔鏡下スリーブ状胃切除術は2010年にわが国でもすでに先進医療として承認されている術式です。専門の先生方に講師としてご講演していただく予定としております。 \n肥満外科手術に興味をお持ちの医師、コメディカルの先生方に広くご参加お願いいたします。 \n主　催：内視鏡下肥満外科治療研究会 \n代表世話人：北野　正剛（大分大学） \n会　期：平成25年10月12日（土）　13：30～17：00 \n会　場\nKOKUYO HALL　多目的ホール\n 〒108-8710　東京都港区港南1丁目8番35号\n コクヨショールームサービス株式会社\n TEL：03-3450-3712　FAX：03-3450-3741\n http://www.kokuyo.co.jp/com/hall/ \n目　的：肥満症治療全般ならびに腹腔鏡下スリーブ状胃切除術の知識と技術の習得 \n内　容：\n肥満症に対する外科的治療の適応と現状\n 腹腔鏡下スリーブ状胃切除術のテクニックと周術期管理、合併症対策 \n募集人員：医師、コメディカル　30名 \n参加費：1000円 \n参加申し込み方法：内視鏡下肥満外科治療研究会事務局（jwelto@oita-u.ac.jp）まで、氏名、所属、所属住所、電話番号、E-mailアドレスを明記の上、9月30日（月）までにE-mail（メールのない場合FAX）にてご連絡お願いいたします。 \n共　催：コヴィディエン ジャパン株式会社 \n事務局：\n内視鏡下肥満外科治療研究会　幹事\n 大分大学消化器・小児外科　太田 正之\n Tel：097-586-5843　Fax：097-549-6039\n E-mail：jwelto@oita-u.ac.jp
URL:https://www.jges.net/event/2017-7250
LOCATION:KOKUYO HALL\, 港南1丁目8番35号\, 港区\, 東京都\, 1088710
CATEGORIES:他学会等
END:VEVENT
BEGIN:VEVENT
DTSTART;VALUE=DATE:20131025
DTEND;VALUE=DATE:20131027
DTSTAMP:20260421T052431
CREATED:20170131T095031Z
LAST-MODIFIED:20170131T095031Z
UID:7259-1382659200-1382831999@www.jges.net
SUMMARY:The 7th Meeting of the Society of Gastrointestinal Intervention（SGI 2013）
DESCRIPTION:The 7th Meeting of the Society of Gastrointestinal Intervention（SGI 2013）\n主催：The Society of Gastrointestinal Intervention \n主題：The Cutting Edge of GI Oncologic Intervention \n会期：平成25年10月25日（金）～26日（土） \n会場：Sheraton Grande Walkerhill\, Seoul\, Korea \nSGIについて\n消化器インターベンション医学会（The Society of Gastrointestinal Intervention)は、内科、映像医学科、外科専門医の主導により、消化器系及び関連分野の疾患の治療法に関する共通研究を目的に設立された医学会です。SGIは、毎年世界的碩学が集まって講義と討論を繰り広げ、各分野の最新の知見を共有する国際的学会を開催しています。 \n学術プログラム\n\nEsophageal Cancer Treated by Multidisciplinary Approach\nLocoregional Treatment of Bile Duct Cancer\nEarly Gastric Cancer\nLocal Treatment of Unresectable Pancreatic Cancer\nPancreato-biliary Cancer Treated by Multidisciplinary Approach\nColorectal ESD: Learning from Masters\nIdeal Metal Stent in GI Oncologic Intervention\nRectal Cancer Management by Multidisciplinary Approach\nEGC Beyond Absolute Criteria of ESD\nHepatocellular Carcinoma Revisited\nControversial Issues on IPMN\nNew Treatment Modalities for Achalasia\nLive Demonstration 1-4\nDebate Session 1\, 2\n\nLive Demonstrations Sessions\n\nWIDER Barcelona\, Spain\nVirginia Mason Medical Center\, USA\nBaldota Institute of Digestive Sciences\, Global Hospital\, India\nAsan Medical Center\, Korea\n\n抄録提出は締切ました。 \n抄録の提出はすべてHPで受け付けます。ご質問がある場合はSGI 2013事務局にお問い合わせください。 \n登録締切日　　　　早期登録　　　 8月30日\n 　　　　　　　　　事前登録　　　 10月4日\n HP：www.sgiw.org\n Email：sgi@insession.co.kr
URL:https://www.jges.net/event/2017-7259
LOCATION:Sheraton Grande Walkerhill\, Seoul\, Korea
CATEGORIES:他学会等
END:VEVENT
END:VCALENDAR