BEGIN:VCALENDAR
VERSION:2.0
PRODID:-//日本消化器内視鏡学会 - ECPv6.10.1.1//NONSGML v1.0//EN
CALSCALE:GREGORIAN
METHOD:PUBLISH
X-ORIGINAL-URL:https://www.jges.net
X-WR-CALDESC:日本消化器内視鏡学会 のイベント
REFRESH-INTERVAL;VALUE=DURATION:PT1H
X-Robots-Tag:noindex
X-PUBLISHED-TTL:PT1H
BEGIN:VTIMEZONE
TZID:Asia/Tokyo
BEGIN:STANDARD
TZOFFSETFROM:+0900
TZOFFSETTO:+0900
TZNAME:JST
DTSTART:20140101T000000
END:STANDARD
END:VTIMEZONE
BEGIN:VEVENT
DTSTART;TZID=Asia/Tokyo:20140201T140000
DTEND;TZID=Asia/Tokyo:20140201T165000
DTSTAMP:20260420T234944
CREATED:20181105T062633Z
LAST-MODIFIED:20181105T062633Z
UID:15220-1391263200-1391273400@www.jges.net
SUMMARY:第5回　超音波内視鏡下治療研究会のご案内（第1報）
DESCRIPTION:第５回超音波内視鏡下治療研究会を以下の要綱で開催いたします。奮ってご参加下さいますようお願いいたします。 \n代表世話人\n山雄健次（愛知県がんセンター中央病院） \n当番世話人\n藤田直孝（仙台オープン病院）、廣岡芳樹（名古屋大学）、糸井隆夫（東京医大） \n会期\n平成26年２月１日（土）14：00～16：50 \n会場\n東京医科大学教育棟第一講堂 \n主題\n未定 \nなお、本附置研究会は学会とは異なった特色を出すため、一般演題の募集・発表はありませんのでご了解ください。
URL:https://www.jges.net/event/2018-15220
LOCATION:東京医科大学教育棟第一講堂
CATEGORIES:附置研究会
END:VEVENT
BEGIN:VEVENT
DTSTART;VALUE=DATE:20140207
DTEND;VALUE=DATE:20140208
DTSTAMP:20260420T234944
CREATED:20170110T095916Z
LAST-MODIFIED:20170110T095916Z
UID:2414-1391731200-1391817599@www.jges.net
SUMMARY:第152回　日本消化器内視鏡学会東北支部例会
DESCRIPTION:第152回　日本消化器内視鏡学会東北支部例会のご案内\n第152回日本消化器内視鏡学会東北支部例会を下記のとおり開催いたします。会員の皆様の多数のご参加、ご発表をいただきますようご案内申し上げます。 \n会長： \n　福田眞作（弘前大学大学院医学研究科 消化器血液内科学講座） \n会期： \n　平成26年2月7日（金） \n会場： \n　仙台国際センター\n 　〒980-0855　仙台市青葉区青葉山無番地　TEL：022-265-2211 \nHPアドレス： \n　http://www.tohoku-kyoritz.jp/152jges-tohoku/ \n演題募集： \n　締め切りました。 \n  \n内容： \n◇シンポジウム（公募）\n 　　テーマ：「被検者と医療従事者にやさしい内視鏡をめざして」\n 　　　司会：引地　拓人（福島県立医科大学内視鏡診療部）\n 　　　　　　大森　信弥（仙台赤十字病院　消化器内科） \n\n　内視鏡検査や治療は被検者に身体的・精神的負担をかける手技であり、その苦痛を軽減するために内視鏡の細径化あるいは鎮静法の改良など、様々な試みがなされている。一方、ESDやバルーン内視鏡、EUS-FNAなど、時には長時間に及ぶ様々な高度な内視鏡手技が日常的に行われるようになり、医療従事者の身体的・精神的負担の増加は明らかである。\n 　そこで本セッションでは「被検者にやさしい」のみならず「医療従事者にもやさしい」をテーマに、各施設から内視鏡検査あるいは内視鏡治療の際に行っている工夫を紹介いただきたい。メディカルスタッフからの発表も歓迎する。\n\n  \n◇ビデオワークショップ（公募）\n 　　テーマ：「消化器内視鏡の診断と治療｣\n 　　　司会：平澤　　大（仙台市医療センター仙台オープン病院 消化器内科）\n 　　　　　　花畑　憲洋（弘前大学大学院医学研究科　地域医療学講座） \n\n　近年、医療機器の進歩によって消化器内視鏡の診断能は飛躍的に向上した。また、以前は外科手術を要した病態でも内視鏡による治療が可能となっている。しかし、いまだ医師不足の問題を抱える東北地方では、内視鏡診断や治療に関する最先端の技術が一般病院まで普及しきれていないのが現状と思われる。そこで、今回のビデオワークショップでは、各施設で行っている内視鏡診断・治療に関するちょっとした工夫やコツを動画で呈示いただき、東北支部全体で内視鏡技術の共有と向上を図りたい。消化管、胆膵ともに幅広い演題を募集する。\n\n  \n◇一般演題（公募） \n  \n◇第8回プレナリーセッション（公募）\n 　　テーマ：「めざせ！消化器内視鏡専門医」\n 　　　司会：小原　勝敏（福島県立医科大学附属病院内視鏡診療部）\n 　　　　　　福田　眞作（弘前大学大学院医学研究科　消化器血液内科学講座）\n 　　　審査員：吉村　徹郎（青森市民病院　消化器内科）\n 　　　　　　　神　万理夫（秋田大学医学部内科学講座　消化器内科学分野）\n 　　　　　　　久多良徳彦（岩手医科大学内科学講座　消化器内科消化管分野）\n 　　　　　　　小池　智幸（東北大学病院　消化器内科）\n 　　　　　　　牧野　直彦（山形大学医学部附属病院　光学医療診療部）\n 　　　　　　　高木　忠之（福島県立医科大学医学部　消化器内科\n 　　　　　　　　　　　　　・リウマチ膠原病内科学講座） \n\n　『消化器内視鏡専門医をめざす若手医師を対象としたプレナリーセッションを企画しました。これから消化器内視鏡専門医をめざす医学部卒後5年目までの研修医・専修医の先生方を筆頭演者として、演題を募集します。優秀演題5題につきましては、学会当日に評議員会の席上で発表者を表彰いたします。奮ってご応募下さい。』\n\n  \n◇特別講演\n 　　　講師：古賀　稔彦　古賀塾 塾長\n 　　　司会：福田　眞作（弘前大学大学院医学研究科　消化器血液内科学講座）\n 　　「夢の実現方法｣ \n  \n◇ランチョンセミナー\n 　　講師：河合　隆　東京医科大学内視鏡センター　教授\n 　　司会：小原　勝敏（福島県立医科大学附属病院内視鏡診療部）\n 　　「胃がん検診に果たす経鼻内視鏡の役割」 \n  \n学会事務局： \n弘前大学大学院医学研究科　消化器血液内科学講座\n 〒036-8562　青森県弘前市在府町5\n TEL：0172-39-5053／FAX：0172-37-5946\n 担当：花畑憲洋、澤谷　学\n E-mail：hanabata@cc.hirosaki-u.ac.jp \n  \n運営事務局： \n株式会社東北共立\n 〒982-0001　仙台市太白区八本松2-10-11\n TEL：022-246-2591／FAX：022-246-1754\n 担当：小足（こあし）賢一、大槻喜之\n E-mail：jges152@tohoku-kyoritz.co.jp
URL:https://www.jges.net/event/2017-2414
LOCATION:仙台国際センター
CATEGORIES:支部例会,東北支部
END:VEVENT
BEGIN:VEVENT
DTSTART;TZID=Asia/Tokyo:20140209T100000
DTEND;TZID=Asia/Tokyo:20140209T160000
DTSTAMP:20260420T234944
CREATED:20220216T063150Z
LAST-MODIFIED:20220216T063150Z
UID:54027-1391940000-1391961600@www.jges.net
SUMMARY:第35回　重点卒後教育セミナー
DESCRIPTION:会長\n遠藤　高夫（札幌しらかば台病院　消化器科） \n会期\n2014年2月9日（日）　10：00～16：00 \n会場\n東京ビックサイト \n定員\n1\,000名 \n受講料\n10\,000円 \nお問い合わせ先\n〒221-0052　横浜市神奈川区栄町5-1　YCS５階\n（株）相鉄エージェンシー・コンベンション課\n日本消化器内視鏡学会\n第35回重点卒後教育セミナー事務局　担当：矢野\nTel：045-450-1803　Fax：045-441-8444\nE-mail：juuten@soag.co.jp \nプログラム\n\n\n\n\n\n\n\n\n時間\n演題名\n講師氏名 ・所属\n司会者氏名 ・所属\n\n\n10：00\n開会挨拶\n会長\n遠藤　高夫（札幌しらかば台病院）\n卒後教育委員会　担当理事\n高橋　信一（杏林大学医学部第３内科）\n\n\n \n【第１部】上部消化管癌の治療\n\n\n10：10\n食道癌のESD\n高橋　宏明\n（恵佑会札幌第２病院）\n小山　恒男\n（佐久総合病院胃腸科科長）\n\n\n胃癌のESD\n竹内　学\n（新潟大学第３内科）\n\n\n上部消化管狭窄に対するStenting\n\n前谷　容\n（東邦大学大橋病院\n消化器内科）\n\n\n\n12：25\n休憩\n\n\n12：30\nランチョンセミナー\n胃癌のABC検診\n\n三木　一正\n（日本胃がん予知･診断\n･治療研究機構 理事長）\n\n杉山　敏郎\n（富山大学第３内科）\n\n\n13：30\n休憩\n\n\n \n【第２部】PEG・PTEGの適応・手技・合併症\n\n\n13：40\nPEGの適応と安全な造設手技\n倉　敏郎\n（町立長沼病院）\n鈴木　裕\n（国際医療福祉大学 外科教授）\n\n\nPEG合併症の対応\n高橋　美香子\n（鶴岡協立病院）\n\n\nPTEG（経皮経食道胃管挿入術）は内視鏡下に安全に\n\n大石　英人\n（東京女子医大\n八千代医療センター）\n\n\n\n15：55\n閉講式・受講証授与\n卒後教育委員会委員長\n田中　信治（広島大学内視鏡診断部）
URL:https://www.jges.net/event/2022-54027
LOCATION:東京ビッグサイト\, 有明3-11-1\, 江東区\, 東京都\, 135-0063\, 日本
CATEGORIES:重点卒後教育セミナー
END:VEVENT
END:VCALENDAR